{"text_format":"3","workbook":"xlsx","n_sheets":20,"sheets":["ご利用に際して他","報告書","建築物概要書","換気検査結果表","排煙検査結果表","非照検査結果表","水検査結果表","別表１（換気－評価表）","別表２（換気－測定表）","別表３（排煙－記録表）","別表3-2（排煙風量測定記録表 給気式）","別表3-3（排煙風量測定記録表 加圧式）","別表４（非照－測定表）","関係写真","実施状況表","報告概要書","プルダウンリスト","移行ツール設定v13","移行ツール設定v12","移行ツール設定v11以前"],"not_rendered":{"images":7,"macros":1,"defined_names":226,"comments":12},"read":"whole","date_system":"1900"}

{"sheet":"ご利用に際して他","index":0,"n_rows":88,"n_cols":21,"rows_kept":88,"merged":[[36,12,38,14],[39,12,39,13],[44,2,44,3],[45,2,45,3],[62,1,62,14]]}
[null,"ご利用に際して"]
[]
[null,"１．シートの構成"]
[null,"　　このExcelファイルは、１６枚のワークシートで構成されています。"]
[null,"　　ワークシートを表示するには、画面下部のシート見出し■■■■■■■（カラー表示）をクリックしてください。"]
[]
[null,"２．マクロの使用"]
[null,"　　このExcelファイルは、　　　　部分に”マクロ”を使用しています。"]
[null,"　　画面上部に「セキュリティの警告 マクロが無効にされました。」と表示された場合、マクロは使用できません。"]
[null,"　　マクロを使用可能にするためにはマクロの設定を変更してください。"]
[null,"　　　① 画面左上のメニューバーにある[ファイル]をクリックします。"]
[null,"　　　② 表示されたメニューにある[オプション]をクリックします。"]
[null,"　　　③ Excel のオプションが表示されましたら、Excel のオプション画面の左側にある[セキュリティ センター]をクリックして、"]
[null,"　　　　　次に[セキュリティ センターの設定]をクリックします。"]
[null,"　　　④ セキュリティ センターが表示されましたら、セキュリティ センター画面の左側にある[マクロの設定]をクリックします。"]
[null,"　　　⑤ マクロの設定で [すべてのマクロを有効にする（推奨しません。危険なコードが実行される可能性があります。）(E)]を"]
[null,"　　　　　選択して、[OK]をクリックします。"]
[null,"　　　⑥ Eｘcel のオプション画面も[OK]をクリックして、Excel を一度終了させます。"]
[null,"３．入力可能なセル"]
[null,"　　このExcelファイルは、　　　　・　　　 部分のセルの選択・入力・書式設定ができます。"]
[null,"　　しかし、　　　 部分は、関数等の設定をしているため、原則として直接入力しないでください。"]
[null,"　　その他の部分は、ワークシートを[シートの保護]に設定しているためセルの選択・入力・変更はできません。"]
[]
[null,"４．シート保護の解除"]
[null,"　　報告書、検査結果表及び報告概要書以外のシートは、[パスワード]無しで[シート保護の解除]をすることができます。"]
[null,"　　[シート保護の解除]を行う場合は、 [校閲]メニューの[シート保護の解除]をクリックしてください。"]
[null,"　　但し、”シートのコピー”及び”マクロボタン以外で行の挿入及び削除”をした場合は、マクロが正しく実行されなくなります。"]
[null,"　　なお、報告書、検査結果表及び報告概要書で[シート保護の解除]をするための[パスワード]は、開示できません。"]
[]
[null,"５．パソコンの日付と時刻の設定"]
[null,"　　このExcelファイルをご使用の際は、正確な日付と時刻に設定する必要があります。"]
[null,"　　画面右下部に表示されている時刻にポイントすると、日付が表示されますので、ご確認ください。"]
[null,"　　[日付と時刻の調整]を行う場合は、 画面右下部に表示されている時刻を右クリックし、[日付と時刻の調整]をクリックしてください。"]
[]
[null,"※当センターは、このExcelファイルを使用したことによるいかなる損害に対しても一切の責任を負いかねます。"]
[null,"　 "]
[null,"【注意】このExcelファイルは\"Excel2013\"で作成しているため、",{"$nulls":10},"下に「用紙のセット方法」、\n「報告に関する注意事項」及び\n「実施状況表の記入見本」の\n記載があります。"]
[null,"　　　　　\"Excel2007以前のﾊﾞｰｼﾞｮﾝ\"では、"]
[null,"　　　　　上記の記載内容と異なる場合があります。"]
[{"$nulls":12},"↓　↓　↓　↓　↓"]
[]
[{"$nulls":17},1,2,3,4]
[null,"用紙のセット方法",{"$nulls":14},"5,000㎡未満",{"v":3000,"d":"3,000"},{"v":5000,"d":"5,000"},{"v":7000,"d":"7,000"},{"v":9000,"d":"9,000"}]
[{"$nulls":16},"5,000㎡以上\n10,000㎡未満",{"v":5000,"d":"5,000"},{"v":7000,"d":"7,000"},{"v":9000,"d":"9,000"},{"v":11000,"d":"11,000"}]
[{"$nulls":16},"10,000㎡以上\n20,000㎡未満",{"v":6000,"d":"6,000"},{"v":9000,"d":"9,000"},{"v":11000,"d":"11,000"},{"v":13000,"d":"13,000"}]
[{"$nulls":16},"20,000㎡以上",{"v":7000,"d":"7,000"},{"v":11000,"d":"11,000"},{"v":13000,"d":"13,000"},{"v":15000,"d":"15,000"}]
[]
[{"$nulls":17},1,2,3,4]
[{"$nulls":16},"東京都",-200,-400,-600,-800]
[{"$nulls":16},"多摩建築指導事務所",-200,-400,-600,-800]
[{"$nulls":16},"千代田区",-300,-600,-900,-1200]
[{"$nulls":16},"中央区",-300,-600,-900,-1200]
[{"$nulls":16},"港区",-300,-600,-900,-1200]
[{"$nulls":16},"新宿区",-300,-600,-900,-1200]
[{"$nulls":16},"文京区",-300,-600,-900,-1200]
[{"$nulls":16},"台東区",-300,-600,-900,-1200]
[{"$nulls":16},"北区",-300,-600,-900,-1200]
[{"$nulls":16},"荒川区",-300,-600,-900,-1200]
[{"$nulls":16},"品川区",-300,-600,-900,-1200]
[{"$nulls":16},"目黒区",-300,-600,-900,-1200]
["（１）","報告書※２は正・副・写の３部を作成します。報告書の左端２点をホチキス止めしてください。",{"$nulls":14},"大田区",-300,-600,-900,-1200]
[null,"正本は押印のあるものとし、副本及び写しは印影のあるコピーでも可です。",{"$nulls":14},"世田谷区",-300,-600,-900,-1200]
[null,"※２：「報告書」とは、①定期検査報告書■、②建築物概要書■、③検査結果表■、④測定表等■、⑤関係写真■、⑥実施状況表■の総称をいいます。",{"$nulls":14},"渋谷区",-300,-600,-900,-1200]
["（２）","①定期検査報告書■の後に、②建築物概要書■を添付してください。",{"$nulls":14},"中野区　",-300,-600,-900,-1200]
["（３）","③検査結果表■は、対象建築設備の用紙のみ添付してください。",{"$nulls":14},"杉並区",-300,-600,-900,-1200]
["（４）","④測定表等■は、測定等を行った場合のみ該当する用紙を添付してください。",{"$nulls":14},"豊島区",-300,-600,-900,-1200]
["（５）","⑤関係写真■は、要是正の指摘があった場合（既存不適格を除く）のほか、特記すべき事項があった場合に最後に添付してください。",{"$nulls":14},"板橋区",-300,-600,-900,-1200]
["（６）","⑥実施状況表■は、国土交通大臣が定める検査項目が該当する場合のみ添付してください。",{"$nulls":14},"練馬区"]
["（７）","⑦定期検査報告概要書■は、１部を作成し、報告書（正本）とは、別に添えてください。",{"$nulls":14},"墨田区",-300,-600,-900,-1200]
[null,"（第二面は、要是正の指摘がある設備（既存不適格を含む）について作成してください。指摘がない場合は、第一面のみ作成してください。）\n",{"$nulls":14},"江東区",-300,-600,-900,-1200]
[{"$nulls":16},"足立区",-300,-600,-900,-1200]
[null,"【注意】□の色は、画面下部のシート見出しの色を表します。",{"$nulls":14},"葛飾区",-300,-600,-900,-1200]
[{"$nulls":16},"江戸川区",-300,-600,-900,-1200]
[{"$nulls":16},"八王子市",-300,-600,-900,-1200]
[{"$nulls":16},"町田市",-300,-600,-900,-1200]
[{"$nulls":16},"府中市",-300,-600,-900,-1200]
[null,"報告に関する注意事項",{"$nulls":14},"調布市",-300,-600,-900,-1200]
[{"$nulls":16},"武蔵野市",-300,-600,-900,-1200]
["（１）","報告書及び報告概要書は、検査日より１ケ月以内に当センターへ提出してください。",{"$nulls":14},"三鷹市",-300,-600,-900,-1200]
[{"$nulls":16},"日野市",-300,-600,-900,-1200]
["（２）","提出時には報告内容の確認がありますので、実際に検査された方が提出されるようお願いします。",{"$nulls":14},"立川市",-300,-600,-900,-1200]
[null,"また、書類に訂正があった場合は、検査者(第一面記載の方）の訂正印が必要となります。",{"$nulls":14},"国分寺市",-300,-600,-900,-1200]
[{"$nulls":16},"西東京市",-300,-600,-900,-1200]
[]
[]
[]
[]
[null,"実施状況表の記入見本"]

{"sheet":"報告書","index":1,"n_rows":653,"n_cols":56,"rows_kept":653,"merged":[[1,37,1,45],[5,1,5,46],[6,1,6,46],[8,1,8,46],[13,2,13,13],[15,35,15,36],[15,38,15,39],[15,41,15,42],[17,30,17,42],[18,30,18,42],[21,30,21,42],[30,13,30,45],[31,13,31,45],[32,13,32,21],[33,13,33,45],[34,13,34,29],[41,13,41,45],[42,13,42,45],[43,13,43,21],[44,13,44,45],[45,13,45,29],[46,13,46,45],[52,13,52,45],[53,13,53,45],[54,13,54,45],[55,13,55,45],[63,13,63,45],[64,13,64,45],[65,13,65,45],[66,13,66,45],[67,13,67,45],[68,18,68,19],[68,21,68,22],[69,13,69,45],[70,13,70,45],[71,13,71,45],[72,13,72,45],[73,13,73,45],[86,45,87,45],[89,2,89,12],[89,25,89,35],[90,2,90,22],[90,25,90,45],[91,2,91,22],[91,25,91,45],[92,2,92,22],[92,25,92,45],[93,2,93,22],[93,25,93,45],[94,2,94,45],[95,1,95,46],[100,15,100,16],[100,23,100,24],[101,12,101,19],[102,12,102,19],[102,23,102,30],[111,19,111,20],[111,21,111,22],[111,24,111,25],[111,27,111,28],[111,32,111,39],[112,32,112,42],[113,19,113,20],[113,21,113,22],[113,24,113,25],[113,27,113,28],[113,32,113,39],[114,32,114,42],[121,17,121,18],[121,20,121,21],[121,23,121,24],[122,15,122,16],[122,17,122,18],[122,20,122,21],[122,23,122,24],[131,10,131,11],[131,23,131,28],[131,29,131,32],[131,33,131,39],[132,33,132,39],[133,33,133,39],[134,13,134,45],[135,13,135,45],[136,13,136,45],[137,10,137,11],[137,23,137,26],[137,27,137,32],[137,33,137,39],[138,13,138,21],[139,13,139,45],[140,13,140,29],[142,10,142,11],[142,23,142,28],[142,29,142,32],[142,33,142,39],[143,33,143,39],[144,33,144,39],[145,13,145,45],[146,13,146,45],[147,13,147,45],[148,10,148,11],[148,23,148,26],[148,27,148,32],[148,33,148,39],[149,13,149,21],[150,13,150,45],[151,13,151,29],[153,10,153,11],[153,23,153,28],[153,33,153,39],[154,33,154,39],[155,33,155,39],[156,13,156,45],[157,13,157,45],[158,13,158,45],[159,10,159,11],[159,23,159,26],[159,33,159,39],[160,13,160,21],[161,13,161,45],[162,13,162,29],[169,19,169,20],[169,21,169,22],[169,23,169,24],[169,36,169,37],[169,38,169,39],[169,40,169,41],[170,26,170,27],[170,28,170,29],[170,30,170,31],[171,16,171,17],[171,18,171,19],[171,20,171,21],[172,19,172,20],[172,21,172,22],[172,23,172,24],[172,36,172,37],[172,38,172,39],[172,40,172,41],[173,16,173,17],[173,18,173,19],[173,20,173,21],[174,19,174,20],[174,21,174,22],[174,23,174,24],[174,36,174,37],[174,38,174,39],[174,40,174,41],[175,26,175,27],[175,28,175,29],[175,30,175,31],[176,16,176,17],[176,18,176,19],[176,20,176,21],[178,39,178,44],[186,13,186,45],[187,13,187,45],[188,13,188,45],[189,13,189,45],[190,13,190,45],[191,18,191,19],[191,21,191,22],[200,24,200,25],[200,27,200,28],[213,10,213,11],[213,23,213,28],[213,29,213,32],[213,33,213,39],[214,33,214,39],[215,33,215,39],[216,13,216,45],[217,13,217,45],[218,13,218,45],[219,10,219,11],[219,23,219,26],[219,27,219,32],[219,33,219,39],[220,13,220,21],[221,13,221,45],[222,13,222,29],[224,10,224,11],[224,23,224,28],[224,29,224,32],[224,33,224,39],[225,33,225,39],[226,33,226,39],[227,13,227,45],[228,13,228,45],[229,13,229,45],[230,10,230,11],[230,23,230,26],[230,27,230,32],[230,33,230,39],[231,13,231,21],[232,13,232,45],[233,13,233,29],[235,10,235,11],[235,23,235,28],[235,33,235,39],[236,33,236,39],[237,33,237,39],[238,13,238,45],[239,13,239,45],[240,13,240,45],[241,10,241,11],[241,23,241,26],[241,33,241,39],[242,13,242,21],[243,13,243,45],[244,13,244,29],[249,28,249,29],[249,42,249,43],[250,26,250,43],[252,15,252,16],[252,26,252,27],[252,37,252,38],[254,15,254,16],[254,26,254,27],[254,37,254,38],[256,15,256,16],[256,26,256,27],[256,37,256,38],[257,15,257,16],[257,26,257,27],[258,37,258,43],[263,13,263,45],[264,13,264,45],[265,13,265,45],[266,13,266,45],[267,13,267,45],[268,18,268,19],[268,21,268,22],[277,24,277,25],[277,27,277,28],[290,10,290,11],[290,23,290,28],[290,29,290,32],[290,33,290,39],[291,33,291,39],[292,33,292,39],[293,13,293,45],[294,13,294,45],[295,13,295,45],[296,10,296,11],[296,23,296,26],[296,27,296,32],[296,33,296,39],[297,13,297,21],[298,13,298,45],[299,13,299,29],[301,10,301,11],[301,23,301,28],[301,29,301,32],[301,33,301,39],[302,33,302,39],[303,33,303,39],[304,13,304,45],[305,13,305,45],[306,13,306,45],[307,10,307,11],[307,23,307,26],[307,27,307,32],[307,33,307,39],[308,13,308,21],[309,13,309,45],[310,13,310,29],[312,10,312,11],[312,23,312,28],[312,33,312,39],[313,33,313,39],[314,33,314,39],[315,13,315,45],[316,13,316,45],[317,13,317,45],[318,10,318,11],[318,23,318,26],[318,33,318,39],[319,13,319,21],[320,13,320,45],[321,13,321,29],[328,15,328,16],[328,25,328,26],[328,37,328,38],[329,15,329,16],[332,22,332,23],[332,28,332,29],[332,34,332,35],[333,22,333,23],[333,28,333,29],[333,34,333,35],[334,22,334,23],[334,28,334,29],[334,34,334,35],[335,31,335,32],[335,37,335,38],[335,43,335,44],[336,15,336,21],[336,34,336,36],[336,41,336,43],[344,13,344,45],[345,13,345,45],[346,13,346,45],[347,13,347,45],[348,13,348,45],[349,18,349,19],[349,21,349,22],[358,24,358,25],[358,27,358,28],[371,10,371,11],[371,23,371,28],[371,29,371,32],[371,33,371,39],[372,33,372,39],[373,33,373,39],[374,13,374,45],[375,13,375,45],[376,13,376,45],[377,10,377,11],[377,23,377,26],[377,27,377,32],[377,33,377,39],[378,13,378,21],[379,13,379,45],[380,13,380,29],[382,10,382,11],[382,23,382,28],[382,29,382,32],[382,33,382,39],[383,33,383,39],[384,33,384,39],[385,13,385,45],[386,13,386,45],[387,13,387,45],[388,10,388,11],[388,23,388,26],[388,27,388,32],[388,33,388,39],[389,13,389,21],[390,13,390,45],[391,13,391,29],[393,10,393,11],[393,23,393,28],[393,33,393,39],[394,33,394,39],[395,33,395,39],[396,13,396,45],[397,13,397,45],[398,13,398,45],[399,10,399,11],[399,23,399,26],[399,33,399,39],[400,13,400,21],[401,13,401,45],[402,13,402,29],[409,21,409,22],[409,24,409,25],[409,37,409,38],[409,40,409,41],[410,19,410,33],[412,31,412,45],[416,16,416,35],[424,13,424,45],[425,13,425,45],[426,13,426,45],[427,13,427,45],[428,13,428,45],[429,18,429,19],[429,21,429,22],[438,24,438,25],[438,27,438,28],[450,2,450,20],[450,25,450,26],[450,28,450,29],[450,31,450,33],[451,2,451,45],[452,2,452,45],[453,2,453,45],[454,2,454,45],[455,2,455,45],[456,2,456,45],[457,2,457,45],[458,2,458,45],[459,2,459,45],[460,2,460,45],[461,2,461,45],[462,2,462,45],[463,2,463,45],[464,2,464,45],[465,2,465,45],[466,2,466,45],[467,2,467,45],[468,2,468,45],[469,2,469,45],[475,1,475,46],[481,1,481,6],[481,7,481,16],[481,17,481,26],[481,27,481,32],[481,33,481,45],[482,1,482,6],[482,7,482,16],[482,17,482,26],[482,27,482,32],[482,33,482,45],[483,1,483,6],[483,7,483,16],[483,17,483,26],[483,27,483,32],[483,33,483,45],[484,1,484,6],[484,7,484,16],[484,17,484,26],[484,27,484,32],[484,33,484,45],[485,1,485,6],[485,7,485,16],[485,17,485,26],[485,27,485,32],[485,33,485,45],[486,1,486,6],[486,7,486,16],[486,17,486,26],[486,27,486,32],[486,33,486,45],[487,1,487,6],[487,7,487,16],[487,17,487,26],[487,27,487,32],[487,33,487,45],[488,1,488,6],[488,7,488,16],[488,17,488,26],[488,27,488,32],[488,33,488,45],[489,1,489,6],[489,7,489,16],[489,17,489,26],[489,27,489,32],[489,33,489,45],[490,1,490,6],[490,7,490,16],[490,17,490,26],[490,27,490,32],[490,33,490,45],[491,1,491,6],[491,7,491,16],[491,17,491,26],[491,27,491,32],[491,33,491,45],[492,1,492,6],[492,7,492,16],[492,17,492,26],[492,27,492,32],[492,33,492,45],[496,1,496,6],[496,7,496,16],[496,17,496,26],[496,27,496,32],[496,33,496,45],[497,1,497,6],[497,7,497,16],[497,17,497,26],[497,27,497,32],[497,33,497,45],[498,1,498,6],[498,7,498,16],[498,17,498,26],[498,27,498,32],[498,33,498,45],[499,1,499,6],[499,7,499,16],[499,17,499,26],[499,27,499,32],[499,33,499,45],[500,1,500,6],[500,7,500,16],[500,17,500,26],[500,27,500,32],[500,33,500,45],[501,1,501,6],[501,7,501,16],[501,17,501,26],[501,27,501,32],[501,33,501,45],[502,1,502,6],[502,7,502,16],[502,17,502,26],[502,27,502,32],[502,33,502,45],[503,1,503,6],[503,7,503,16],[503,17,503,26],[503,27,503,32],[503,33,503,45],[504,1,504,6],[504,7,504,16],[504,17,504,26],[504,27,504,32],[504,33,504,45],[505,1,505,6],[505,7,505,16],[505,17,505,26],[505,27,505,32],[505,33,505,45],[506,1,506,6],[506,7,506,16],[506,17,506,26],[506,27,506,32],[506,33,506,45],[507,1,507,6],[507,7,507,16],[507,17,507,26],[507,27,507,32],[507,33,507,45],[511,1,511,6],[511,7,511,16],[511,17,511,26],[511,27,511,32],[511,33,511,45],[512,1,512,6],[512,7,512,16],[512,17,512,26],[512,27,512,32],[512,33,512,45],[513,1,513,6],[513,7,513,16],[513,17,513,26],[513,27,513,32],[513,33,513,45],[514,1,514,6],[514,7,514,16],[514,17,514,26],[514,27,514,32],[514,33,514,45],[515,1,515,6],[515,7,515,16],[515,17,515,26],[515,27,515,32],[515,33,515,45],[516,1,516,6],[516,7,516,16],[516,17,516,26],[516,27,516,32],[516,33,516,45],[517,1,517,6],[517,7,517,16],[517,17,517,26],[517,27,517,32],[517,33,517,45],[518,1,518,6],[518,7,518,16],[518,17,518,26],[518,27,518,32],[518,33,518,45],[519,1,519,6],[519,7,519,16],[519,17,519,26],[519,27,519,32],[519,33,519,45],[520,1,520,6],[520,7,520,16],[520,17,520,26],[520,27,520,32],[520,33,520,45],[521,1,521,6],[521,7,521,16],[521,17,521,26],[521,27,521,32],[521,33,521,45],[522,1,522,6],[522,7,522,16],[522,17,522,26],[522,27,522,32],[522,33,522,45],[526,1,526,6],[526,7,526,16],[526,17,526,26],[526,27,526,32],[526,33,526,45],[527,1,527,6],[527,7,527,16],[527,17,527,26],[527,27,527,32],[527,33,527,45],[528,1,528,6],[528,7,528,16],[528,17,528,26],[528,27,528,32],[528,33,528,45],[529,1,529,6],[529,7,529,16],[529,17,529,26],[529,27,529,32],[529,33,529,45],[530,1,530,6],[530,7,530,16],[530,17,530,26],[530,27,530,32],[530,33,530,45],[531,1,531,6],[531,7,531,16],[531,17,531,26],[531,27,531,32],[531,33,531,45],[532,1,532,6],[532,7,532,16],[532,17,532,26],[532,27,532,32],[532,33,532,45],[533,1,533,6],[533,7,533,16],[533,17,533,26],[533,27,533,32],[533,33,533,45],[534,1,534,6],[534,7,534,16],[534,17,534,26],[534,27,534,32],[534,33,534,45],[535,1,535,6],[535,7,535,16],[535,17,535,26],[535,27,535,32],[535,33,535,45],[536,1,536,6],[536,7,536,16],[536,17,536,26],[536,27,536,32],[536,33,536,45],[537,1,537,6],[537,7,537,16],[537,17,537,26],[537,27,537,32],[537,33,537,45],[538,0,539,46],[540,1,540,45],[541,1,541,45],[542,1,542,45],[543,1,543,45],[544,1,544,45],[545,1,545,45],[546,1,546,45],[547,1,547,45],[548,1,548,45],[549,1,549,45],[550,1,550,45],[551,1,551,45],[552,1,552,45],[553,1,553,45],[554,1,554,45],[555,1,555,45],[556,1,556,45],[557,1,557,45],[558,1,558,45],[559,1,559,45],[560,1,560,45],[561,1,561,45],[562,1,562,45],[563,1,563,45],[564,1,564,45],[565,1,565,45],[566,1,566,45],[567,1,567,45],[568,1,568,45],[569,1,569,45],[570,1,570,45],[571,1,571,45],[572,1,572,45],[573,1,573,45],[574,1,574,45],[575,1,575,45],[576,1,576,45],[577,1,577,45],[578,1,578,45],[579,1,579,45],[580,1,580,45],[581,1,581,45],[582,1,582,45],[583,1,583,45],[584,1,584,45],[585,1,585,45],[586,1,586,45],[587,1,587,45],[588,1,588,45],[589,1,589,45],[590,1,590,45],[591,1,591,45],[592,1,592,45],[593,1,593,45],[594,1,594,45],[595,1,595,45],[596,1,596,45],[597,1,597,45],[598,1,598,45],[599,1,599,45],[600,1,600,45],[601,1,601,45],[602,1,602,45],[603,1,603,45],[604,1,604,45],[605,1,605,45],[606,1,606,45],[607,1,607,45],[608,1,608,45],[609,1,609,45],[610,1,610,45],[611,1,611,45],[612,1,612,45],[613,1,613,45],[614,1,614,45],[615,1,615,45],[616,1,616,45],[617,1,617,45],[618,1,618,45],[619,1,619,45],[620,1,620,45],[621,1,621,45],[622,1,622,45],[623,1,623,45],[624,1,624,45],[625,1,625,45],[626,1,626,45],[627,1,627,45],[628,1,628,45],[634,1,634,45],[635,1,635,45],[636,1,636,45],[638,1,638,45],[639,1,639,45],[640,1,640,45],[641,1,641,45],[642,1,642,45],[643,1,643,45],[644,1,644,45],[645,1,645,45],[646,1,646,45],[647,1,647,45],[648,1,648,45],[649,1,649,45],[650,1,650,45],[651,1,651,45],[652,1,652,45],[653,1,653,45]]}
[{"$nulls":28},"建築物基本番号",null,"－",null,null,"－",null,null,"－",null,null,"－",{"$nulls":4},"－"]
[{"$nulls":36},"センター受付番号",{"$nulls":13},"東京都知事"]
[{"$nulls":50},"多摩建築指導事務所長　"]
[null,"第三十六号の六様式（第六条、第六条の二の二関係）（Ａ４）",{"$nulls":48},"千代田区長　"]
[{"$nulls":50},"中央区長　"]
[null,"定期検査報告書",{"$nulls":48},"港区長　"]
[null,"（建築設備（昇降機を除く。））",{"$nulls":48},"新宿区長　"]
[{"$nulls":50},"文京区長　"]
[null,"（第一面）",{"$nulls":48},"台東区長　"]
[{"$nulls":50},"北区長　"]
[null,"　建築基準法第12条第３項の規定により、定期検査の結果を報告します。この報告書に記載の事項は",{"$nulls":48},"荒川区長　"]
[null,"事実に相違ありません。",{"$nulls":48},"品川区長　"]
[{"$nulls":50},"目黒区長　"]
[{"$nulls":14},"様",{"$nulls":35},"大田区長　"]
[{"$nulls":50},"世田谷区長　"]
[{"$nulls":34},"令和",null,null,"年",null,null,"月",null,null,"日",{"$nulls":6},"渋谷区長　"]
[{"$nulls":50},"中野区長　"]
[{"$nulls":50},"杉並区長　"]
[{"$nulls":24},"報告者氏名",{"$nulls":25},"豊島区長　"]
[{"$nulls":50},"板橋区長　"]
[{"$nulls":50},"練馬区長　"]
[{"$nulls":24},"検査者氏名",{"$nulls":25},"墨田区長　"]
[{"$nulls":50},"江東区長　"]
[{"$nulls":50},"足立区長　"]
[{"$nulls":50},"葛飾区長　"]
[{"$nulls":50},"江戸川区長　"]
[{"$nulls":50},"八王子市長　"]
[{"$nulls":50},"町田市長　"]
[{"$nulls":50},"府中市長　"]
[null,"【1．所有者】",{"$nulls":48},"調布市長　"]
[null,null,"【イ．氏名のフリガナ】",{"$nulls":10},{"$f":"ASC(PHONETIC(N32))","v":""},"","","","","","","","","","","","","","","","","","","","","","","","","","","","","","","","",{"$nulls":4},"武蔵野市長　"]
[null,null,"【ロ．氏名】",{"$nulls":47},"三鷹市長　"]
[null,null,"【ハ．郵便番号】",{"$nulls":47},"日野市長　"]
[null,null,"【ニ．住所】",{"$nulls":47},"立川市長　"]
[null,null,"【ホ．電話番号】",{"$nulls":47},"国分寺市長　"]
[{"$nulls":50},"西東京市長　"]
[{"$nulls":50},"小平市長"]
[]
[]
[]
[null,"【2．管理者】"]
[null,null,"【イ．氏名のフリガナ】",{"$nulls":10},{"$f":"ASC(PHONETIC(N43))","v":""},"","","","","","","","","","","","","","","","","","","","","","","","","","","","","","","",""]
[null,null,"【ロ．氏名】"]
[null,null,"【ハ．郵便番号】"]
[null,null,"【ニ．住所】"]
[null,null,"【ホ．電話番号】"]
[]
[]
[]
[]
[]
[null,"【3．報告対象建築物】"]
[null,null,"【イ．所在地】"]
[null,null,"【ロ．名称のフリガナ】",{"$nulls":10},{"$f":"ASC(PHONETIC(N55))","v":""},"","","","","","","","","","","","","","","","","","","","","","","","","","","","","","","",""]
[null,null,"【ハ．名称】"]
[null,null,"【ニ．用途】"]
[]
[]
[]
[]
[]
[null,"【4．検査による指摘の概要】"]
[null,null,"【イ．指摘の内容】",{"$nulls":11},"要是正の指摘あり",{"$nulls":7},"(",null,"既存不適格）",{"$nulls":8},"指摘なし"]
[null,null,"【ロ．指摘の概要】"]
[]
[]
[]
[]
[null,null,"【ハ．改善予定の有無】",{"$nulls":11},"有",null,null,"（令和",null,null,"年",null,null,"月に改善予定）",{"$nulls":9},"無"]
[null,null,"【ニ．その他特記事項】"]
{"$rows_empty":7}
[null,"　※受付欄",{"$nulls":9},"※特記欄",{"$nulls":27}," ※整理番号欄"]
[]
[]
[null,"　令和",{"$nulls":3},"年",null,"月",null,"日"]
[]
[]
[null,null,"第",{"$nulls":6},"号"]
[]
[]
[null,null,"係員氏名",{"$nulls":42},{"$f":"IF(BC414=0,\"\",IF(W451=\"レ\",\"*\",\"\"))","v":""}]
[]
[{"$nulls":45},"#:･"]
[null,null,"【報告書（副本）返送先】",{"$nulls":22},"【連絡先及び次回案内送付先】"]
[]
[]
[]
[]
[]
[null,"（第二面）"]
[null,"建築設備の状況等"]
[]
[]
[null,"【1．建築物の概要】",{"$nulls":52},{"$f":"IF(N136=\"\",\"\",1)","v":""},{"$f":"IF(O104=\"\",\"\",1)","v":""}]
[null,null,"【イ．階数】",{"$nulls":9},"地上",{"$nulls":4},"階",null,null,"地下",{"$nulls":4},"階",{"$nulls":28},{"$f":"IF(N218=\"\",\"\",1)","v":""},{"$f":"IF(V104=\"\",\"\",1)","v":""}]
[null,null,"【ロ．建築面積】",{"$nulls":17},"㎡",{"$nulls":33},{"$f":"IF(N295=\"\",\"\",1)","v":""},{"$f":"IF(AC104=\"\",\"\",1)","v":""}]
[null,null,"【ハ．延べ面積】",{"$nulls":17},"㎡",{"$nulls":33},{"$f":"IF(N376=\"\",\"\",1)","v":""},{"$f":"IF(O105=\"\",\"\",1)","v":""}]
[null,null,"【ニ．検査対象建築設備】",{"$nulls":12},"換気設備",{"$nulls":6},"排煙設備",{"$nulls":6},"非常用の照明装置",{"$nulls":24},{"$f":"SUM(BC100:BC103)","v":0},{"$f":"SUM(BD100:BD103)","v":0}]
[{"$nulls":15},"給水設備及び排水設備",{"$nulls":29},{"$f":"IF(BC104=1,\"・\",IF(BC104=2,\"‥\",IF(BC104=3,\"∴\",IF(BC104=4,\"：：\",\"\"))))","v":""}]
[]
[]
[]
[]
[]
[null,"【2．確認済証交付年月日等】",{"$nulls":52},{"$f":"IF(X111=\"レ\",\"レ\",\"\")","v":""},{"$f":"IF(AND(N111=\"\",X111=\"レ\"),\"\",IF(X111=\"\",\"\",\"レ\"))","v":""}]
[null,null,"【イ．確認済証交付年月日】",{"$nulls":20},"年",null,null,"月",null,null,"日",null,"第",{"$nulls":8},"号"]
[null,null,"【ロ．確認済証交付者】",{"$nulls":14},"建築主事",{"$nulls":5},"指定確認検査機関 （",{"$nulls":19},"）"]
[null,null,"【ハ．検査済証交付年月日】",{"$nulls":20},"年",null,null,"月",null,null,"日",null,"第",{"$nulls":8},"号"]
[null,null,"【ニ．検査済証交付者】",{"$nulls":14},"建築主事",{"$nulls":5},"指定確認検査機関 （",{"$nulls":19},"）"]
[]
[]
[]
[]
[]
[null,"【3．検査日等】"]
[null,null,"【イ．今回の検査】",{"$nulls":13},"令和",null,null,"年",null,null,"月",null,null,"日実施"]
[null,null,"【ロ．前回の検査】",{"$nulls":9},"実施（",null,null,"令和",{"$nulls":3},"年",null,null,"月",null,null,"日報告）",{"$nulls":5},"未実施"]
[null,null,"【ハ．前回の検査に関する書類の写し】",{"$nulls":18},"有",null,null,"無"]
[]
[]
[]
[]
[]
[null,"【4．換気設備の検査者】"]
[null," （代表となる検査者）"]
[null,null,"【イ．資格】",{"$nulls":6},"（",null,null," ）建築士",{"$nulls":9},"（",{"$nulls":6},"）登録第",{"$nulls":10},"号"]
[{"$nulls":9},"建築設備検査員",{"$nulls":22},"第",{"$nulls":7},"号"]
[{"$nulls":9},"登録建築設備検査資格者講習を修了した者",{"$nulls":22},"第",{"$nulls":7},"号"]
[null,null,"【ロ．氏名のフリガナ】",{"$nulls":10},{"$f":"ASC(PHONETIC(N136))","v":""},"ﾀｹﾀﾞﾃﾂﾔ","ﾀｹﾀﾞﾃﾂﾔ","ﾀｹﾀﾞﾃﾂﾔ","ﾀｹﾀﾞﾃﾂﾔ","ﾀｹﾀﾞﾃﾂﾔ","ﾀｹﾀﾞﾃﾂﾔ","ﾀｹﾀﾞﾃﾂﾔ","ﾀｹﾀﾞﾃﾂﾔ","ﾀｹﾀﾞﾃﾂﾔ","ﾀｹﾀﾞﾃﾂﾔ","ﾀｹﾀﾞﾃﾂﾔ","ﾀｹﾀﾞﾃﾂﾔ","ﾀｹﾀﾞﾃﾂﾔ","ﾀｹﾀﾞﾃﾂﾔ","ﾀｹﾀﾞﾃﾂﾔ","ﾀｹﾀﾞﾃﾂﾔ","ﾀｹﾀﾞﾃﾂﾔ","ﾀｹﾀﾞﾃﾂﾔ","ﾀｹﾀﾞﾃﾂﾔ","ﾀｹﾀﾞﾃﾂﾔ","ﾀｹﾀﾞﾃﾂﾔ","ﾀｹﾀﾞﾃﾂﾔ","ﾀｹﾀﾞﾃﾂﾔ","ﾀｹﾀﾞﾃﾂﾔ","ﾀｹﾀﾞﾃﾂﾔ","ﾀｹﾀﾞﾃﾂﾔ","ﾀｹﾀﾞﾃﾂﾔ","ﾀｹﾀﾞﾃﾂﾔ","ﾀｹﾀﾞﾃﾂﾔ","ﾀｹﾀﾞﾃﾂﾔ","ﾀｹﾀﾞﾃﾂﾔ","ﾀｹﾀﾞﾃﾂﾔ"]
[null,null,"【ハ．氏名】"]
[null,null,"【ニ．勤務先】"]
[{"$nulls":9},"（",null,null," ）建築士事務所",{"$nulls":9},"（",{"$nulls":4},"）知事登録第",{"$nulls":12},"号"]
[null,null,"【ホ．郵便番号】"]
[null,null,"【ヘ．所在地】"]
[null,null,"【ト．電話番号】"]
[null," （その他の検査者）"]
[null,null,"【イ．資格】",{"$nulls":6},"（",null,null," ）建築士",{"$nulls":9},"（",{"$nulls":6},"）登録第",{"$nulls":10},"号"]
[{"$nulls":9},"建築設備検査員",{"$nulls":22},"第",{"$nulls":7},"号"]
[{"$nulls":9},"登録建築設備検査資格者講習を修了した者",{"$nulls":22},"第",{"$nulls":7},"号"]
[null,null,"【ロ．氏名のフリガナ】",{"$nulls":10},{"$f":"ASC(PHONETIC(N147))","v":""},"","","","","","","","","","","","","","","","","","","","","","","","","","","","","","","",""]
[null,null,"【ハ．氏名】"]
[null,null,"【ニ．勤務先】"]
[{"$nulls":9},"（",null,null," ）建築士事務所",{"$nulls":9},"（",{"$nulls":4},"）知事登録第",{"$nulls":12},"号"]
[null,null,"【ホ．郵便番号】"]
[null,null,"【ヘ．所在地】"]
[null,null,"【ト．電話番号】"]
[null," （その他の検査者２）"]
[null,null,"【イ．資格】",{"$nulls":6},"（",null,null," ）建築士",{"$nulls":9},"（",{"$nulls":9},")登録第",{"$nulls":7},"号"]
[{"$nulls":9},"建築設備検査員",{"$nulls":22},"第",{"$nulls":7},"号"]
[{"$nulls":9},"登録建築設備検査資格者講習を修了した者",{"$nulls":22},"第",{"$nulls":7},"号"]
[null,null,"【ロ．氏名のフリガナ】",{"$nulls":11},"","","","","","","","","","","","","","","","","","","","","","","","","","","","","","","",""]
[null,null,"【ハ．氏名】"]
[null,null,"【ニ．勤務先】"]
[{"$nulls":9},"（",null,null," ）建築士事務所",{"$nulls":9},"（",{"$nulls":9},")知事登録第",{"$nulls":7},"号"]
[null,null,"【ホ．郵便番号】"]
[null,null,"【ヘ．所在地】"]
[null,null,"【ト．電話番号】"]
[]
[]
[]
[]
[]
[null,"【5．換気設備の概要】"]
[null,null,"【イ．無窓居室】",{"$nulls":9},"自然換気設備 （",{"$nulls":6},"―",null,"系統",null,"―",null,"室）",{"$nulls":3},"機械換気設備 (",{"$nulls":8},"系統",{"$nulls":3},"室）",{"$nulls":11},{"$f":"IF(AC170=\"レ\",1,0)","v":0}]
[{"$nulls":12},"中央管理方式の空気調和設備 (",{"$nulls":15},"系統",{"$nulls":3},"室）",{"$nulls":21},{"$f":"IF(L171=\"レ\",1,0)","v":0}]
[{"$nulls":12},"その他 (",{"$nulls":5},"系統",{"$nulls":3},"室）",{"$nulls":6},"無"]
[null,null,"【ロ．火気使用室】",{"$nulls":9},"自然換気設備 （",{"$nulls":6},"―",null,"系統",null,"―",null,"室）",{"$nulls":3},"機械換気設備 (",{"$nulls":8},"系統",{"$nulls":3},"室）"]
[{"$nulls":12},"その他 (",{"$nulls":5},"系統",{"$nulls":3},"室）",{"$nulls":6},"無"]
[null,null,"【ハ．居室等】",{"$nulls":9},"自然換気設備 （",{"$nulls":6},"―",null,"系統",null,"―",null,"室）",{"$nulls":3},"機械換気設備 (",{"$nulls":8},"系統",{"$nulls":3},"室）",{"$nulls":11},{"$f":"IF(AC175=\"レ\",1,0)","v":0}]
[{"$nulls":12},"中央管理方式の空気調和設備 (",{"$nulls":15},"系統",{"$nulls":3},"室）",{"$nulls":21},{"$f":"IF(L176=\"レ\",1,0)","v":0}]
[{"$nulls":12},"その他 (",{"$nulls":5},"系統",{"$nulls":3},"室）",{"$nulls":6},"無",{"$nulls":24},{"$f":"BC170+BC171+BC175+BC176","v":0}]
[null,null,"【ニ．空気調和設備・冷暖房設備】",{"$nulls":16},"個別パッケージ",{"$nulls":9},"全空気",{"$nulls":5},"ヒートポンプ"]
[{"$nulls":19},"ファンコイルユニット併用",{"$nulls":15},"その他 (",{"$nulls":9},"）"]
[null,null,"【ニ．防火ダンパーの有無】",{"$nulls":16},"有",null,null,"無"]
[]
[]
[]
[]
[null,"【6．換気設備の検査の状況】"]
[null,null,"【イ．指摘の内容】",{"$nulls":11},"要是正の指摘あり （",{"$nulls":9},"既存不適格）",{"$nulls":8},"指摘なし"]
[null,null,"【ロ．指摘の概要】"]
[]
[]
[]
[]
[null,null,"【ハ．改善予定の有無】",{"$nulls":11},"有",null,null,"（令和",null,null,"年",null,null,"月に改善予定）",{"$nulls":9},"無"]
[]
[]
[]
[]
[]
[null,"【7．換気設備の不具合の発生状況】"]
[null,null,"【イ．不具合】",{"$nulls":9},"有",null,null,"無"]
[null,null,"【ロ．不具合記録】",{"$nulls":9},"有",null,null,"無"]
[null,null,"【ハ．改善の状況】",{"$nulls":9},"実施済",{"$nulls":4},"改善予定",{"$nulls":5},"（令和",null,null,"年",null,null,"月に改善予定）",{"$nulls":8},"予定なし"]
{"$rows_empty":10}
[null,"【8．排煙設備の検査者】"]
[null," （代表となる検査者）"]
[null,null,"【イ．資格】",{"$nulls":6},"（",null,null," ）建築士",{"$nulls":9},"（",{"$nulls":6},"）登録第",{"$nulls":10},"号"]
[{"$nulls":9},"建築設備検査員",{"$nulls":22},"第",{"$nulls":7},"号"]
[{"$nulls":9},"登録建築設備検査資格者講習を修了した者",{"$nulls":22},"第",{"$nulls":7},"号"]
[null,null,"【ロ．氏名のフリガナ】",{"$nulls":10},{"$f":"ASC(PHONETIC(N218))","v":""},"ﾀｹﾀﾞﾃﾂﾔ","ﾀｹﾀﾞﾃﾂﾔ","ﾀｹﾀﾞﾃﾂﾔ","ﾀｹﾀﾞﾃﾂﾔ","ﾀｹﾀﾞﾃﾂﾔ","ﾀｹﾀﾞﾃﾂﾔ","ﾀｹﾀﾞﾃﾂﾔ","ﾀｹﾀﾞﾃﾂﾔ","ﾀｹﾀﾞﾃﾂﾔ","ﾀｹﾀﾞﾃﾂﾔ","ﾀｹﾀﾞﾃﾂﾔ","ﾀｹﾀﾞﾃﾂﾔ","ﾀｹﾀﾞﾃﾂﾔ","ﾀｹﾀﾞﾃﾂﾔ","ﾀｹﾀﾞﾃﾂﾔ","ﾀｹﾀﾞﾃﾂﾔ","ﾀｹﾀﾞﾃﾂﾔ","ﾀｹﾀﾞﾃﾂﾔ","ﾀｹﾀﾞﾃﾂﾔ","ﾀｹﾀﾞﾃﾂﾔ","ﾀｹﾀﾞﾃﾂﾔ","ﾀｹﾀﾞﾃﾂﾔ","ﾀｹﾀﾞﾃﾂﾔ","ﾀｹﾀﾞﾃﾂﾔ","ﾀｹﾀﾞﾃﾂﾔ","ﾀｹﾀﾞﾃﾂﾔ","ﾀｹﾀﾞﾃﾂﾔ","ﾀｹﾀﾞﾃﾂﾔ","ﾀｹﾀﾞﾃﾂﾔ","ﾀｹﾀﾞﾃﾂﾔ","ﾀｹﾀﾞﾃﾂﾔ","ﾀｹﾀﾞﾃﾂﾔ"]
[null,null,"【ハ．氏名】",{"$nulls":51},{"$f":"IF(N218=\"\",0,1)","v":0}]
[null,null,"【ニ．勤務先】"]
[{"$nulls":9},"（",null,null," ）建築士事務所",{"$nulls":9},"（",{"$nulls":4},"）知事登録第",{"$nulls":12},"号"]
[null,null,"【ホ．郵便番号】"]
[null,null,"【ヘ．所在地】"]
[null,null,"【ト．電話番号】"]
[null," （その他の検査者）"]
[null,null,"【イ．資格】",{"$nulls":6},"（",null,null," ）建築士",{"$nulls":9},"（",{"$nulls":6},"）登録第",{"$nulls":10},"号"]
[{"$nulls":9},"建築設備検査員",{"$nulls":22},"第",{"$nulls":7},"号"]
[{"$nulls":9},"登録建築設備検査資格者講習を修了した者",{"$nulls":22},"第",{"$nulls":7},"号"]
[null,null,"【ロ．氏名のフリガナ】",{"$nulls":10},{"$f":"ASC(PHONETIC(N229))","v":""},"","","","","","","","","","","","","","","","","","","","","","","","","","","","","","","",""]
[null,null,"【ハ．氏名】"]
[null,null,"【ニ．勤務先】"]
[{"$nulls":9},"（",null,null," ）建築士事務所",{"$nulls":9},"（",{"$nulls":4},"）知事登録第",{"$nulls":12},"号"]
[null,null,"【ホ．郵便番号】"]
[null,null,"【ヘ．所在地】"]
[null,null,"【ト．電話番号】"]
[null," （その他の検査者２）"]
[null,null,"【イ．資格】",{"$nulls":6},"（",null,null," ）建築士",{"$nulls":9},"（",{"$nulls":9},")登録第",{"$nulls":7},"号"]
[{"$nulls":9},"建築設備検査員",{"$nulls":22},"第",{"$nulls":7},"号"]
[{"$nulls":9},"登録建築設備検査資格者講習を修了した者",{"$nulls":22},"第",{"$nulls":7},"号"]
[null,null,"【ロ．氏名のフリガナ】",{"$nulls":11},"","","","","","","","","","","","","","","","","","","","","","","","","","","","","","","",""]
[null,null,"【ハ．氏名】"]
[null,null,"【ニ．勤務先】"]
[{"$nulls":9},"（",null,null," ）建築士事務所",{"$nulls":9},"（",{"$nulls":9},")知事登録第",{"$nulls":7},"号"]
[null,null,"【ホ．郵便番号】"]
[null,null,"【ヘ．所在地】"]
[null,null,"【ト．電話番号】"]
[]
[]
[]
[null,"【9．排煙設備の概要】"]
[null,null,"【イ．避難安全検証法等の適用】",{"$nulls":15},"区画避難安全検証法(",{"$nulls":11},"階)",null,null,"階避難安全検証法(",{"$nulls":10},"階)"]
[{"$nulls":11},"全館避難安全検証法",{"$nulls":10},"その他 (",{"$nulls":21},")"]
[null,null,"【ロ．特別避難階段の階段室又は付室】"]
[{"$nulls":11},"吸引式 (",{"$nulls":5},"区画)",{"$nulls":4},"給気式 (",{"$nulls":5},"区画)",{"$nulls":4},"加圧式 (",{"$nulls":5},"区画)",{"$nulls":4},"無"]
[null,null,"【ハ．非常用エレベーターの昇降路又は乗降ロビー】"]
[{"$nulls":11},"吸引式 (",{"$nulls":5},"区画)",{"$nulls":4},"給気式 (",{"$nulls":5},"区画)",{"$nulls":4},"加圧式 (",{"$nulls":5},"区画)",{"$nulls":4},"無"]
[null,null,"【ニ．非常用エレベーターの乗降ロビーの用に供する付室】"]
[{"$nulls":11},"吸引式 (",{"$nulls":5},"区画)",{"$nulls":4},"給気式 (",{"$nulls":5},"区画)",{"$nulls":4},"加圧式 (",{"$nulls":5},"区画)",{"$nulls":4},"無"]
[null,null,"【ホ．居室等】",{"$nulls":8},"吸引式 (",{"$nulls":5},"区画)",{"$nulls":4},"給気式 (",{"$nulls":5},"区画)",{"$nulls":15},"無"]
[null,null,"【ヘ．予備電源】",{"$nulls":8},"蓄電池",{"$nulls":4},"自家用発電装置",{"$nulls":8},"直結エンジン",{"$nulls":7},"その他(",{"$nulls":10},")"]
[]
[]
[null,"【10．排煙設備の検査の状況】"]
[null,null,"【イ．指摘の内容】",{"$nulls":11},"要是正の指摘あり （",{"$nulls":9},"既存不適格）",{"$nulls":8},"指摘なし",{"$nulls":20},{"$f":"IF(X263=\"レ\",\"レ\",\"\")","v":""},{"$f":"IF(AND(N263=\"\",X263=\"レ\"),\"\",IF(X263=\"\",\"\",\"レ\"))","v":""}]
[null,null,"【ロ．指摘の概要】"]
[]
[]
[]
[]
[null,null,"【ハ．改善予定の有無】",{"$nulls":11},"有",null,null,"（令和",null,null,"年",null,null,"月に改善予定）",{"$nulls":9},"無"]
[]
[]
[]
[]
[]
[null,"【11．排煙設備の不具合の発生状況】"]
[null,null,"【イ．不具合】",{"$nulls":9},"有",null,null,"無"]
[null,null,"【ロ．不具合記録】",{"$nulls":9},"有",null,null,"無"]
[null,null,"【ハ．改善の状況】",{"$nulls":9},"実施済",{"$nulls":4},"改善予定",{"$nulls":5},"（令和",null,null,"年",null,null,"月に改善予定）",{"$nulls":8},"予定なし"]
{"$rows_empty":10}
[null,"【12．非常用の照明装置の検査者】"]
[null," （代表となる検査者）"]
[null,null,"【イ．資格】",{"$nulls":6},"（",null,null," ）建築士",{"$nulls":9},"（",{"$nulls":6},"）登録第",{"$nulls":10},"号"]
[{"$nulls":9},"建築設備検査員",{"$nulls":22},"第",{"$nulls":7},"号"]
[{"$nulls":9},"登録建築設備検査資格者講習を修了した者",{"$nulls":22},"第",{"$nulls":7},"号"]
[null,null,"【ロ．氏名のフリガナ】",{"$nulls":10},{"$f":"ASC(PHONETIC(N295))","v":""},"ﾀｹﾀﾞﾃﾂﾔ","ﾀｹﾀﾞﾃﾂﾔ","ﾀｹﾀﾞﾃﾂﾔ","ﾀｹﾀﾞﾃﾂﾔ","ﾀｹﾀﾞﾃﾂﾔ","ﾀｹﾀﾞﾃﾂﾔ","ﾀｹﾀﾞﾃﾂﾔ","ﾀｹﾀﾞﾃﾂﾔ","ﾀｹﾀﾞﾃﾂﾔ","ﾀｹﾀﾞﾃﾂﾔ","ﾀｹﾀﾞﾃﾂﾔ","ﾀｹﾀﾞﾃﾂﾔ","ﾀｹﾀﾞﾃﾂﾔ","ﾀｹﾀﾞﾃﾂﾔ","ﾀｹﾀﾞﾃﾂﾔ","ﾀｹﾀﾞﾃﾂﾔ","ﾀｹﾀﾞﾃﾂﾔ","ﾀｹﾀﾞﾃﾂﾔ","ﾀｹﾀﾞﾃﾂﾔ","ﾀｹﾀﾞﾃﾂﾔ","ﾀｹﾀﾞﾃﾂﾔ","ﾀｹﾀﾞﾃﾂﾔ","ﾀｹﾀﾞﾃﾂﾔ","ﾀｹﾀﾞﾃﾂﾔ","ﾀｹﾀﾞﾃﾂﾔ","ﾀｹﾀﾞﾃﾂﾔ","ﾀｹﾀﾞﾃﾂﾔ","ﾀｹﾀﾞﾃﾂﾔ","ﾀｹﾀﾞﾃﾂﾔ","ﾀｹﾀﾞﾃﾂﾔ","ﾀｹﾀﾞﾃﾂﾔ","ﾀｹﾀﾞﾃﾂﾔ"]
[null,null,"【ハ．氏名】"]
[null,null,"【ニ．勤務先】"]
[{"$nulls":9},"（",null,null," ）建築士事務所",{"$nulls":9},"（",{"$nulls":4},"）知事登録第",{"$nulls":12},"号"]
[null,null,"【ホ．郵便番号】"]
[null,null,"【ヘ．所在地】"]
[null,null,"【ト．電話番号】"]
[null," （その他の検査者）"]
[null,null,"【イ．資格】",{"$nulls":6},"（",null,null," ）建築士",{"$nulls":9},"（",{"$nulls":6},"）登録第",{"$nulls":10},"号"]
[{"$nulls":9},"建築設備検査員",{"$nulls":22},"第",{"$nulls":7},"号"]
[{"$nulls":9},"登録建築設備検査資格者講習を修了した者",{"$nulls":22},"第",{"$nulls":7},"号"]
[null,null,"【ロ．氏名のフリガナ】",{"$nulls":10},{"$f":"ASC(PHONETIC(N306))","v":""},"","","","","","","","","","","","","","","","","","","","","","","","","","","","","","","",""]
[null,null,"【ハ．氏名】"]
[null,null,"【ニ．勤務先】"]
[{"$nulls":9},"（",null,null," ）建築士事務所",{"$nulls":9},"（",{"$nulls":4},"）知事登録第",{"$nulls":12},"号"]
[null,null,"【ホ．郵便番号】"]
[null,null,"【ヘ．所在地】"]
[null,null,"【ト．電話番号】"]
[null," （その他の検査者２）"]
[null,null,"【イ．資格】",{"$nulls":6},"（",null,null," ）建築士",{"$nulls":9},"（",{"$nulls":9},")登録第",{"$nulls":7},"号"]
[{"$nulls":9},"建築設備検査員",{"$nulls":22},"第",{"$nulls":7},"号"]
[{"$nulls":9},"登録建築設備検査資格者講習を修了した者",{"$nulls":22},"第",{"$nulls":7},"号"]
[null,null,"【ロ．氏名のフリガナ】",{"$nulls":11},"","","","","","","","","","","","","","","","","","","","","","","","","","","","","","","",""]
[null,null,"【ハ．氏名】"]
[null,null,"【ニ．勤務先】"]
[{"$nulls":9},"（",null,null," ）建築士事務所",{"$nulls":9},"（",{"$nulls":9},")知事登録第",{"$nulls":7},"号"]
[null,null,"【ホ．郵便番号】"]
[null,null,"【ヘ．所在地】"]
[null,null,"【ト．電話番号】"]
[]
[]
[]
[]
[]
[null,"【13．非常用の照明装置の概要】"]
[null,null,"【イ．照明器具】",{"$nulls":8},"白熱灯 （",{"$nulls":5},"灯）",{"$nulls":3},"蛍光灯 （",{"$nulls":5},"灯）",{"$nulls":3},"LEDランプ（",{"$nulls":7},"灯）"]
[{"$nulls":11},"その他 （",{"$nulls":5},"灯）"]
[]
[]
[null,null,"【ロ．予備電源】",{"$nulls":8},"蓄電池（内蔵形）",{"$nulls":7}," （居室",{"$nulls":4},"灯 、廊下",{"$nulls":5},"灯 、階段",{"$nulls":5},"灯）"]
[{"$nulls":11},"蓄電池（別置形）",{"$nulls":7}," （居室",{"$nulls":4},"灯 、廊下",{"$nulls":5},"灯 、階段",{"$nulls":5},"灯）"]
[{"$nulls":11},"自家用発電装置 ",{"$nulls":7}," （居室",{"$nulls":4},"灯 、廊下",{"$nulls":5},"灯 、階段",{"$nulls":5},"灯）"]
[{"$nulls":11},"蓄電池(別置形)・自家用発電装置併用",{"$nulls":18}," （居室",null,null,"灯 、廊下",{"$nulls":5},"灯 、階段",{"$nulls":5},"灯）"]
[{"$nulls":11},"その他 （",{"$nulls":10},")",{"$nulls":9},"イ：",null,{"$f":"P329+Z329+AL329","v":0},null,null,"灯",null,"ロ：",null,{"$f":"W333+AC333+AI333+W334+AC334+AI334+W335+AC335+AI335+AF336+AL336+AR336","v":0},null,null,"灯"]
[]
[]
[]
[]
[]
[null,"【14．非常用の照明装置の検査の状況】"]
[null,null,"【イ．指摘の内容】",{"$nulls":11},"要是正の指摘あり （",{"$nulls":9},"既存不適格）",{"$nulls":8},"指摘なし",{"$nulls":20},{"$f":"IF(X344=\"レ\",\"レ\",\"\")","v":""},{"$f":"IF(AND(N344=\"\",X344=\"レ\"),\"\",IF(X344=\"\",\"\",\"レ\"))","v":""}]
[null,null,"【ロ．指摘の概要】"]
[]
[]
[]
[]
[null,null,"【ハ．改善予定の有無】",{"$nulls":11},"有",null,null,"（令和",null,null,"年",null,null,"月に改善予定）",{"$nulls":9},"無"]
[]
[]
[]
[]
[]
[null,"【15．非常用の照明装置の不具合の発生状況】"]
[null,null,"【イ．不具合】",{"$nulls":9},"有",null,null,"無"]
[null,null,"【ロ．不具合記録】",{"$nulls":9},"有",null,null,"無"]
[null,null,"【ハ．改善の状況】",{"$nulls":9},"実施済",{"$nulls":4},"改善予定",{"$nulls":5},"（令和",null,null,"年",null,null,"月に改善予定）",{"$nulls":8},"予定なし"]
{"$rows_empty":10}
[null,"【16．給水設備及び排水設備の検査者】"]
[null," （代表となる検査者）"]
[null,null,"【イ．資格】",{"$nulls":6},"（",null,null," ）建築士",{"$nulls":9},"（",{"$nulls":6},"）登録第",{"$nulls":10},"号"]
[{"$nulls":9},"建築設備検査員",{"$nulls":22},"第",{"$nulls":7},"号"]
[{"$nulls":9},"登録建築設備検査資格者講習を修了した者",{"$nulls":22},"第",{"$nulls":7},"号"]
[null,null,"【ロ．氏名のフリガナ】",{"$nulls":10},{"$f":"ASC(PHONETIC(N376))","v":""},"ﾀｹﾀﾞﾃﾂﾔ","ﾀｹﾀﾞﾃﾂﾔ","ﾀｹﾀﾞﾃﾂﾔ","ﾀｹﾀﾞﾃﾂﾔ","ﾀｹﾀﾞﾃﾂﾔ","ﾀｹﾀﾞﾃﾂﾔ","ﾀｹﾀﾞﾃﾂﾔ","ﾀｹﾀﾞﾃﾂﾔ","ﾀｹﾀﾞﾃﾂﾔ","ﾀｹﾀﾞﾃﾂﾔ","ﾀｹﾀﾞﾃﾂﾔ","ﾀｹﾀﾞﾃﾂﾔ","ﾀｹﾀﾞﾃﾂﾔ","ﾀｹﾀﾞﾃﾂﾔ","ﾀｹﾀﾞﾃﾂﾔ","ﾀｹﾀﾞﾃﾂﾔ","ﾀｹﾀﾞﾃﾂﾔ","ﾀｹﾀﾞﾃﾂﾔ","ﾀｹﾀﾞﾃﾂﾔ","ﾀｹﾀﾞﾃﾂﾔ","ﾀｹﾀﾞﾃﾂﾔ","ﾀｹﾀﾞﾃﾂﾔ","ﾀｹﾀﾞﾃﾂﾔ","ﾀｹﾀﾞﾃﾂﾔ","ﾀｹﾀﾞﾃﾂﾔ","ﾀｹﾀﾞﾃﾂﾔ","ﾀｹﾀﾞﾃﾂﾔ","ﾀｹﾀﾞﾃﾂﾔ","ﾀｹﾀﾞﾃﾂﾔ","ﾀｹﾀﾞﾃﾂﾔ","ﾀｹﾀﾞﾃﾂﾔ","ﾀｹﾀﾞﾃﾂﾔ"]
[null,null,"【ハ．氏名】"]
[null,null,"【ニ．勤務先】"]
[{"$nulls":9},"（",null,null," ）建築士事務所",{"$nulls":9},"（",{"$nulls":4},"）知事登録第",{"$nulls":12},"号"]
[null,null,"【ホ．郵便番号】"]
[null,null,"【ヘ．所在地】"]
[null,null,"【ト．電話番号】"]
[null," （その他の検査者）"]
[null,null,"【イ．資格】",{"$nulls":6},"（",null,null," ）建築士",{"$nulls":9},"（",{"$nulls":6},"）登録第",{"$nulls":10},"号"]
[{"$nulls":9},"建築設備検査員",{"$nulls":22},"第",{"$nulls":7},"号"]
[{"$nulls":9},"登録建築設備検査資格者講習を修了した者",{"$nulls":22},"第",{"$nulls":7},"号"]
[null,null,"【ロ．氏名のフリガナ】",{"$nulls":10},{"$f":"ASC(PHONETIC(N387))","v":""},"","","","","","","","","","","","","","","","","","","","","","","","","","","","","","","",""]
[null,null,"【ハ．氏名】"]
[null,null,"【ニ．勤務先】"]
[{"$nulls":9},"（",null,null," ）建築士事務所",{"$nulls":9},"（",{"$nulls":4},"）知事登録第",{"$nulls":12},"号"]
[null,null,"【ホ．郵便番号】"]
[null,null,"【ヘ．所在地】"]
[null,null,"【ト．電話番号】"]
[null," （その他の検査者２）"]
[null,null,"【イ．資格】",{"$nulls":6},"（",null,null," ）建築士",{"$nulls":9},"（",{"$nulls":9},")登録第",{"$nulls":7},"号"]
[{"$nulls":9},"建築設備検査員",{"$nulls":22},"第",{"$nulls":7},"号"]
[{"$nulls":9},"登録建築設備検査資格者講習を修了した者",{"$nulls":22},"第",{"$nulls":7},"号"]
[null,null,"【ロ．氏名のフリガナ】",{"$nulls":11},"","","","","","","","","","","","","","","","","","","","","","","","","","","","","","","",""]
[null,null,"【ハ．氏名】"]
[null,null,"【ニ．勤務先】"]
[{"$nulls":9},"（",null,null," ）建築士事務所",{"$nulls":9},"（",{"$nulls":9},")知事登録第",{"$nulls":7},"号"]
[null,null,"【ホ．郵便番号】"]
[null,null,"【ヘ．所在地】"]
[null,null,"【ト．電話番号】"]
[]
[]
[]
[]
[]
[null,"【17．給水設備及び排水設備の概要】"]
[null,null,"【イ．飲料水の配管設備】",{"$nulls":12},"給水タンク （",{"$nulls":7},"基",null,null,"ｍ3）",{"$nulls":4},"貯水タンク （",{"$nulls":7},"基",null,null,"ｍ3）"]
[{"$nulls":15},"その他 （",{"$nulls":18},"）"]
[null,null,"【ロ．排水設備】",{"$nulls":12},"排水槽 （",{"$nulls":4},"汚水槽",{"$nulls":4},"雑排水槽",{"$nulls":5},"合併槽",{"$nulls":4},"雨水槽・湧水槽）"]
[{"$nulls":15},"排水再利用配管設備",{"$nulls":11},"その他 （",{"$nulls":18},"）",{"$nulls":7},{"$f":"IF(O413=\"レ\",1,0)","v":0}]
[null,null,"【ハ．圧力タンクの有無】",{"$nulls":12},"有",{"$nulls":3},"無",{"$nulls":34},{"$f":"BC177+BC218+BC413","v":0}]
[null,null,"【ニ．給湯方式】",{"$nulls":9},"局所式",{"$nulls":5},"中央式"]
[null,null,"【ホ．湯沸器】",{"$nulls":9},"開放式燃焼器",{"$nulls":8},"半密閉式燃焼器",{"$nulls":9},"密閉式燃焼器"]
[{"$nulls":12},"その他 （",{"$nulls":23},"）"]
[]
[]
[]
[]
[]
[null,"【18．給水設備及び排水設備の検査の状況】"]
[null,null,"【イ．指摘の内容】",{"$nulls":11},"要是正の指摘あり （",{"$nulls":9},"既存不適格）",{"$nulls":8},"指摘なし",{"$nulls":20},{"$f":"IF(X424=\"レ\",\"レ\",\"\")","v":""},{"$f":"IF(AND(N424=\"\",X424=\"レ\"),\"\",IF(X424=\"\",\"\",\"レ\"))","v":""}]
[null,null,"【ロ．指摘の概要】"]
[]
[]
[]
[]
[null,null,"【ハ．改善予定の有無】",{"$nulls":11},"有",null,null,"（令和",null,null,"年",null,null,"月に改善予定）",{"$nulls":9},"無"]
[]
[]
[]
[]
[]
[null,"【19．給水設備及び排水設備の不具合の発生状況】"]
[null,null,"【イ．不具合】",{"$nulls":9},"有",null,null,"無"]
[null,null,"【ロ．不具合記録】",{"$nulls":9},"有",null,null,"無"]
[null,null,"【ハ．改善の状況】",{"$nulls":9},"実施済",{"$nulls":4},"改善予定",{"$nulls":5},"（令和",null,null,"年",null,null,"月に改善予定）",{"$nulls":8},"予定なし"]
{"$rows_empty":10}
[null,"【20．備考】"]
[null,null,"【国土交通大臣が定める検査項目の有無】",{"$nulls":20},"有（",{"$nulls":3},"・",null,null,"・",{"$nulls":3},"）",{"$nulls":3},"無"]
{"$rows_empty":24}
[null,"（第三面）"]
[null,"建築設備に係る不具合の状況"]
[]
[]
[null,"【1.換気設備】"]
[]
[null,"不具合を把",{"$nulls":5},"不具合の概要",{"$nulls":9},"考えられる原因",{"$nulls":9},"改善（予定）",{"$nulls":5},"改善措置の概要等"]
[null,"握した年月",{"$nulls":25},"年月"]
{"$rows_empty":11}
[null,"【2.排煙設備】"]
[]
[null,"不具合を把",{"$nulls":5},"不具合の概要",{"$nulls":9},"考えられる原因",{"$nulls":9},"改善（予定）",{"$nulls":5},"改善措置の概要等"]
[null,"握した年月",{"$nulls":25},"年月"]
{"$rows_empty":11}
[null,"【3.非常用の照明装置】"]
[]
[null,"不具合を把",{"$nulls":5},"不具合の概要",{"$nulls":9},"考えられる原因",{"$nulls":9},"改善（予定）",{"$nulls":5},"改善措置の概要等"]
[null,"握した年月",{"$nulls":25},"年月"]
{"$rows_empty":11}
[null,"【4.給水設備及び排水設備】"]
[]
[null,"不具合を把",{"$nulls":5},"不具合の概要",{"$nulls":9},"考えられる原因",{"$nulls":9},"改善（予定）",{"$nulls":5},"改善措置の概要等"]
[null,"握した年月",{"$nulls":25},"年月"]
{"$rows_empty":12}
[null,"(注意)"]
[null,"1. 各面共通関係"]
[null,"　①　※印のある欄は記入しないでください。"]
[null,"　②　数字は算用数字を、単位はメートル法を用いてください。",{"$nulls":45},"　②　数字は算用数字を、単位はメートル法を用いてください。","　②　数字は算用数字を、単位はメートル法を用いてください。","　②　数字は算用数字を、単位はメートル法を用いてください。","　②　数字は算用数字を、単位はメートル法を用いてください。"]
[null,"　③　記入欄が不足する場合は、枠を拡大、行を追加して記入するか、別紙に必要な事項を記入し添えて"]
[null,"　　ください。"]
[null,"2. 第一面関係"]
[null,"　①　検査者が２人以上のときは、代表となる検査者を検査者氏名欄に記入してください。"]
[null,"　②　１欄及び２欄は、所有者又は管理者が法人のときは、「ロ」はそれぞれ法人の名称及び代表者氏名"]
[null,"　　を、「ニ」はそれぞれ法人の所在地を記入してください。"]
[null,"　③　第二面の６欄、10欄、14欄又は18欄のいずれかの「イ」において「要是正の指摘あり」のチェック"]
[null,"　　ボックスに「レ」マークを入れた場合においては、４欄の「イ」の「要是正の指摘あり」のチェック"]
[null,"　　ボックスに「レ」マークを入れ、それ以外のときは、「指摘なし」のチェックボックスに「レ」マー"]
[null,"　　クを入れてください。また、第二面の６欄、10欄、14欄及び18欄の「イ」の「要是正の指摘あり」の"]
[null,"　　チェックボックスに「レ」マークを入れたものの全てにおいて、「既存不適格」のチェックボックス"]
[null,"　　に「レ」マークを入れたときは、併せて４欄の「イ」の「既存不適格」のチェックボックスに「レ」"]
[null,"　　マークを入れてください。"]
[null,"　④　４欄の「ロ」は、指摘された事項のうち特に報告すべき事項があれば記入してください。"]
[null,"　⑤　４欄の「ハ」は、第二面の６欄、10欄、14欄又は18欄のいずれかの「ハ」において改善予定として"]
[null,"　　いるときは「有」のチェックボックスに「レ」マークを入れ、第二面の６欄、10欄、14欄又は18欄の"]
[null,"　　「ハ」に記入されている改善予定年月のうち最も早いものを併せて記入してください。"]
[null,"　⑥　４欄の「ニ」は、指摘された事項以外に特に報告すべき事項があれば記入してください。"]
[null,"3. 第二面関係"]
[null,"　①　この書類は、建築物ごとに、建築設備等の概要及び当該建築設備等の構造方法に係る検査結果につ"]
[null,"　　いて作成してください。"]
[null,"　②　１欄の「ニ」は、検査対象の建築設備について、該当する全てのチェックボックスに「レ」マーク"]
[null,"　　を入れてください。"]
[null,"　③　２欄の「イ」及び「ロ」は、検査対象の建築設備等に関する直前の確認（建築基準法第87条の４及"]
[null,"　　び同法第88条第２項の規定により準用して適用される同法第６条第１項に規定する確認を含む以下こ"]
[null,"　　の様式において同じ。）について、「ハ」及び「ニ」は、検査対象の建築設備等に関する直前の完了"]
[null,"　　検査について、それぞれ記入してください。"]
[null,"　④　２欄の「ロ」及び「ニ」は、該当するチェックボックスに「レ」マークを入れ、「指定確認検査機"]
[null,"　　関」の場合には、併せてその名称を記入してください。"]
[null,"　⑤　３欄の「イ」は、検査が終了した年月日を記入し、「ロ」は、検査対象の建築設備等に関する直前"]
[null,"　　の報告について記入して下さい。"]
[null,"　⑥　３欄の「ロ」は、報告の対象となっていない場合には「未実施」のチェックボックスに「レ」マー"]
[null,"　　クを入れてください。"]
[null,"　⑦　３欄の「ハ」は、前回の定期検査の結果を記録した書類の写しの保存の有無について記入してくだ"]
[null,"　　さい。"]
[null,"　⑧　４欄から19欄までは、検査の対象となっていない建築設備等の欄には記入する必要はありません。"]
[null,"　⑨　４欄、８欄、12欄及び16欄は、代表となる検査者並びに検査に係る建築設備に係るすべての検査者"]
[null,"　　について記入してください。当該建築設備の検査を行った検査者が１人の場合は、その他の検査者欄"]
[null,"　　は削除して構いません。"]
[null,"　⑩　４欄、８欄、12欄及び16欄の「イ」は、検査者の有する資格について記入してください。検査者が"]
[null,"　　建築設備検査員である場合は、建築設備検査員資格証の交付番号を「建築設備検査員」の番号欄に記"]
[null,"　　入してください。"]
[null,"　⑪　４欄、８欄、12欄及び16欄の「ニ」は、検査者が法人に勤務している場合は、検査者の勤務先につ"]
[null,"　　いて記入し、勤務先が建築士事務所のときは、事務所登録番号を併せて記入してください。"]
[null,"　⑫　４欄、８欄、12欄及び16欄の「ホ」から「ト」までは、検査者が法人に勤務している場合は、検査"]
[null,"　　者の勤務先について記入し、検査者が法人に勤務していない場合は検査者の住所について記入してく"]
[null,"　　ださい。"]
[null,"　⑬　５欄の「イ」は、換気のための有効な部分の面積が居室の床面積の20分の１未満となる居室（建築"]
[null,"　　基準法第28条第３項に規定する特殊建築物の居室を除く。）について、「ロ」は、同項に規定する室"]
[null,"　　（同項に規定する特殊建築物の居室を除く。）ついて記入し、それぞれ該当する室がない場合におい"]
[null,"　　ては「無」のチェックボックスに「レ」マークを入れ、「ハ」は、同項に規定する特殊建築物の居室"]
[null,"　　について記入してください。"]
[null,"　⑭　17欄の「イ」、「ロ」及び「ホ」は、それぞれ該当するチェックボックスに「レ」マークを入れ、"]
[null,"　　「その他」の場合は併せて具体的な内容を記入してください。"]
[null,"　⑮　６欄、10欄、14欄及び18欄の「イ」は、検査結果において、是正が必要と認められるときは「要是"]
[null,"　　正の指摘あり」のチェックボックスに「レ」マークを入れ、当該指摘された箇所の全てに建築基準法"]
[null,"　　第３条第２項の規定の適用を受けているものであることが確認されたときは併せて「既存不適格」の"]
[null,"　　チェックボックスに「レ」マークを入れてください。"]
[null,"　⑯　６欄、10欄、14欄及び18欄の「イ」の「要是正の指摘あり」のチェックボックスに「レ」マークを"]
[null,"　　入れたとき（「既存不適格」のチェックボックスに「レ」を入れたときを除く。）は、「ロ」に指摘"]
[null,"　　の概要を記入してください。"]
[null,"　⑰　６欄、10欄、14欄及び18欄の「イ」の「要是正の指摘あり」のチェックボックスに「レ」マークを"]
[null,"　　入れ（「既存不適格」のチェックボックスに「レ」を入れたときを除く。）、当該指摘をうけた項目"]
[null,"　　について改善予定があるときは「ハ」の「有」のチェックボックスに「レ」マークを入れ、併せて改"]
[null,"　　善予定年月を記入してください。改善予定がないときは「ハ」の「無」のチェックボックスに「レ」"]
[null,"　　マークを入れてください。"]
[null,"　⑱　前回検査時以降に把握した火災時の排煙設備不作動等機器の故障、異常動作、損傷、腐食その他の"]
[null,"　　劣化に起因するもの（以下、「不具合」という。）について第三面の１欄、２欄、３欄又は４欄の「"]
[null,"　　不具合の概要」欄に記入したときは、７欄、11欄、15欄又は19欄の「イ」の「有」のチェックボック"]
[null,"　　スに「レ」マークを入れ、当該不具合について記録が有るときは７欄、11欄、15欄又は19欄の「ロ」"]
[null,"　　の「有」のチェックボックスに「レ」マークを入れ、記録が無いときは７欄、11欄、15欄又は19欄の"]
[null,"　　「ロ」の「無」のチェックボックスに「レ」マークを入れてください。また、第三面の１欄、２欄、"]
[null,"　　３欄又は４欄に記入された不具合のうち当該不具合を受けた改善を既に実施しているものがあり、か"]
[null,"　　つ、改善を行う予定があるものがない場合には７欄、11欄、15欄又は19欄の「ハ」の「実施済」のチ"]
[null,"　　ェックボックスに「レ」マークを入れ、第三面の１欄、２欄、３欄又は４欄に記入された不具合のう"]
[null,"　　ち改善を行う予定があるものがある場合には７欄、11欄、15欄又は19欄の「改善予定」のチェックボ"]
[null,"　　ックスに「レ」マークを入れ、併せて改善予定年月を記入し、改善の予定がない場合には７欄、11欄、"]
[null,"　　15欄又は19欄の「予定なし」のチェックボックスに「レ」マークを入れてください。"]
[null,"　⑲　９欄の「イ」は、建築基準法施行令第128条の６第３項に規定する区画避難安全検証法により区画避"]
[null,"　　難安全性能が検証された建築物のときは「区画避難安全検証法」のチェックボックスに、同令第129条"]
[null,"　　第３項に規定する階避難安全検証法により階避難安全性能が検証された建築物のときは「階避難安全"]
[null,"　　検証法」のチェックボックスに、同令第129条の２第４項に規定する全館避難安全検証法により全館避"]
[null,"　　難安全性能が検証された建築物のときは「全館避難安全検証法」のチェックボックスに、それぞれ"]
[null,"　　「レ」マークを入れ、「区画避難安全検証法」の場合は区画避難安全性能を検証した階を、「階避難"]
[null,"　　安全検証法」の場合は階避難安全性能を検証した階を、併せて記入してください。建築基準法第38条"]
[{"$nulls":3},"（同法第66条、第67条の２及び第88条第１項において準用する場合を含む。）の規定による特殊構造"]
[{"$nulls":3},"方法等認定、同法第68条の25第１項の規定による構造方法等の認定又は建築基準法の一部を改正する"]
[{"$nulls":3},"法律（平成10年法律第100号）による改正前の建築基準法第38条の規定による認定を受けている建築物"]
[{"$nulls":3},"のうち、当該適用について特に報告が必要なものについては「その他」のチェックボックスに「レ」"]
[{"$nulls":3},"マークを入れ、その概要を記入してください。"]
[null,"　⑳　９欄の「ロ」、「ハ」及び「ニ」は、それぞれ該当する室がないときに「無」のチェックボックス"]
[null,"　　に「レ」マークを入れ、「ホ」は、「ロ」、「ハ」及び「ニ」以外の居室、廊下及び階段の用に供す"]
[null,"　　る部分について記入してください。"]
[null,null,"㉑　　各欄に掲げられている項目以外で特に報告すべき事項は、20欄又は別紙に記載して添えてください。"]
[null,"4.第三面関係"]
[null,"　①　第三面の１欄、２欄、３欄又は４欄は、前回検査時以降に把握した建築設備に係る不具合のうち第"]
[null,"　　二面の６欄、10欄、14欄又は18欄において指摘されるもの以外のものについて、把握できる範囲にお"]
[null,"　　いて記入してください。前回検査時以降不具合を把握していない場合は、第三面を省略することがで"]
[null,"　　きます。"]
[null,"　②　「不具合を把握した年月」欄は、当該不具合を把握した年月を記入してください。"]
[null,"　③　「不具合の概要」欄は、当該不具合の箇所を特定した上で、当該不具合の具体的内容を記入してく"]
[null,"　　ださい。"]
[null,"　④　「考えられる原因」欄は、当該不具合が生じた原因として主として考えられるものを記入してくだ"]
[null,"　　さい。ただし、当該不具合が生じた原因が不明な場合は「不明」と記入してください。"]
[null,"　⑤　「改善(予定)年月」欄は、既に改善を実施している場合には実施年月を、改善を行う予定がある場"]
[null,"　　合には改善予定年月を記入し、改善を行う予定がない場合には「－」を記入してください。"]
[null,"　⑥　「改善措置の概要等」欄は、既に改善を実施している場合又は改善を行う予定がある場合に、具体"]
[null,"　　的措置の概要を記入してください。改善を行う予定がない場合には、その理由を記入してください。"]
[null,"　　"]

{"sheet":"建築物概要書","index":2,"n_rows":60,"n_cols":58,"rows_kept":60,"merged":[[4,1,4,57],[8,38,8,56],[9,1,10,3],[9,7,10,9],[9,13,10,47],[9,48,9,52],[9,53,9,57],[10,48,10,52],[10,53,10,57],[11,1,11,2],[11,7,11,9],[11,14,11,16],[11,18,11,21],[11,23,11,25],[11,27,11,29],[11,31,11,32],[11,34,11,37],[11,39,11,42],[11,43,11,46],[11,48,11,49],[11,51,11,52],[11,53,11,54],[11,56,11,57],[12,1,12,2],[12,7,12,9],[12,14,12,16],[12,18,12,21],[12,23,12,25],[12,27,12,29],[12,31,12,32],[12,34,12,37],[12,39,12,42],[12,43,12,46],[12,48,12,49],[12,51,12,52],[12,53,12,54],[12,56,12,57],[13,1,13,2],[13,7,13,9],[13,14,13,16],[13,18,13,21],[13,23,13,25],[13,27,13,29],[13,31,13,32],[13,34,13,37],[13,39,13,42],[13,43,13,46],[13,48,13,49],[13,51,13,52],[13,53,13,54],[13,56,13,57],[14,1,14,2],[14,7,14,9],[14,14,14,16],[14,18,14,21],[14,23,14,25],[14,27,14,29],[14,31,14,32],[14,34,14,37],[14,39,14,42],[14,43,14,46],[14,48,14,49],[14,51,14,52],[14,53,14,54],[14,56,14,57],[15,1,15,2],[15,7,15,9],[15,14,15,16],[15,18,15,21],[15,23,15,25],[15,27,15,29],[15,31,15,32],[15,34,15,37],[15,39,15,42],[15,43,15,46],[15,48,15,49],[15,51,15,52],[15,53,15,54],[15,56,15,57],[16,1,16,2],[16,7,16,9],[16,14,16,16],[16,18,16,21],[16,23,16,25],[16,27,16,29],[16,31,16,32],[16,34,16,37],[16,39,16,42],[16,43,16,46],[16,48,16,49],[16,51,16,52],[16,53,16,54],[16,56,16,57],[17,1,17,2],[17,7,17,9],[17,14,17,16],[17,18,17,21],[17,23,17,25],[17,27,17,29],[17,31,17,32],[17,34,17,37],[17,39,17,42],[17,43,17,46],[17,48,17,49],[17,51,17,52],[17,53,17,54],[17,56,17,57],[18,1,18,2],[18,7,18,9],[18,14,18,16],[18,18,18,21],[18,23,18,25],[18,27,18,29],[18,31,18,32],[18,34,18,37],[18,39,18,42],[18,43,18,46],[18,48,18,49],[18,51,18,52],[18,53,18,54],[18,56,18,57],[19,1,19,2],[19,7,19,9],[19,14,19,16],[19,18,19,21],[19,23,19,25],[19,27,19,29],[19,31,19,32],[19,34,19,37],[19,39,19,42],[19,43,19,46],[19,48,19,49],[19,51,19,52],[19,53,19,54],[19,56,19,57],[20,1,20,2],[20,7,20,9],[20,14,20,16],[20,18,20,21],[20,23,20,25],[20,27,20,29],[20,31,20,32],[20,34,20,37],[20,39,20,42],[20,43,20,46],[20,48,20,49],[20,51,20,52],[20,53,20,54],[20,56,20,57],[21,1,21,2],[21,7,21,9],[21,14,21,16],[21,18,21,21],[21,23,21,25],[21,27,21,29],[21,31,21,32],[21,34,21,37],[21,39,21,42],[21,43,21,46],[21,48,21,49],[21,51,21,52],[21,53,21,54],[21,56,21,57],[22,1,22,2],[22,7,22,9],[22,14,22,16],[22,18,22,21],[22,23,22,25],[22,27,22,29],[22,31,22,32],[22,34,22,37],[22,39,22,42],[22,43,22,46],[22,48,22,49],[22,51,22,52],[22,53,22,54],[22,56,22,57],[23,1,23,2],[23,7,23,9],[23,14,23,16],[23,18,23,21],[23,23,23,25],[23,27,23,29],[23,31,23,32],[23,34,23,37],[23,39,23,42],[23,43,23,46],[23,48,23,49],[23,51,23,52],[23,53,23,54],[23,56,23,57],[24,1,24,2],[24,7,24,9],[24,14,24,16],[24,18,24,21],[24,23,24,25],[24,27,24,29],[24,31,24,32],[24,34,24,37],[24,39,24,42],[24,43,24,46],[24,48,24,49],[24,51,24,52],[24,53,24,54],[24,56,24,57],[25,1,25,2],[25,7,25,9],[25,14,25,16],[25,18,25,21],[25,23,25,25],[25,27,25,29],[25,31,25,32],[25,34,25,37],[25,39,25,42],[25,43,25,46],[25,48,25,49],[25,51,25,52],[25,53,25,54],[25,56,25,57],[26,1,26,2],[26,7,26,9],[26,14,26,16],[26,18,26,21],[26,23,26,25],[26,27,26,29],[26,31,26,32],[26,34,26,37],[26,39,26,42],[26,43,26,46],[26,48,26,49],[26,51,26,52],[26,53,26,54],[26,56,26,57],[27,1,27,2],[27,7,27,9],[27,14,27,16],[27,18,27,21],[27,23,27,25],[27,27,27,29],[27,31,27,32],[27,34,27,37],[27,39,27,42],[27,43,27,46],[27,48,27,49],[27,51,27,52],[27,53,27,54],[27,56,27,57],[28,1,28,2],[28,7,28,9],[28,14,28,16],[28,18,28,21],[28,23,28,25],[28,27,28,29],[28,31,28,32],[28,34,28,37],[28,39,28,42],[28,43,28,46],[28,48,28,49],[28,51,28,52],[28,53,28,54],[28,56,28,57],[29,1,29,2],[29,7,29,9],[29,14,29,16],[29,18,29,21],[29,23,29,25],[29,27,29,29],[29,31,29,32],[29,34,29,37],[29,39,29,42],[29,43,29,46],[29,48,29,49],[29,51,29,52],[29,53,29,54],[29,56,29,57],[30,1,30,2],[30,7,30,9],[30,14,30,16],[30,18,30,21],[30,23,30,25],[30,27,30,29],[30,31,30,32],[30,34,30,37],[30,39,30,42],[30,43,30,46],[30,48,30,49],[30,51,30,52],[30,53,30,54],[30,56,30,57],[31,1,31,2],[31,7,31,9],[31,14,31,16],[31,18,31,21],[31,23,31,25],[31,27,31,29],[31,31,31,32],[31,34,31,37],[31,39,31,42],[31,43,31,46],[31,48,31,49],[31,51,31,52],[31,53,31,54],[31,56,31,57],[32,1,32,2],[32,7,32,9],[32,14,32,16],[32,18,32,21],[32,23,32,25],[32,27,32,29],[32,31,32,32],[32,34,32,37],[32,39,32,42],[32,43,32,46],[32,48,32,49],[32,51,32,52],[32,53,32,54],[32,56,32,57],[33,1,33,2],[33,7,33,9],[33,14,33,16],[33,18,33,21],[33,23,33,25],[33,27,33,29],[33,31,33,32],[33,34,33,37],[33,39,33,42],[33,43,33,46],[33,48,33,49],[33,51,33,52],[33,53,33,54],[33,56,33,57],[34,1,34,2],[34,7,34,9],[34,14,34,16],[34,18,34,21],[34,23,34,25],[34,27,34,29],[34,31,34,32],[34,34,34,37],[34,39,34,42],[34,43,34,46],[34,48,34,49],[34,51,34,52],[34,53,34,54],[34,56,34,57],[35,1,35,2],[35,7,35,9],[35,14,35,16],[35,18,35,21],[35,23,35,25],[35,27,35,29],[35,31,35,32],[35,34,35,37],[35,39,35,42],[35,43,35,46],[35,48,35,49],[35,51,35,52],[35,53,35,54],[35,56,35,57],[36,1,36,2],[36,7,36,9],[36,14,36,16],[36,18,36,21],[36,23,36,25],[36,27,36,29],[36,31,36,32],[36,34,36,37],[36,39,36,42],[36,43,36,46],[36,48,36,49],[36,51,36,52],[36,53,36,54],[36,56,36,57],[37,1,37,2],[37,7,37,9],[37,14,37,16],[37,18,37,21],[37,23,37,25],[37,27,37,29],[37,31,37,32],[37,34,37,37],[37,39,37,42],[37,43,37,46],[37,48,37,49],[37,51,37,52],[37,53,37,54],[37,56,37,57],[38,1,38,2],[38,7,38,9],[38,14,38,16],[38,18,38,21],[38,23,38,25],[38,27,38,29],[38,31,38,32],[38,34,38,37],[38,39,38,42],[38,43,38,46],[38,48,38,49],[38,51,38,52],[38,53,38,54],[38,56,38,57],[39,1,39,2],[39,7,39,9],[39,14,39,16],[39,18,39,21],[39,23,39,25],[39,27,39,29],[39,31,39,32],[39,34,39,37],[39,39,39,42],[39,43,39,46],[39,48,39,49],[39,51,39,52],[39,53,39,54],[39,56,39,57],[40,1,40,2],[40,7,40,9],[40,14,40,16],[40,18,40,21],[40,23,40,25],[40,27,40,29],[40,31,40,32],[40,34,40,37],[40,39,40,42],[40,43,40,46],[40,48,40,49],[40,51,40,52],[40,53,40,54],[40,56,40,57],[41,7,41,9],[41,14,41,16],[41,18,41,21],[41,23,41,25],[41,27,41,29],[41,31,41,32],[41,34,41,37],[41,39,41,42],[41,43,41,46],[41,48,41,49],[41,51,41,52],[41,53,41,54],[41,56,41,57],[42,7,42,9],[42,14,42,16],[42,18,42,21],[42,23,42,25],[42,27,42,29],[42,31,42,32],[42,34,42,37],[42,39,42,42],[42,43,42,46],[42,48,42,49],[42,51,42,52],[42,53,42,54],[42,56,42,57],[43,7,43,9],[43,14,43,16],[43,18,43,21],[43,23,43,25],[43,27,43,29],[43,31,43,32],[43,34,43,37],[43,39,43,42],[43,43,43,46],[43,48,43,49],[43,51,43,52],[43,53,43,54],[43,56,43,57],[44,7,44,9],[44,14,44,16],[44,18,44,21],[44,23,44,25],[44,27,44,29],[44,31,44,32],[44,34,44,37],[44,39,44,42],[44,43,44,46],[44,48,44,49],[44,51,44,52],[44,53,44,54],[44,56,44,57],[45,7,45,9],[45,14,45,16],[45,18,45,21],[45,23,45,25],[45,27,45,29],[45,31,45,32],[45,34,45,37],[45,39,45,42],[45,43,45,46],[45,48,45,49],[45,51,45,52],[45,53,45,54],[45,56,45,57],[46,7,46,9],[46,14,46,16],[46,18,46,21],[46,23,46,25],[46,27,46,29],[46,31,46,32],[46,34,46,37],[46,39,46,42],[46,43,46,46],[46,48,46,49],[46,51,46,52],[46,53,46,54],[46,56,46,57],[47,7,47,9],[47,14,47,16],[47,18,47,21],[47,23,47,25],[47,27,47,29],[47,31,47,32],[47,34,47,37],[47,39,47,42],[47,43,47,46],[47,48,47,49],[47,51,47,52],[47,53,47,54],[47,56,47,57],[48,7,48,9],[48,14,48,16],[48,18,48,21],[48,23,48,25],[48,27,48,29],[48,31,48,32],[48,34,48,37],[48,39,48,42],[48,43,48,46],[48,48,48,49],[48,51,48,52],[48,53,48,54],[48,56,48,57],[49,7,49,9],[49,14,49,16],[49,18,49,21],[49,23,49,25],[49,27,49,29],[49,31,49,32],[49,34,49,37],[49,39,49,42],[49,43,49,46],[49,48,49,49],[49,51,49,52],[49,53,49,54],[49,56,49,57],[50,1,50,2],[50,7,50,9],[50,14,50,16],[50,18,50,21],[50,23,50,25],[50,27,50,29],[50,31,50,32],[50,34,50,37],[50,39,50,42],[50,43,50,46],[50,48,50,49],[50,51,50,52],[50,53,50,54],[50,56,50,57],[51,1,51,2],[51,7,51,9],[51,14,51,16],[51,18,51,21],[51,23,51,25],[51,27,51,29],[51,31,51,32],[51,34,51,37],[51,39,51,42],[51,43,51,46],[51,48,51,49],[51,51,51,52],[51,53,51,54],[51,56,51,57],[52,7,52,9],[52,14,52,16],[52,18,52,21],[52,23,52,25],[52,27,52,29],[52,31,52,32],[52,34,52,37],[52,39,52,42],[52,43,52,46],[52,48,52,49],[52,51,52,52],[52,53,52,54],[52,56,52,57],[53,7,53,9],[53,14,53,16],[53,18,53,21],[53,23,53,25],[53,27,53,29],[53,31,53,32],[53,34,53,37],[53,39,53,42],[53,43,53,46],[53,48,53,49],[53,51,53,52],[53,53,53,54],[53,56,53,57],[54,1,54,2],[54,7,54,9],[54,14,54,16],[54,18,54,21],[54,23,54,25],[54,27,54,29],[54,31,54,32],[54,34,54,37],[54,39,54,42],[54,43,54,46],[54,48,54,49],[54,51,54,52],[54,53,54,54],[54,56,54,57],[55,1,55,2],[55,7,55,9],[55,14,55,16],[55,18,55,21],[55,23,55,25],[55,27,55,29],[55,31,55,32],[55,34,55,37],[55,39,55,42],[55,43,55,46],[55,48,55,49],[55,51,55,52],[55,53,55,54],[55,56,55,57],[56,7,56,9],[57,39,60,57]]}
[]
[{"$nulls":57},"別記第１号様式"]
[]
[]
[null,"建　築　物　概　要　書"]
[]
[]
[]
[{"$nulls":36},"建築物名称","（",{"$f":"報告書!N55","v":0},{"$nulls":18},"）"]
[null,"階　数",{"$nulls":5},"階別床\n面積(㎡)",{"$nulls":5},"用　　　　　　途",{"$nulls":34},"換気上の",{"$nulls":4},"機械排煙"]
[{"$nulls":48},"無窓居室",{"$nulls":4},"設　備"]
[{"$nulls":3},"階",{"$nulls":10},"事務所",null,null,"・","物品販売",{"$nulls":3},"・","飲食店",null,null,"・","ホテル",null,null,"・","病院",null,"・","共同住宅",{"$nulls":3},"・","その他（",{"$nulls":7},"）","有",null,"･","無",null,"有",null,"･","無"]
[{"$nulls":3},"階",{"$nulls":10},"事務所",null,null,"・","物品販売",{"$nulls":3},"・","飲食店",null,null,"・","ホテル",null,null,"・","病院",null,"・","共同住宅",{"$nulls":3},"・","その他（",{"$nulls":7},"）","有",null,"･","無",null,"有",null,"･","無"]
[{"$nulls":3},"階",{"$nulls":10},"事務所",null,null,"・","物品販売",{"$nulls":3},"・","飲食店",null,null,"・","ホテル",null,null,"・","病院",null,"・","共同住宅",{"$nulls":3},"・","その他（",{"$nulls":7},"）","有",null,"･","無",null,"有",null,"･","無"]
[{"$nulls":3},"階",{"$nulls":10},"事務所",null,null,"・","物品販売",{"$nulls":3},"・","飲食店",null,null,"・","ホテル",null,null,"・","病院",null,"・","共同住宅",{"$nulls":3},"・","その他（",{"$nulls":7},"）","有",null,"･","無",null,"有",null,"･","無"]
[{"$nulls":3},"階",{"$nulls":10},"事務所",null,null,"・","物品販売",{"$nulls":3},"・","飲食店",null,null,"・","ホテル",null,null,"・","病院",null,"・","共同住宅",{"$nulls":3},"・","その他（",{"$nulls":7},"）","有",null,"･","無",null,"有",null,"･","無"]
[{"$nulls":3},"階",{"$nulls":10},"事務所",null,null,"・","物品販売",{"$nulls":3},"・","飲食店",null,null,"・","ホテル",null,null,"・","病院",null,"・","共同住宅",{"$nulls":3},"・","その他（",{"$nulls":7},"）","有",null,"･","無",null,"有",null,"･","無"]
[{"$nulls":3},"階",{"$nulls":10},"事務所",null,null,"・","物品販売",{"$nulls":3},"・","飲食店",null,null,"・","ホテル",null,null,"・","病院",null,"・","共同住宅",{"$nulls":3},"・","その他（",{"$nulls":7},"）","有",null,"･","無",null,"有",null,"･","無"]
[{"$nulls":3},"階",{"$nulls":10},"事務所",null,null,"・","物品販売",{"$nulls":3},"・","飲食店",null,null,"・","ホテル",null,null,"・","病院",null,"・","共同住宅",{"$nulls":3},"・","その他（",{"$nulls":7},"）","有",null,"･","無",null,"有",null,"･","無"]
[{"$nulls":3},"階",{"$nulls":10},"事務所",null,null,"・","物品販売",{"$nulls":3},"・","飲食店",null,null,"・","ホテル",null,null,"・","病院",null,"・","共同住宅",{"$nulls":3},"・","その他（",{"$nulls":7},"）","有",null,"･","無",null,"有",null,"･","無"]
[{"$nulls":3},"階",{"$nulls":10},"事務所",null,null,"・","物品販売",{"$nulls":3},"・","飲食店",null,null,"・","ホテル",null,null,"・","病院",null,"・","共同住宅",{"$nulls":3},"・","その他（",{"$nulls":7},"）","有",null,"･","無",null,"有",null,"･","無"]
[{"$nulls":3},"階",{"$nulls":10},"事務所",null,null,"・","物品販売",{"$nulls":3},"・","飲食店",null,null,"・","ホテル",null,null,"・","病院",null,"・","共同住宅",{"$nulls":3},"・","その他（",{"$nulls":7},"）","有",null,"･","無",null,"有",null,"･","無"]
[{"$nulls":3},"階",{"$nulls":10},"事務所",null,null,"・","物品販売",{"$nulls":3},"・","飲食店",null,null,"・","ホテル",null,null,"・","病院",null,"・","共同住宅",{"$nulls":3},"・","その他（",{"$nulls":7},"）","有",null,"･","無",null,"有",null,"･","無"]
[{"$nulls":3},"階",{"$nulls":10},"事務所",null,null,"・","物品販売",{"$nulls":3},"・","飲食店",null,null,"・","ホテル",null,null,"・","病院",null,"・","共同住宅",{"$nulls":3},"・","その他（",{"$nulls":7},"）","有",null,"･","無",null,"有",null,"･","無"]
[{"$nulls":3},"階",{"$nulls":10},"事務所",null,null,"・","物品販売",{"$nulls":3},"・","飲食店",null,null,"・","ホテル",null,null,"・","病院",null,"・","共同住宅",{"$nulls":3},"・","その他（",{"$nulls":7},"）","有",null,"･","無",null,"有",null,"･","無"]
[{"$nulls":3},"階",{"$nulls":10},"事務所",null,null,"・","物品販売",{"$nulls":3},"・","飲食店",null,null,"・","ホテル",null,null,"・","病院",null,"・","共同住宅",{"$nulls":3},"・","その他（",{"$nulls":7},"）","有",null,"･","無",null,"有",null,"･","無"]
[{"$nulls":3},"階",{"$nulls":10},"事務所",null,null,"・","物品販売",{"$nulls":3},"・","飲食店",null,null,"・","ホテル",null,null,"・","病院",null,"・","共同住宅",{"$nulls":3},"・","その他（",{"$nulls":7},"）","有",null,"･","無",null,"有",null,"･","無"]
[{"$nulls":3},"階",{"$nulls":10},"事務所",null,null,"・","物品販売",{"$nulls":3},"・","飲食店",null,null,"・","ホテル",null,null,"・","病院",null,"・","共同住宅",{"$nulls":3},"・","その他（",{"$nulls":7},"）","有",null,"･","無",null,"有",null,"･","無"]
[{"$nulls":3},"階",{"$nulls":10},"事務所",null,null,"・","物品販売",{"$nulls":3},"・","飲食店",null,null,"・","ホテル",null,null,"・","病院",null,"・","共同住宅",{"$nulls":3},"・","その他（",{"$nulls":7},"）","有",null,"･","無",null,"有",null,"･","無"]
[{"$nulls":3},"階",{"$nulls":10},"事務所",null,null,"・","物品販売",{"$nulls":3},"・","飲食店",null,null,"・","ホテル",null,null,"・","病院",null,"・","共同住宅",{"$nulls":3},"・","その他（",{"$nulls":7},"）","有",null,"･","無",null,"有",null,"･","無"]
[{"$nulls":3},"階",{"$nulls":10},"事務所",null,null,"・","物品販売",{"$nulls":3},"・","飲食店",null,null,"・","ホテル",null,null,"・","病院",null,"・","共同住宅",{"$nulls":3},"・","その他（",{"$nulls":7},"）","有",null,"･","無",null,"有",null,"･","無"]
[{"$nulls":3},"階",{"$nulls":10},"事務所",null,null,"・","物品販売",{"$nulls":3},"・","飲食店",null,null,"・","ホテル",null,null,"・","病院",null,"・","共同住宅",{"$nulls":3},"・","その他（",{"$nulls":7},"）","有",null,"･","無",null,"有",null,"･","無"]
[{"$nulls":3},"階",{"$nulls":10},"事務所",null,null,"・","物品販売",{"$nulls":3},"・","飲食店",null,null,"・","ホテル",null,null,"・","病院",null,"・","共同住宅",{"$nulls":3},"・","その他（",{"$nulls":7},"）","有",null,"･","無",null,"有",null,"･","無"]
[{"$nulls":3},"階",{"$nulls":10},"事務所",null,null,"・","物品販売",{"$nulls":3},"・","飲食店",null,null,"・","ホテル",null,null,"・","病院",null,"・","共同住宅",{"$nulls":3},"・","その他（",{"$nulls":7},"）","有",null,"･","無",null,"有",null,"･","無"]
[{"$nulls":3},"階",{"$nulls":10},"事務所",null,null,"・","物品販売",{"$nulls":3},"・","飲食店",null,null,"・","ホテル",null,null,"・","病院",null,"・","共同住宅",{"$nulls":3},"・","その他（",{"$nulls":7},"）","有",null,"･","無",null,"有",null,"･","無"]
[{"$nulls":3},"階",{"$nulls":10},"事務所",null,null,"・","物品販売",{"$nulls":3},"・","飲食店",null,null,"・","ホテル",null,null,"・","病院",null,"・","共同住宅",{"$nulls":3},"・","その他（",{"$nulls":7},"）","有",null,"･","無",null,"有",null,"･","無"]
[{"$nulls":3},"階",{"$nulls":10},"事務所",null,null,"・","物品販売",{"$nulls":3},"・","飲食店",null,null,"・","ホテル",null,null,"・","病院",null,"・","共同住宅",{"$nulls":3},"・","その他（",{"$nulls":7},"）","有",null,"･","無",null,"有",null,"･","無"]
[{"$nulls":3},"階",{"$nulls":10},"事務所",null,null,"・","物品販売",{"$nulls":3},"・","飲食店",null,null,"・","ホテル",null,null,"・","病院",null,"・","共同住宅",{"$nulls":3},"・","その他（",{"$nulls":7},"）","有",null,"･","無",null,"有",null,"･","無"]
[{"$nulls":3},"階",{"$nulls":10},"事務所",null,null,"・","物品販売",{"$nulls":3},"・","飲食店",null,null,"・","ホテル",null,null,"・","病院",null,"・","共同住宅",{"$nulls":3},"・","その他（",{"$nulls":7},"）","有",null,"･","無",null,"有",null,"･","無"]
[{"$nulls":3},"階",{"$nulls":10},"事務所",null,null,"・","物品販売",{"$nulls":3},"・","飲食店",null,null,"・","ホテル",null,null,"・","病院",null,"・","共同住宅",{"$nulls":3},"・","その他（",{"$nulls":7},"）","有",null,"･","無",null,"有",null,"･","無"]
[{"$nulls":3},"階",{"$nulls":10},"事務所",null,null,"・","物品販売",{"$nulls":3},"・","飲食店",null,null,"・","ホテル",null,null,"・","病院",null,"・","共同住宅",{"$nulls":3},"・","その他（",{"$nulls":7},"）","有",null,"･","無",null,"有",null,"･","無"]
[{"$nulls":3},"階",{"$f":"IF(AND(報告書!$P$101=\"\",報告書!$X$101=\"\"),\"\",IF(報告書!$P$101>10,\"\",IF(報告書!$P$101=10,\"\",\"―\")))","v":""},{"$nulls":9},"事務所",null,null,"・","物品販売",{"$nulls":3},"・","飲食店",null,null,"・","ホテル",null,null,"・","病院",null,"・","共同住宅",{"$nulls":3},"・","その他（",{"$nulls":7},"）","有",null,"･","無",null,"有",null,"･","無"]
[{"$nulls":3},"階",{"$f":"IF(AND(報告書!$P$101=\"\",報告書!$X$101=\"\"),\"\",IF(報告書!$P$101>9,\"\",IF(報告書!$P$101=9,\"\",\"―\")))","v":""},{"$nulls":9},"事務所",null,null,"・","物品販売",{"$nulls":3},"・","飲食店",null,null,"・","ホテル",null,null,"・","病院",null,"・","共同住宅",{"$nulls":3},"・","その他（",{"$nulls":7},"）","有",null,"･","無",null,"有",null,"･","無"]
[null,null,{"$f":"E44","v":""},"階",{"$f":"IF(AND(報告書!$P$101=\"\",報告書!$X$101=\"\"),\"\",IF(報告書!$P$101>8,\"\",IF(報告書!$P$101=8,\"\",\"―\")))","v":""},{"$nulls":9},"事務所",null,null,"・","物品販売",{"$nulls":3},"・","飲食店",null,null,"・","ホテル",null,null,"・","病院",null,"・","共同住宅",{"$nulls":3},"・","その他（",{"$nulls":7},"）","有",null,"･","無",null,"有",null,"･","無"]
[null,null,"","階",{"$f":"IF(AND(報告書!$P$101=\"\",報告書!$X$101=\"\"),\"\",IF(報告書!$P$101>7,\"\",IF(報告書!$P$101=7,\"\",\"―\")))","v":""},{"$nulls":9},"事務所",null,null,"・","物品販売",{"$nulls":3},"・","飲食店",null,null,"・","ホテル",null,null,"・","病院",null,"・","共同住宅",{"$nulls":3},"・","その他（",{"$nulls":7},"）","有",null,"･","無",null,"有",null,"･","無"]
[null,null,"","階",{"$f":"IF(AND(報告書!$P$101=\"\",報告書!$X$101=\"\"),\"\",IF(報告書!$P$101>6,\"\",IF(報告書!$P$101=6,\"\",\"―\")))","v":""},{"$nulls":9},"事務所",null,null,"・","物品販売",{"$nulls":3},"・","飲食店",null,null,"・","ホテル",null,null,"・","病院",null,"・","共同住宅",{"$nulls":3},"・","その他（",{"$nulls":7},"）","有",null,"･","無",null,"有",null,"･","無"]
[null,null,"","階",{"$f":"IF(AND(報告書!$P$101=\"\",報告書!$X$101=\"\"),\"\",IF(報告書!$P$101>5,\"\",IF(報告書!$P$101=5,\"\",\"―\")))","v":""},{"$nulls":9},"事務所",null,null,"・","物品販売",{"$nulls":3},"・","飲食店",null,null,"・","ホテル",null,null,"・","病院",null,"・","共同住宅",{"$nulls":3},"・","その他（",{"$nulls":7},"）","有",null,"･","無",null,"有",null,"･","無"]
[null,null,"","階",{"$f":"IF(AND(報告書!$P$101=\"\",報告書!$X$101=\"\"),\"\",IF(報告書!$P$101>4,\"\",IF(報告書!$P$101=4,\"\",\"―\")))","v":""},{"$nulls":9},"事務所",null,null,"・","物品販売",{"$nulls":3},"・","飲食店",null,null,"・","ホテル",null,null,"・","病院",null,"・","共同住宅",{"$nulls":3},"・","その他（",{"$nulls":7},"）","有",null,"･","無",null,"有",null,"･","無"]
[null,null,"","階",{"$f":"IF(AND(報告書!$P$101=\"\",報告書!$X$101=\"\"),\"\",IF(報告書!$P$101>3,\"\",IF(報告書!$P$101=3,\"\",\"―\")))","v":""},{"$nulls":9},"事務所",null,null,"・","物品販売",{"$nulls":3},"・","飲食店",null,null,"・","ホテル",null,null,"・","病院",null,"・","共同住宅",{"$nulls":3},"・","その他（",{"$nulls":7},"）","有",null,"･","無",null,"有",null,"･","無"]
[{"$nulls":3},"階",{"$f":"IF(AND(報告書!$P$101=\"\",報告書!$X$101=\"\"),\"\",IF(報告書!$P$101>2,\"\",IF(報告書!$P$101=2,\"\",\"―\")))","v":""},{"$nulls":9},"事務所",null,null,"・","物品販売",{"$nulls":3},"・","飲食店",null,null,"・","ホテル",null,null,"・","病院",null,"・","共同住宅",{"$nulls":3},"・","その他（",{"$nulls":7},"）","有",null,"･","無",null,"有",null,"･","無"]
[{"$nulls":3},"階",{"$f":"IF(AND(報告書!$P$101=\"\",報告書!$X$101=\"\"),\"\",IF(報告書!$P$101>1,\"\",IF(報告書!$P$101=1,\"\",\"―――\")))","v":""},{"$nulls":9},"事務所",null,null,"・","物品販売",{"$nulls":3},"・","飲食店",null,null,"・","ホテル",null,null,"・","病院",null,"・","共同住宅",{"$nulls":3},"・","その他（",{"$nulls":7},"）","有",null,"･","無",null,"有",null,"･","無"]
[{"$nulls":3},"階",{"$f":"IF(AND(報告書!$P$101=\"\",報告書!$X$101=\"\"),\"\",IF(報告書!$X$101>1,\"\",IF(報告書!$X$101=1,\"\",\"―――\")))","v":""},{"$nulls":9},"事務所",null,null,"・","物品販売",{"$nulls":3},"・","飲食店",null,null,"・","ホテル",null,null,"・","病院",null,"・","共同住宅",{"$nulls":3},"・","その他（",{"$nulls":7},"）","有",null,"･","無",null,"有",null,"･","無"]
[{"$nulls":3},"階",{"$f":"IF(AND(報告書!$P$101=\"\",報告書!$X$101=\"\"),\"\",IF(報告書!$X$101>2,\"\",IF(報告書!$X$101=2,\"\",\"―\")))","v":""},{"$nulls":9},"事務所",null,null,"・","物品販売",{"$nulls":3},"・","飲食店",null,null,"・","ホテル",null,null,"・","病院",null,"・","共同住宅",{"$nulls":3},"・","その他（",{"$nulls":7},"）","有",null,"･","無",null,"有",null,"･","無"]
[{"$nulls":3},"階",{"$f":"IF(AND(報告書!$P$101=\"\",報告書!$X$101=\"\"),\"\",IF(報告書!$X$101>3,\"\",IF(報告書!$X$101=3,\"\",\"―\")))","v":""},{"$nulls":9},"事務所",null,null,"・","物品販売",{"$nulls":3},"・","飲食店",null,null,"・","ホテル",null,null,"・","病院",null,"・","共同住宅",{"$nulls":3},"・","その他（",{"$nulls":7},"）","有",null,"･","無",null,"有",null,"･","無"]
[{"$nulls":3},"階",{"$nulls":10},"事務所",null,null,"・","物品販売",{"$nulls":3},"・","飲食店",null,null,"・","ホテル",null,null,"・","病院",null,"・","共同住宅",{"$nulls":3},"・","その他（",{"$nulls":7},"）","有",null,"･","無",null,"有",null,"･","無"]
[{"$nulls":3},"階",{"$nulls":10},"事務所",null,null,"・","物品販売",{"$nulls":3},"・","飲食店",null,null,"・","ホテル",null,null,"・","病院",null,"・","共同住宅",{"$nulls":3},"・","その他（",{"$nulls":7},"）","有",null,"･","無",null,"有",null,"･","無"]
[null,"(注）",{"$nulls":5},{"$f":"IF(SUM(H12:J56)=0,\"\",SUM(H12:J56))","v":""},{"$nulls":31},"建築物の概要に関する補足事項等"]
[null,null,"１","物品販売とは、百貨店、マーケット又は物品販売業を営む店舗をいう。"]
[null,null,"２","ホテルとは、旅館又はホテルをいう。"]
[null,null,"３","病院とは、病院又は診療所（患者の収容施設があるものに限る。）をいう。"]

{"sheet":"換気検査結果表","index":3,"n_rows":125,"n_cols":25,"rows_kept":125,"merged":[[1,2,1,14],[2,2,2,14],[7,2,10,3],[7,7,7,12],[7,13,7,14],[8,7,8,12],[8,13,8,14],[9,6,10,6],[9,7,9,12],[9,13,9,14],[10,7,10,12],[10,13,10,14],[11,2,11,14],[12,2,12,14],[13,2,13,14],[14,2,14,14],[15,2,17,2],[15,3,17,8],[15,10,17,10],[15,11,15,13],[15,14,17,14],[16,11,17,11],[23,3,23,13],[24,3,33,3],[24,6,31,6],[24,7,24,8],[25,7,25,8],[26,7,26,8],[27,7,27,8],[28,7,28,8],[29,7,29,8],[30,7,30,8],[31,7,31,8],[32,6,33,6],[32,7,32,8],[33,7,33,8],[34,3,44,3],[34,6,38,6],[34,7,34,8],[35,7,35,8],[36,7,36,8],[37,7,37,8],[38,7,38,8],[39,6,44,6],[39,7,39,8],[40,7,40,8],[41,7,41,8],[42,7,42,8],[43,7,43,8],[44,7,44,8],[45,7,45,8],[46,7,46,8],[52,3,52,13],[53,3,60,3],[53,6,53,8],[54,6,54,8],[55,6,55,8],[56,6,56,8],[57,6,57,8],[58,6,58,8],[59,6,59,8],[60,6,60,8],[61,6,61,8],[62,3,65,3],[62,6,62,8],[63,6,63,8],[64,6,64,8],[65,6,65,8],[70,3,70,13],[71,3,79,3],[71,6,71,8],[72,6,72,8],[73,6,73,8],[74,6,74,8],[75,6,75,8],[76,6,76,8],[77,6,77,8],[78,6,78,8],[79,6,79,8],[85,3,85,14],[86,3,86,8],[87,3,87,8],[88,3,88,8],[89,3,89,8],[90,3,90,8],[91,3,91,8],[92,3,92,8],[93,3,93,8],[94,3,94,8],[95,3,95,8],[96,2,96,6],[97,3,97,6],[97,8,97,13],[98,3,98,6],[98,8,98,13],[99,3,99,6],[99,8,99,13],[100,3,100,6],[100,8,100,13],[101,3,101,6],[101,8,101,13],[102,3,102,6],[102,8,102,13],[103,3,103,6],[103,8,103,13],[104,3,104,6],[104,8,104,13],[105,3,105,6],[105,8,105,13],[106,3,106,6],[106,8,106,13],[107,3,107,6],[107,8,107,13],[108,2,108,14],[109,2,109,14],[110,3,110,14],[111,3,111,14],[112,3,112,14],[113,3,113,14],[114,3,114,14],[115,3,115,14],[116,3,116,14],[117,3,117,14],[118,3,118,14],[119,3,119,14],[120,3,120,14],[121,3,121,14],[122,3,122,14],[123,3,123,14],[124,3,124,14]]}
[null,null,"別記第一号（Ａ４）"]
[null,null,"検査結果表"]
[null,null,"（換気設備）"]
[]
[]
[]
[]
[null,null,"当該検査に関与した検査者",{"$nulls":4},"　　氏　名",{"$nulls":5},"検査者番号"]
[{"$nulls":6},"代表となる検査者",{"$f":"報告_2_04換検査者代表_ハ_氏名","v":0}]
[{"$nulls":6},"その他の検査者",{"$f":"報告_2_04換検査者他1_ハ_氏名","v":0}]
[{"$nulls":7},{"$f":"報告_2_04換検査者他2_ハ_氏名","v":0}]
[]
[]
[]
[]
[null,null,"番号","検　査　項　目　等",{"$nulls":7},"検査結果",null,null,"担当\n検査者\n番号"]
[{"$nulls":11},"指摘\nなし","要是正"]
[{"$nulls":13},"既　存\n不適格"]
[]
[]
[]
[]
[]
[null,null,1,"法第28条第2項又は第3項に基づき換気設備が設けられた居室（換気設備を設けるべき調理室等を除く。）"]
[null,null,"(1)","機械換気設備",null,null,"機械換気設備（中央管理方式の空気調和設備を含む。）の外観","給気機の外気取り入れ口並びに直接外気に開放された給気口及び排気口への雨水等の防止措置の状況"]
[null,null,"(2)",{"$nulls":4},"給気機の外気取り入れ口及び排気機の排気口の取付けの状況",{"$nulls":16},{"$f":"IF(ISBLANK(N9),\"\",\"〃\")","v":""}]
[null,null,"(3)",{"$nulls":4},"各居室の給気口及び排気口の設置位置",{"$nulls":16},{"$f":"IF(ISBLANK(N9),\"\",N9)","v":""}]
[null,null,"(4)",{"$nulls":4},"各居室の給気口及び排気口の取付けの状況",{"$nulls":15},{"$f":"IF(Y28=\"\",\"\",\"・\")","v":""},{"$f":"IF(ISBLANK(N10),\"\",N10)","v":""}]
[null,null,"(5)",{"$nulls":4},"風道の取付けの状況",{"$nulls":15},{"$f":"IF(Y29=\"\",\"\",\"・\")","v":""},{"$f":"IF(ISBLANK(N10),\"\",IF(ISBLANK(N11),Y27&X28&Y28,IF(Y28=\"\",\"\",N11)))","v":""}]
[null,null,"(6)",{"$nulls":4},"風道の材質",{"$nulls":16},{"$f":"IF(ISBLANK(N11),\"\",Y27&X28&Y28)","v":""}]
[null,null,"(7)",{"$nulls":4},"給気機又は排気機の設置の状況",{"$nulls":16},{"$f":"IF(Y30=\"\",\"\",Y27&X29&Y29)","v":""}]
[null,null,"(8)",{"$nulls":4},"換気扇による換気の状況",{"$nulls":16},{"$f":"IF(Y30=\"\",\"\",Y28&X29&Y29)","v":""}]
[null,null,"(9)",{"$nulls":3},"機械換気設備（中央管理方式の空気調和設備を含む。）の性能","各居室の換気量",{"$nulls":16},{"$f":"IF(Y30=\"\",\"\",Y30&X29&Y29)","v":""}]
[null,null,"(10)",{"$nulls":4},"中央管理室における制御及び作動状態の監視の状況"]
[null,null,"(11)","中央管理方式の空気調和設備",null,null,"空気調和設備の主要機器及び配管の外観","空気調和設備の設置の状況"]
[null,null,"(12)",{"$nulls":4},"空気調和設備及び配管の劣化及び損傷の状況"]
[null,null,"(13)",{"$nulls":4},"空気調和設備の運転の状況"]
[null,null,"(14)",{"$nulls":4},"空気ろ過器の点検口"]
[null,null,"(15)",{"$nulls":4},"冷却塔と建築物の他の部分との離隔距離"]
[null,null,"(16)",{"$nulls":3},"空気調和設備の性能","各居室の温度"]
[null,null,"(17)",{"$nulls":4},"各居室の相対湿度"]
[null,null,"(18)",{"$nulls":4},"各居室の浮遊粉じん量"]
[null,null,"(19)",{"$nulls":4},"各居室の一酸化炭素含有率"]
[null,null,"(20)",{"$nulls":4},"各居室の二酸化炭素含有率"]
[null,null,"(21)",{"$nulls":4},"各居室の気流"]
[null,null,"(22)",{"$nulls":4},"各室の気流"]
[null,null,"(23)",{"$nulls":4},"各室の吹き出し空気の分配の状況"]
[]
[]
[]
[]
[]
[null,null,2,"換気設備を設けるべき調理室等"]
[null,null,"(1)","自然換気設備及び機械換気設備",null,null,"排気筒、排気フード及び煙突の材質"]
[null,null,"(2)",{"$nulls":3},"排気筒、排気フード及び煙突の取付けの状況"]
[null,null,"(3)",{"$nulls":3},"給気口、給気筒、排気口、排気筒、排気フード及び煙突の大きさ"]
[null,null,"(4)",{"$nulls":3},"給気口、排気口及び排気フードの位置"]
[null,null,"(5)",{"$nulls":3},"給気口、給気筒、排気口、排気筒、排気フード及び煙突の設置の状況"]
[null,null,"(6)",{"$nulls":3},"排気筒及び煙突の断熱の状況"]
[null,null,"(7)",{"$nulls":3},"排気筒及び煙突と可燃物、電線等との離隔距離"]
[null,null,"(8)",{"$nulls":3},"煙突等への防火ダンパー、風道等の設置の状況"]
[null,null,"(9)","自然換気設備　　　　　　　　　　　　　　　　　　　　　",null,null,"煙突の先端の立ち上がりの状況（密閉型燃焼器具の煙突を除く。）",{"$nulls":4},"―","―","―","―"]
[null,null,"(10)","機械換気設備",null,null,"煙突に連結した排気筒及び半密閉式瞬間湯沸器等の設置の状況"]
[null,null,"(11)",{"$nulls":3},"換気扇による換気の状況"]
[null,null,"(12)",{"$nulls":3},"給気機又は排気機の設置の状況"]
[null,null,"(13)",{"$nulls":3},"機械換気設備の換気量"]
[]
[]
[]
[]
[null,null,3,"法第28条第2項又は第3項に基づき換気設備が設けられた居室等"]
[null,null,"(1)","防火ダンパー等（外壁の開口部で延焼のおそれのある部分に設けるものを除く。）",null,null,"防火ダンパーの設置の状況"]
[null,null,"(2)",{"$nulls":3},"防火ダンパーの取付けの状況"]
[null,null,"(3)",{"$nulls":3},"防火ダンパーの作動の状況"]
[null,null,"(4)",{"$nulls":3},"防火ダンパーの劣化及び損傷の状況"]
[null,null,"(5)",{"$nulls":3},"防火ダンパーの点検口の有無及び大きさ並びに検査口の有無"]
[null,null,"(6)",{"$nulls":3},"防火ダンパーの温度ヒューズ"]
[null,null,"(7)",{"$nulls":3},"壁及び床の防火区画貫通部の措置の状況"]
[null,null,"(8)",{"$nulls":3},"連動型防火ダンパーの煙感知器、熱煙複合式感知器及び熱感知器の位置"]
[null,null,"(9)",{"$nulls":3},"連動型防火ダンパーの煙感知器、熱煙複合式感知器及び熱感知器との連動の状況"]
[]
[]
[]
[]
[]
[null,null,4,"上記以外の検査項目等"]
[null,null,{"$f":"IF(D87=\"\",\"\",\"(1)\")","v":""}]
[null,null,{"$f":"IF(D88=\"\",\"\",\"(2)\")","v":""}]
[null,null,{"$f":"IF(D89=\"\",\"\",\"(3)\")","v":""}]
[null,null,{"$f":"IF(D90=\"\",\"\",\"(4)\")","v":""}]
[null,null,{"$f":"IF(D91=\"\",\"\",\"(5)\")","v":""}]
[null,null,{"$f":"IF(D92=\"\",\"\",\"(6)\")","v":""}]
[null,null,{"$f":"IF(D93=\"\",\"\",\"(7)\")","v":""}]
[null,null,{"$f":"IF(D94=\"\",\"\",\"(8)\")","v":""}]
[null,null,{"$f":"IF(D95=\"\",\"\",\"(9)\")","v":""}]
[null,null,{"$f":"IF(D96=\"\",\"\",\"(10)\")","v":""}]
[null,null,"特記事項"]
[null,null,"番号","検査項目等",{"$nulls":3},"指摘の具体的内容等","改善策の具体的内容等",{"$nulls":5},"改善（予定）年月"]
[{"$nulls":3},{"$f":"IFERROR(VLOOKUP(C99,リスト_検査項目内容_換気,2,0),\"\")","v":""}]
[{"$nulls":3},""]
[{"$nulls":3},""]
[{"$nulls":3},""]
[{"$nulls":3},""]
[{"$nulls":3},""]
[{"$nulls":3},""]
[{"$nulls":3},""]
[{"$nulls":3},""]
[{"$nulls":3},""]
[]
[null,null,"（注意）"]
[null,null,"①","　この書類は、建築物ごとに作成してください。"]
[null,null,"②","　記入欄が不足する場合は、枠を拡大、行を追加して記入するか、別紙に必要な事項を記入して添えてください。"]
[null,null,"③","　「当該検査に関与した検査者」欄は、建築基準法施行規則別記第36号の６様式第二面４欄に記入した検査者について記入し、「検査者番号」欄に検査者を特定できる番号、記号等を記入してください。当該建築設備の検査を行った検査者が１人の場合は、その他の検査者欄は削除して構いません。"]
[null,null,"④","　検査対象建築物に換気設備がない場合は、この様式は省略して構いません。"]
[null,null,"⑤","　該当しない検査項目等がある場合は、「番号」欄から「担当検査者番号」欄までを取消線で抹消してください。"]
[null,null,"⑥","　「検査結果」欄は、別表第１（ろ）欄に掲げる各検査事項ごとに記入してください。"]
[null,null,"⑦","　「検査結果」欄のうち「要是正」欄は、別表第１（ろ）欄に掲げる検査事項について同表（に）欄に掲げる判定基準に該当する場合に○印を記入してください。"]
[null,null,"⑧","　「検査結果」欄のうち「指摘なし」欄は、⑦に該当しない場合に○印を記入してください。"]
[null,null,"⑨","　「既存不適格」欄は、「要是正」欄に○印を記入した場合で、建築基準法第３条第２項の規定の適用を受けているものであることが確認されたときは、○印を記入してください。"]
[null,null,"⑩","　「担当検査者番号」欄は、「検査に関与した検査者」欄で記入した番号、記号等を記入してください。ただし、当該建築設備の検査を行った検査者が１人の場合は、記入しなくても構いません。"]
[null,null,"⑪","　１ (9) 「各居室の換気量」については、法第28条第２項又は第３項に基づき換気設備が設けられた居室（換気設備を設けるべき調理室等を除く。）の換気状況評価表（別表１）を添付してください。"]
[null,null,"⑫","　２ (13) 「機械換気設備の換気量」については、換気設備を設けるべき調理室等の換気風量測定表（別表２）を添付してください。"]
[null,null,"⑬","　４　「上記以外の検査項目等」は、第２ただし書の規定により特定行政庁が検査項目等を追加したとき又は第２第２項の規定により検査の方法を記載した図書があるときに、特定行政庁が追加した検査項目等又は第２第２項に規定する図書に記載されている検査項目等を追加し、⑥から⑨に準じて検査結果等を記入してください。なお、これらの項目等がない場合は、４は削除して構いません。"]
[null,null,"⑭","　「特記事項」は、検査の結果、要是正の指摘があった場合のほか、指摘がない場合にあっても特記すべき事項がある場合に、該当する検査項目等の番号、検査項目等を記入し、「指摘の具体的内容等」欄に指摘又は特記すべき事項の具体的内容を記入するとともに、改善済みの場合及び改善策が明らかになっている場合は「改善策の具体的内容等」欄にその内容を記入し、改善した場合は「改善（予定）年月」欄に当該年月を記入し、改善予定年月が明らかになっている場合は「改善（予定）年月」欄に当該年月を（　）書きで記入してください。"]
[null,null,"⑮","　要是正とされた検査項目（既存不適格の場合を除く。）については、要是正とされた部分を撮影した写真を別添の様式に従い添付してください。"]

{"sheet":"排煙検査結果表","index":4,"n_rows":211,"n_cols":25,"rows_kept":211,"merged":[[1,2,1,14],[2,2,2,14],[7,2,10,3],[7,7,7,12],[7,13,7,14],[8,7,8,12],[8,13,8,14],[9,4,10,4],[9,7,9,12],[9,13,9,14],[10,7,10,12],[10,13,10,14],[11,2,11,14],[12,2,12,14],[13,2,13,14],[14,2,14,14],[15,2,17,2],[15,3,17,8],[15,10,17,10],[15,11,15,13],[15,14,17,14],[16,11,17,11],[23,3,23,14],[24,3,33,3],[24,4,28,4],[24,7,24,8],[25,7,25,8],[26,7,26,8],[27,7,27,8],[28,7,28,8],[29,4,33,4],[29,7,29,8],[30,7,30,8],[31,7,31,8],[32,7,32,8],[33,7,33,8],[34,3,43,3],[34,4,38,4],[34,7,34,8],[35,7,35,8],[36,7,36,8],[37,7,37,8],[38,7,38,8],[39,4,43,4],[39,7,39,8],[40,7,40,8],[41,7,41,8],[42,7,42,8],[43,7,43,8],[44,3,54,3],[44,4,48,4],[44,7,44,8],[45,7,45,8],[46,7,46,8],[47,7,47,8],[48,7,48,8],[49,4,54,4],[49,7,49,8],[50,7,50,8],[51,7,51,8],[52,7,52,8],[53,7,53,8],[54,7,54,8],[55,3,72,3],[55,4,59,4],[55,7,55,8],[56,7,56,8],[57,7,57,8],[58,7,58,8],[59,7,59,8],[60,4,62,4],[60,7,60,8],[61,7,61,8],[62,7,62,8],[63,4,66,4],[63,7,63,8],[64,7,64,8],[65,7,65,8],[66,7,66,8],[67,4,68,4],[67,7,67,8],[68,7,68,8],[69,4,73,4],[69,7,69,8],[70,7,70,8],[71,7,71,8],[72,7,72,8],[73,7,73,8],[74,3,76,3],[74,4,78,4],[74,7,74,8],[75,7,75,8],[76,7,76,8],[77,7,77,8],[78,7,78,8],[84,3,84,14],[85,3,86,4],[85,7,85,8],[86,7,86,8],[87,3,116,3],[87,4,89,4],[87,7,87,8],[88,7,88,8],[89,7,89,8],[90,4,93,4],[90,7,90,8],[91,7,91,8],[92,7,92,8],[93,7,93,8],[94,4,95,4],[94,7,94,8],[95,7,95,8],[96,4,98,4],[96,7,96,8],[97,7,97,8],[98,7,98,8],[99,4,100,4],[99,7,99,8],[100,7,100,8],[101,4,104,4],[101,7,101,8],[102,7,102,8],[103,7,103,8],[104,7,104,8],[105,4,107,4],[105,7,105,8],[106,7,106,8],[107,7,107,8],[108,7,108,8],[109,4,111,4],[109,7,109,8],[110,7,110,8],[111,7,111,8],[112,7,112,8],[113,4,115,4],[113,7,113,8],[114,7,114,8],[115,7,115,8],[116,7,116,8],[125,3,125,14],[126,3,131,4],[126,7,126,8],[127,7,127,8],[128,7,128,8],[129,7,129,8],[130,7,130,8],[131,7,131,8],[137,3,137,14],[138,3,149,3],[138,4,149,4],[138,7,138,8],[139,7,139,8],[140,7,140,8],[141,7,141,8],[142,7,142,8],[143,7,143,8],[144,7,144,8],[145,7,145,8],[146,7,146,8],[147,7,147,8],[148,7,148,8],[149,7,149,8],[150,3,154,3],[150,4,154,4],[150,7,150,8],[151,7,151,8],[152,7,152,8],[153,7,153,8],[154,7,154,8],[155,3,163,3],[155,4,162,4],[155,7,155,8],[156,7,156,8],[157,7,157,8],[158,7,158,8],[159,7,159,8],[160,7,160,8],[161,7,161,8],[162,7,162,8],[163,7,163,8],[164,7,164,8],[170,3,170,14],[171,3,171,8],[172,3,172,8],[173,3,173,8],[174,3,174,8],[175,3,175,8],[176,3,176,8],[177,3,177,8],[178,3,178,8],[179,3,179,8],[180,3,180,8],[181,2,181,6],[182,3,182,6],[182,8,182,13],[183,3,183,6],[183,8,183,13],[184,3,184,6],[184,8,184,13],[185,3,185,6],[185,8,185,13],[186,3,186,6],[186,8,186,13],[187,3,187,6],[187,8,187,13],[188,3,188,6],[188,8,188,13],[189,3,189,6],[189,8,189,13],[190,3,190,6],[190,8,190,13],[191,3,191,6],[191,8,191,13],[192,3,192,6],[192,8,192,13],[193,2,193,14],[194,2,194,14],[195,3,195,14],[196,3,196,14],[197,3,197,14],[198,3,198,14],[199,3,199,14],[200,3,200,14],[201,3,201,14],[202,3,202,14],[203,3,203,14],[204,3,204,14],[205,3,205,14],[206,3,206,14],[207,3,207,14],[208,3,208,14],[209,3,209,14],[210,3,210,14]]}
[null,null,"別記第二号（Ａ４）"]
[null,null,"検査結果表"]
[null,null,"（排煙設備）"]
[]
[]
[]
[]
[null,null,"当該検査に関与した検査者",{"$nulls":4},"　　氏　名",{"$nulls":5},"検査者番号"]
[{"$nulls":4},"代表となる検査者",null,null,{"$f":"報告_2_08排検査者代表_ハ_氏名","v":0}]
[{"$nulls":4},"その他の検査者",null,null,{"$f":"報告_2_08排検査者他1_ハ_氏名","v":0}]
[{"$nulls":7},{"$f":"報告_2_08排検査者他2_ハ_氏名","v":0}]
[]
[]
[]
[]
[null,null,"番号","検　査　項　目　等",{"$nulls":7},"検査結果",null,null,"担当\n検査者\n番号"]
[{"$nulls":11},"指摘\nなし","要是正"]
[{"$nulls":13},"既　存\n不適格"]
[]
[]
[]
[]
[]
[null,null,1,"令第123条第３項第２号に規定する階段室又は付室、令第129条の13の３第13項に規定する昇降路又は乗降ロビー、令第126条の２第１項に規定する居室等"]
[null,null,"(1)","排煙機　　　　　　　　　　　　　　","排煙機の外観",null,null,"排煙機の設置の状況"]
[null,null,"(2)",{"$nulls":4},"排煙風道との接続の状況",{"$nulls":16},{"$f":"IF(ISBLANK(N9),\"\",\"〃\")","v":""}]
[null,null,"(3)",{"$nulls":4},"煙排出口の設置の状況",{"$nulls":16},{"$f":"IF(ISBLANK(N9),\"\",N9)","v":""}]
[null,null,"(4)",{"$nulls":4},"煙排出口の周囲の状況",{"$nulls":15},{"$f":"IF(Y28=\"\",\"\",\"・\")","v":""},{"$f":"IF(ISBLANK(N10),\"\",N10)","v":""}]
[null,null,"(5)",{"$nulls":4},"屋外に設置された煙排出口への雨水等の防止措置の状況",{"$nulls":15},{"$f":"IF(Y29=\"\",\"\",\"・\")","v":""},{"$f":"IF(ISBLANK(N10),\"\",IF(ISBLANK(N11),Y27&X28&Y28,IF(Y28=\"\",\"\",N11)))","v":""}]
[null,null,"(6)",null,"排煙機の性能",null,null,"排煙口の開放と連動起動の状況",{"$nulls":16},{"$f":"IF(ISBLANK(N11),\"\",Y27&X28&Y28)","v":""}]
[null,null,"(7)",{"$nulls":4},"作動の状況",{"$nulls":16},{"$f":"IF(Y30=\"\",\"\",Y27&X29&Y29)","v":""}]
[null,null,"(8)",{"$nulls":4},"電源を必要とする排煙機の予備電源による作動の状況",{"$nulls":16},{"$f":"IF(Y30=\"\",\"\",Y28&X29&Y29)","v":""}]
[null,null,"(9)",{"$nulls":4},"排煙機の排煙風量",{"$nulls":16},{"$f":"IF(Y30=\"\",\"\",Y30&X29&Y29)","v":""}]
[null,null,"(10)",{"$nulls":4},"中央管理室における制御及び作動状態の監視の状況"]
[null,null,"(11)","排煙口","機械排煙設備の排煙口の外観",null,null,"排煙口の位置"]
[null,null,"(12)",{"$nulls":4},"排煙口の周囲の状況"]
[null,null,"(13)",{"$nulls":4},"排煙口の取付けの状況"]
[null,null,"(14)",{"$nulls":4},"手動開放装置の周囲の状況"]
[null,null,"(15)",{"$nulls":4},"手動開放装置の操作方法の表示の状況"]
[null,null,"(16)",null,"機械排煙設備の排煙口の性能",null,null,"手動開放装置による開放の状況"]
[null,null,"(17)",{"$nulls":4},"排煙口の開放の状況"]
[null,null,"(18)",{"$nulls":4},"排煙口の排煙風量"]
[null,null,"(19)",{"$nulls":4},"中央管理室における制御及び作動状態の監視の状況"]
[null,null,"(20)",{"$nulls":4},"煙感知器による作動の状況"]
[null,null,"(21)","排煙風道","機械排煙設備の排煙風道（隠蔽部分及び埋設部分を除く。）",null,null,"排煙風道の劣化及び損傷の状況"]
[null,null,"(22)",{"$nulls":4},"排煙風道の取付けの状況"]
[null,null,"(23)",{"$nulls":4},"排煙風道の材質"]
[null,null,"(24)",{"$nulls":4},"防煙壁の貫通措置の状況"]
[null,null,"(25)",{"$nulls":4},"排煙風道と可燃物、電線等との離隔距離及び断熱の状況"]
[null,null,"(26)",null,"防火ダンパー（外壁の開口部で延焼のおそれのある部分に設けるものを除く。）",null,null,"防火ダンパーの取付けの状況"]
[null,null,"(27)",{"$nulls":4},"防火ダンパーの作動の状況"]
[null,null,"(28)",{"$nulls":4},"防火ダンパーの劣化及び損傷の状況"]
[null,null,"(29)",{"$nulls":4},"防火ダンパーの点検口の有無及び大きさ並びに検査口の有無"]
[null,null,"(30)",{"$nulls":4},"防火ダンパーの温度ヒューズ"]
[null,null,"(31)",{"$nulls":4},"壁及び床の防火区画貫通部の措置の状況"]
[null,null,"(32)","特殊な構造の排煙設備","特殊な構造の排煙設備の排煙口及び給気口の外観",null,null,"排煙口及び給気口の大きさ及び位置"]
[null,null,"(33)",{"$nulls":4},"排煙口及び給気口の周囲の状況"]
[null,null,"(34)",{"$nulls":4},"排煙口及び給気口の取付けの状況"]
[null,null,"(35)",{"$nulls":4},"手動開放装置の周囲の状況"]
[null,null,"(36)",{"$nulls":4},"手動開放装置の操作方法の表示の状況"]
[null,null,"(37)",null,"特殊な構造の排煙設備の排煙口の性能",null,null,"排煙口の排煙風量"]
[null,null,"(38)",{"$nulls":4},"中央管理室における制御及び作動状態の監視の状況"]
[null,null,"(39)",{"$nulls":4},"煙感知器による作動の状況"]
[null,null,"(40)",null,"特殊な構造の排煙設備の給気風道（隠蔽部分及び埋設部分を除く。）",null,null,"給気風道の劣化及び損傷の状況"]
[null,null,"(41)",{"$nulls":4},"給気風道の材質"]
[null,null,"(42)",{"$nulls":4},"給気風道の取付けの状況"]
[null,null,"(43)",{"$nulls":4},"防煙壁の貫通措置の状況"]
[null,null,"(44)",null,"特殊な構造の排煙設備の給気送風機の外観",null,null,"給気送風機の設置の状況"]
[null,null,"(45)",{"$nulls":4},"給気風道との接続の状況"]
[null,null,"(46)",null,"特殊な構造の排煙設備の給気送風機の性能",null,null,"排煙口の開放と連動起動の状況"]
[null,null,"(47)",{"$nulls":4},"作動の状況"]
[null,null,"(48)",{"$nulls":4},"電源を必要とする給気送風機の予備電源による作動の状況"]
[null,null,"(49)",{"$nulls":4},"給気送風機の給気風量"]
[null,null,"(50)",{"$nulls":4},"中央管理室における制御及び作動状態の監視の状況"]
[null,null,"(51)",null,"特殊な構造の排煙設備の給気送風機の吸込口",null,null,"吸込口の設置位置"]
[null,null,"(52)",{"$nulls":4},"吸込口の周囲の状況"]
[null,null,"(53)",{"$nulls":4},"屋外に設置された吸込口への雨水等の防止措置の状況"]
[null,null,"(54)",{"$nulls":4},"吸込口の周囲の状況"]
[null,null,"(55)",{"$nulls":4},"屋外に設置された吸込口への雨水等の防止措置の状況"]
[]
[]
[]
[]
[]
[null,null,2,"令第123条第３項第２号に規定する階段室又は付室及び令第129条の13の３第13項に規定する昇降路又は乗降ロビー"]
[null,null,"(1)","特別避難階段の階段室又は付室及び非常用エレベーターの昇降路又は乗降ロビーに設ける排煙口及び給気口",{"$nulls":3},"排煙機、排煙口及び給気口の作動の状況"]
[null,null,"(2)",{"$nulls":4},"給気口の周囲の状況"]
[null,null,"(3)","加圧防排煙設備","排煙風道（隠蔽部分及び埋設部分を除く。）",null,null,"排煙風道の劣化及び損傷の状況"]
[null,null,"(4)",{"$nulls":4},"排煙風道の取付けの状況"]
[null,null,"(5)",{"$nulls":4},"排煙風道の材質"]
[null,null,"(6)",null,"給気口の外観",null,null,"給気口の周囲の状況"]
[null,null,"(7)",{"$nulls":4},"給気口の取付けの状況"]
[null,null,"(8)",{"$nulls":4},"給気口の手動開放装置の周囲の状況"]
[null,null,"(9)",{"$nulls":4},"給気口の手動開放装置の操作方法の表示の状況"]
[null,null,"(10)",null,"給気口の性能",null,null,"給気口の手動開放装置による開放の状況"]
[null,null,"(11)",{"$nulls":4},"給気口の開放の状況"]
[null,null,"(12)",null,"給気風道（隠蔽部分及び埋設部分を除く。）",null,null,"給気風道の劣化及び損傷の状況"]
[null,null,"(13)",{"$nulls":4},"給気風道の取付けの状況"]
[null,null,"(14)",{"$nulls":4},"給気風道の材質"]
[null,null,"(15)",null,"給気送風機の外観",null,null,"給気送風機の設置の状況"]
[null,null,"(16)",{"$nulls":4},"給気風道との接続の状況"]
[null,null,"(17)",null,"給気送風機の性能",null,null,"給気口の開放と連動起動の状況"]
[null,null,"(18)",{"$nulls":4},"給気送風機の作動の状況"]
[null,null,"(19)",{"$nulls":4},"電源を必要とする給気送風機の予備電源による作動の状況"]
[null,null,"(20)",{"$nulls":4},"中央管理室における制御及び作動状態の監視の状況"]
[null,null,"(21)",null,"給気送風機の吸込口",null,null,"吸込口の設置位置"]
[null,null,"(22)",{"$nulls":4},"吸込口の周囲の状況"]
[null,null,"(23)",{"$nulls":4},"屋外に設置された吸込口への雨水等の防止措置の状況"]
[null,null,"(24)",null,"遮煙開口部の性能",null,null,"遮煙開口部の排出風速"]
[null,null,"(25)",null,"空気逃し口の外観",null,null,"空気逃し口の大きさ及び位置"]
[null,null,"(26)",{"$nulls":4},"空気逃し口の周囲の状況"]
[null,null,"(27)",{"$nulls":4},"空気逃し口の取付けの状況"]
[null,null,"(28)",null,"空気逃し口の性能",null,null,"空気逃し口の作動の状況"]
[null,null,"(29)",null,"圧力調整装置の外観",null,null,"圧力調整装置の大きさ及び位置"]
[null,null,"(30)",{"$nulls":4},"圧力調整装置の周囲の状況"]
[null,null,"(31)",{"$nulls":4},"圧力調整装置の取付けの状況"]
[null,null,"(32)",null,"圧力調整装置の性能",null,null,"圧力調整装置の作動の状況"]
{"$rows_empty":8}
[null,null,3,"令第126条の２第１項に規定する居室等"]
[null,null,"(1)","可動防煙壁　　　　　　",{"$nulls":3},"手動降下装置の作動の状況"]
[null,null,"(2)",{"$nulls":4},"手動降下装置による連動の状況"]
[null,null,"(3)",{"$nulls":4},"煙感知器による連動の状況"]
[null,null,"(4)",{"$nulls":4},"可動防煙壁の材質"]
[null,null,"(5)",{"$nulls":4},"可動防煙壁の防煙区画"]
[null,null,"(6)",{"$nulls":4},"中央管理室における制御及び作動状態の監視の状況"]
[]
[]
[]
[]
[]
[null,null,4,"予備電源"]
[null,null,"(1)","自家用発電装置　　","自家用発電装置等の状況",null,null,"自家用発電機室の防火区画等の貫通措置の状況"]
[null,null,"(2)",{"$nulls":4},"発電機の発電容量"]
[null,null,"(3)",{"$nulls":4},"発電機及び原動機の状況"]
[null,null,"(4)",{"$nulls":4},"燃料油、潤滑油及び冷却水の状況"]
[null,null,"(5)",{"$nulls":4},"始動用の空気槽の圧力"]
[null,null,"(6)",{"$nulls":4},"セル始動用蓄電池及び電気ケーブルの接続の状況"]
[null,null,"(7)",{"$nulls":4},"燃料及び冷却水の漏洩の状況"]
[null,null,"(8)",{"$nulls":4},"計器類及びランプ類の指示及び点灯の状況"]
[null,null,"(9)",{"$nulls":4},"自家用発電装置の取付けの状況"]
[null,null,"(10)",{"$nulls":4},"自家用発電機室の給排気の状況（屋内に設置されている場合に限る。）"]
[null,null,"(11)",{"$nulls":4},"接地線の接続の状況"]
[null,null,"(12)",{"$nulls":4},"絶縁抵抗"]
[null,null,"(13)",null,"自家用発電装置の性能",null,null,"電源の切替えの状況"]
[null,null,"(14)",{"$nulls":4},"始動の状況"]
[null,null,"(15)",{"$nulls":4},"運転の状況"]
[null,null,"(16)",{"$nulls":4},"排気の状況"]
[null,null,"(17)",{"$nulls":4},"コンプレッサー、燃料ポンプ、冷却水ポンプ等の補機類の作動の状況"]
[null,null,"(18)","直結エンジン","直結エンジンの外観",null,null,"直結エンジンの設置の状況"]
[null,null,"(19)",{"$nulls":4},"燃料油、潤滑油及び冷却水の状況"]
[null,null,"(20)",{"$nulls":4},"セル始動用蓄電池及び電気ケーブルの接続の状況"]
[null,null,"(21)",{"$nulls":4},"計器類及びランプ類の指示及び点灯の状況"]
[null,null,"(22)",{"$nulls":4},"給気部及び排気管の取付けの状況"]
[null,null,"(23)",{"$nulls":4},"Ｖベルト"]
[null,null,"(24)",{"$nulls":4},"接地線の接続の状況"]
[null,null,"(25)",{"$nulls":4},"絶縁抵抗"]
[null,null,"(26)",null,"直結エンジンの性能",null,null,"始動及び停止並びに運転の状況"]
[null,null,"(27)",{"$nulls":4},"運転の状況"]
[]
[]
[]
[]
[]
[null,null,5,"上記以外の検査項目等"]
[null,null,{"$f":"IF(D172=\"\",\"\",\"(1)\")","v":""}]
[null,null,{"$f":"IF(D173=\"\",\"\",\"(2)\")","v":""}]
[null,null,{"$f":"IF(D174=\"\",\"\",\"(3)\")","v":""}]
[null,null,{"$f":"IF(D175=\"\",\"\",\"(4)\")","v":""}]
[null,null,{"$f":"IF(D176=\"\",\"\",\"(5)\")","v":""}]
[null,null,{"$f":"IF(D177=\"\",\"\",\"(6)\")","v":""}]
[null,null,{"$f":"IF(D178=\"\",\"\",\"(7)\")","v":""}]
[null,null,{"$f":"IF(D179=\"\",\"\",\"(8)\")","v":""}]
[null,null,{"$f":"IF(D180=\"\",\"\",\"(9)\")","v":""}]
[null,null,{"$f":"IF(D181=\"\",\"\",\"(10)\")","v":""}]
[null,null,"特記事項"]
[null,null,"番号","検査項目等",{"$nulls":3},"指摘の具体的内容等","改善策の具体的内容等",{"$nulls":5},"改善（予定）年月"]
[{"$nulls":3},{"$f":"IFERROR(VLOOKUP(C184,リスト_検査項目内容_排煙,2,0),\"\")","v":""}]
[{"$nulls":3},""]
[{"$nulls":3},""]
[{"$nulls":3},""]
[{"$nulls":3},""]
[{"$nulls":3},""]
[{"$nulls":3},""]
[{"$nulls":3},""]
[{"$nulls":3},""]
[{"$nulls":3},""]
[]
[null,null,"（注意）"]
[null,null,"①","　この書類は、建築物ごとに作成してください。"]
[null,null,"②","　記入欄が不足する場合は、枠を拡大、行を追加して記入するか、別紙に必要な事項を記入して添えてください。"]
[null,null,"③","　「当該検査に関与した検査者」欄は、建築基準法施行規則別記第36号の６様式第二面８欄に記入した検査者について記入し、「検査者番号」欄に検査者を特定できる番号、記号等を記入してください。当該建築設備の検査を行った検査者が１人の場合は、その他の検査者欄は削除して構いません。"]
[null,null,"④","　検査対象建築物に排煙設備がない場合は、この様式は省略して構いません。"]
[null,null,"⑤","　該当しない検査項目等がある場合は、「番号」欄から「担当検査者番号」欄までを取消線で抹消してください。"]
[null,null,"⑥","　「検査結果」欄は、別表第２（ろ）欄に掲げる各検査事項ごとに記入してください。"]
[null,null,"⑦","　「検査結果」欄のうち「要是正」欄は、別表第２（ろ）欄に掲げる検査事項について同表（に）欄に掲げる判定基準に該当する場合に○印を記入してください。"]
[null,null,"⑧","　「検査結果」欄のうち「指摘なし」欄は、⑦に該当しない場合に○印を記入してください。"]
[null,null,"⑨","　「既存不適格」欄は、「要是正」欄に○印を記入した場合で、建築基準法第３条第２項の規定の適用を受けているものであることが確認されたときは、○印を記入してください。"]
[null,null,"⑩","　「担当検査者番号」欄は、「検査に関与した検査者」欄で記入した番号、記号等を記入してください。ただし、当該建築設備の検査を行った検査者が1人の場合は、記入しなくても構いません。"]
[null,null,"⑪","　１ (９)「排煙機の排煙風量」及び１(18) 「排煙口の排煙風量」については、排煙風量測定記録表(別表３)を添付してください。"]
[null,null,"⑫","　１(37)「排煙口の排煙風量」及び１(49)「給気送風機の給気風量」については、排煙風量測定記録表(別表３－２)を添付してください。"]
[null,null,"⑬","　２ (24) 「遮煙開口部の排出風速」については、排煙風量測定記録表（別表３－３）を添付してください。"]
[null,null,"⑭","　５　「上記以外の検査項目等」は、第２ただし書の規定により特定行政庁が検査項目等を追加したとき又は第２第２項の規定により検査の方法を記載した図書があるときに、特定行政庁が追加した検査項目等又は第２第２項に規定する図書に記載されている検査項目等を追加し、⑥から⑨に準じて検査結果等を記入してください。なお、これらの項目等がない場合は、５は削除して構いません。"]
[null,null,"⑮","　「特記事項」は、検査の結果、要是正の指摘があった場合のほか、指摘がない場合にあっても特記すべき事項がある場合に、該当する検査項目等の番号、検査項目等を記入し、「指摘の具体的内容等」欄に指摘又は特記すべき事項の具体的内容を記入するとともに、改善済みの場合及び改善策が明らかになっている場合は「改善策の具体的内容等」欄にその内容を記入し、改善した場合は「改善（予定）年月」欄に当該年月を記入し、改善予定年月が明らかになっている場合は「改善（予定）年月」欄に当該年月を（　）書きで記入してください。"]
[null,null,"⑯","　要是正とされた検査項目（既存不適格の場合を除く。）については、要是正とされた部分を撮影した写真を別添の様式に従い添付してください。"]

{"sheet":"非照検査結果表","index":5,"n_rows":137,"n_cols":25,"rows_kept":137,"merged":[[1,2,1,14],[2,2,2,14],[7,2,10,3],[7,7,7,12],[7,13,7,14],[8,7,8,12],[8,13,8,14],[9,6,10,6],[9,7,9,12],[9,13,9,14],[10,7,10,12],[10,13,10,14],[11,2,11,14],[12,2,12,14],[13,2,13,14],[14,2,14,14],[15,2,17,2],[15,3,17,8],[15,10,17,10],[15,11,15,13],[15,14,17,14],[16,11,17,11],[23,3,23,14],[24,3,25,3],[24,6,24,8],[25,6,25,8],[30,3,30,14],[31,6,31,8],[32,6,32,8],[33,6,33,8],[34,6,34,8],[35,6,35,8],[41,3,41,14],[42,3,45,3],[42,6,42,8],[43,6,43,8],[44,6,44,8],[45,6,45,8],[46,3,47,3],[46,6,46,8],[47,6,47,8],[53,3,53,14],[54,3,55,3],[54,6,54,8],[55,6,55,8],[61,3,61,14],[62,3,69,3],[62,6,64,6],[62,7,62,8],[63,7,63,8],[64,7,64,8],[65,6,67,6],[65,7,65,8],[66,7,66,8],[67,7,67,8],[68,6,69,6],[68,7,68,8],[69,7,69,8],[75,3,75,14],[76,3,92,3],[76,6,87,6],[76,7,76,8],[77,7,77,8],[78,7,78,8],[79,7,79,8],[80,7,80,8],[81,7,81,8],[82,7,82,8],[83,7,83,8],[84,7,84,8],[85,7,85,8],[86,7,86,8],[87,7,87,8],[88,6,92,6],[88,7,88,8],[89,7,89,8],[90,7,90,8],[91,7,91,8],[92,7,92,8],[98,3,98,14],[99,3,99,8],[100,3,100,8],[101,3,101,8],[102,3,102,8],[103,3,103,8],[104,3,104,8],[105,3,105,8],[106,3,106,8],[107,3,107,8],[108,3,108,8],[109,2,109,6],[110,3,110,6],[110,8,110,13],[111,3,111,6],[111,8,111,13],[112,3,112,6],[112,8,112,13],[113,3,113,6],[113,8,113,13],[114,3,114,6],[114,8,114,13],[115,3,115,6],[115,8,115,13],[116,3,116,6],[116,8,116,13],[117,3,117,6],[117,8,117,13],[118,3,118,6],[118,8,118,13],[119,3,119,6],[119,8,119,13],[120,3,120,6],[120,8,120,13],[121,2,121,14],[122,2,122,14],[123,3,123,14],[124,3,124,14],[125,3,125,14],[126,3,126,14],[127,3,127,14],[128,3,128,14],[129,3,129,14],[130,3,130,14],[131,3,131,14],[132,3,132,14],[133,3,133,14],[134,3,134,14],[135,3,135,14],[136,3,136,14]]}
[null,null,"別記第三号（Ａ４）"]
[null,null,"検査結果表"]
[null,null,"（非常用の照明装置）"]
[]
[]
[]
[]
[null,null,"当該検査に関与した検査者",{"$nulls":4},"　　氏　名",{"$nulls":5},"検査者番号"]
[{"$nulls":6},"代表となる検査者",{"$f":"報告_2_12非検査者代表_ハ_氏名","v":0}]
[{"$nulls":6},"その他の検査者",{"$f":"報告_2_12非検査者他1_ハ_氏名","v":0}]
[{"$nulls":7},{"$f":"報告_2_12非検査者他2_ハ_氏名","v":0}]
[]
[]
[]
[]
[null,null,"番号","検　査　項　目　等",{"$nulls":7},"検査結果",null,null,"担当\n検査者\n番号"]
[{"$nulls":11},"指摘\nなし","要是正"]
[{"$nulls":13},"既　存\n不適格"]
[]
[]
[]
[]
[]
[null,null,1,"照明器具  "]
[null,null,"(1)","非常用の照明器具",null,null,"使用電球、ランプ等 "]
[null,null,"(2)",{"$nulls":3},"照明器具の取付けの状況",{"$nulls":17},{"$f":"IF(ISBLANK(N9),\"\",\"〃\")","v":""}]
[{"$nulls":24},{"$f":"IF(ISBLANK(N9),\"\",N9)","v":""}]
[{"$nulls":23},{"$f":"IF(Y28=\"\",\"\",\"・\")","v":""},{"$f":"IF(ISBLANK(N10),\"\",N10)","v":""}]
[{"$nulls":23},{"$f":"IF(Y29=\"\",\"\",\"・\")","v":""},{"$f":"IF(ISBLANK(N10),\"\",IF(ISBLANK(N11),Y27&X28&Y28,IF(Y28=\"\",\"\",N11)))","v":""}]
[{"$nulls":24},{"$f":"IF(ISBLANK(N11),\"\",Y27&X28&Y28)","v":""}]
[null,null,2,"電池内蔵形の蓄電池、電源別置形の蓄電池及び自家用発電装置",{"$nulls":20},{"$f":"IF(Y30=\"\",\"\",Y27&X29&Y29)","v":""}]
[null,null,"(1)","予備電源",null,null,"予備電源への切替え及び器具の点灯の状況並びに予備電源の性能",{"$nulls":17},{"$f":"IF(Y30=\"\",\"\",Y28&X29&Y29)","v":""}]
[null,null,"(2)","照度",null,null,"照度の状況",{"$nulls":17},{"$f":"IF(Y30=\"\",\"\",Y30&X29&Y29)","v":""}]
[null,null,"(3)","分電盤",null,null,"非常用電源分岐回路の表示の状況"]
[null,null,"(4)","配線",null,null,"配電管等の防火区画の貫通措置の状況（隠蔽部分及び埋設部分を除く。）"]
[null,null,"(5)","配線",null,null,"配電管等の防火区画の貫通措置の状況（隠蔽部分及び埋設部分を除く。）"]
[]
[]
[]
[]
[]
[null,null,3,"電源別置形の蓄電池及び自家用発電装置"]
[null,null,"(1)","配線",null,null,"照明器具の取付けの状況及び配線の接続の状況（隠蔽部分及び埋設部分を除く。）"]
[null,null,"(2)",{"$nulls":3},"電気回路の接続の状況"]
[null,null,"(3)",{"$nulls":3},"接続部（幹線分岐及びボックス内に限る。）の耐熱処理の状況"]
[null,null,"(4)",{"$nulls":3},"予備電源から非常用の照明器具間の配線の耐熱処理の状況（隠蔽部分及び埋設部分を除く。）"]
[null,null,"(5)","切替回路",null,null,"常用の電源から蓄電池設備への切替えの状況"]
[null,null,"(6)",{"$nulls":3},"蓄電池設備と自家用発電装置併用の場合の切替えの状況"]
[]
[]
[]
[]
[]
[null,null,4,"電池内蔵形の蓄電池"]
[null,null,"(1)","配線及び充電ランプ",null,null,"充電ランプの点灯の状況"]
[null,null,"(2)",{"$nulls":3},"誘導灯及び非常用照明兼用器具の専用回路の確保の状況"]
[]
[]
[]
[]
[]
[null,null,5,"電源別置形の蓄電池"]
[null,null,"(1)","蓄電池",null,null,"蓄電池等の状況","蓄電池室の防火区画等の貫通措置の状況"]
[null,null,"(2)",{"$nulls":4},"蓄電池室の換気の状況"]
[null,null,"(3)",{"$nulls":4},"蓄電池の設置の状況"]
[null,null,"(4)",{"$nulls":3},"蓄電池の性能","電圧 "]
[null,null,"(5)",{"$nulls":4},"電解液比重 "]
[null,null,"(6)",{"$nulls":4},"電解液の温度"]
[null,null,"(7)",{"$nulls":3},"充電器","充電器室の防火区画等の貫通措置の状況"]
[null,null,"(8)",{"$nulls":4},"キュービクルの取付けの状況"]
[]
[]
[]
[]
[]
[null,null,6,"自家用発電装置"]
[null,null,"(1)","自家用発電装置",null,null,"自家用発電装置等の状況","自家用発電機室の防火区画等の貫通措置の状況"]
[null,null,"(2)",{"$nulls":4},"発電機の発電容量"]
[null,null,"(3)",{"$nulls":4},"発電機及び原動機の状況"]
[null,null,"(4)",{"$nulls":4},"燃料油、潤滑油及び冷却水の状況"]
[null,null,"(5)",{"$nulls":4},"始動用の空気槽の圧力"]
[null,null,"(6)",{"$nulls":4},"セル始動用蓄電池及び電気ケーブルの接続の状況"]
[null,null,"(7)",{"$nulls":4},"燃料及び冷却水の漏洩の状況"]
[null,null,"(8)",{"$nulls":4},"計器類及びランプ類の指示及び点灯の状況"]
[null,null,"(9)",{"$nulls":4},"自家用発電装置の取付けの状況"]
[null,null,"(10)",{"$nulls":4},"自家用発電機室の給排気の状況（屋内に設置されている場合に限る。）"]
[null,null,"(11)",{"$nulls":4},"接地線の接続の状況"]
[null,null,"(12)",{"$nulls":4},"絶縁抵抗"]
[null,null,"(13)",{"$nulls":3},"自家用発電装置の性能","電源の切替えの状況"]
[null,null,"(14)",{"$nulls":4},"始動の状況"]
[null,null,"(15)",{"$nulls":4},"運転の状況"]
[null,null,"(16)",{"$nulls":4},"排気の状況"]
[null,null,"(17)",{"$nulls":4},"コンプレッサー、燃料ポンプ、冷却水ポンプ等の補機類の作動の状況"]
[]
[]
[]
[]
[]
[null,null,7,"上記以外の検査項目等"]
[null,null,{"$f":"IF(D100=\"\",\"\",\"(1)\")","v":""}]
[null,null,{"$f":"IF(D101=\"\",\"\",\"(2)\")","v":""}]
[null,null,{"$f":"IF(D102=\"\",\"\",\"(3)\")","v":""}]
[null,null,{"$f":"IF(D103=\"\",\"\",\"(4)\")","v":""}]
[null,null,{"$f":"IF(D104=\"\",\"\",\"(5)\")","v":""}]
[null,null,{"$f":"IF(D105=\"\",\"\",\"(6)\")","v":""}]
[null,null,{"$f":"IF(D106=\"\",\"\",\"(7)\")","v":""}]
[null,null,{"$f":"IF(D107=\"\",\"\",\"(8)\")","v":""}]
[null,null,{"$f":"IF(D108=\"\",\"\",\"(9)\")","v":""}]
[null,null,{"$f":"IF(D109=\"\",\"\",\"(10)\")","v":""}]
[null,null,"特記事項"]
[null,null,"番号","検査項目等",{"$nulls":3},"指摘の具体的内容等","改善策の具体的内容等",{"$nulls":5},"改善（予定）年月"]
[{"$nulls":3},{"$f":"IFERROR(VLOOKUP(C112,リスト_検査項目内容_非照,2,0),\"\")","v":""}]
[{"$nulls":3},""]
[{"$nulls":3},""]
[{"$nulls":3},""]
[{"$nulls":3},""]
[{"$nulls":3},""]
[{"$nulls":3},""]
[{"$nulls":3},""]
[{"$nulls":3},""]
[{"$nulls":3},""]
[]
[null,null,"（注意）"]
[null,null,"①","　この書類は、建築物ごとに作成してください。"]
[null,null,"②","　記入欄が不足する場合は、枠を拡大、行を追加して記入するか、別紙に必要な事項を記入して添えてください。"]
[null,null,"③","　「当該検査に関与した検査者」欄は、建築基準法施行規則別記第36号の６様式第二面12欄に記入した検査者について記入し、「検査者番号」欄に検査者を特定できる番号、記号等を記入してください。当該建築設備の検査を行った検査者が１人の場合は、その他の検査者欄は削除して構いません。"]
[null,null,"④","　検査対象建築物に非常用の照明装置がない場合は、この様式は省略して構いません。"]
[null,null,"⑤","　該当しない検査項目等がある場合は、「番号」欄から「担当検査者番号」欄までを取消線で抹消してください。"]
[null,null,"⑥","　「検査結果」欄は、別表第３（ろ）欄に掲げる各検査事項ごとに記入してください。"]
[null,null,"⑦","　「検査結果」欄のうち「要是正」欄は、別表第３（ろ）欄に掲げる検査事項について同表（に）欄に掲げる判定基準に該当する場合に○印を記入してください。"]
[null,null,"⑧","　「検査結果」欄のうち「指摘なし」欄は、⑦に該当しない場合に○印を記入してください。"]
[null,null,"⑨","　「既存不適格」欄は、「要是正」欄に○印を記入した場合で、建築基準法第３条第２項の規定の適用を受けているものであることが確認されたときは、○印を記入してください。"]
[null,null,"⑩","　「担当検査者番号」欄は、「検査に関与した検査者」欄で記入した番号、記号等を記入してください。ただし、当該建築設備の検査を行った検査者が1人の場合は、記入しなくても構いません。"]
[null,null,"⑪","　２(２)「照度」については、非常用の照明装置の照度測定表（別表４）を添付してください。"]
[null,null,"⑫","　７「上記以外の検査項目等」は、第２ただし書の規定により特定行政庁が検査項目等を追加したとき又は第２第２項の規定により検査の方法を記載した図書があるときに、特定行政庁が追加した検査項目等又は第２第２項に規定する図書に記載されている検査項目等を追加し、⑥から⑨に準じて検査結果等を記入してください。なお、これらの項目等がない場合は、７は削除して構いません。"]
[null,null,"⑬","　「特記事項」は、検査の結果、要是正の指摘があった場合のほか、指摘がない場合にあっても特記すべき事項がある場合に、該当する検査項目等の番号、検査項目等を記入し、「指摘の具体的内容等」欄に指摘又は特記すべき事項の具体的内容を記入するとともに、改善済みの場合及び改善策が明らかになっている場合は「改善策の具体的内容等」欄にその内容を記入し、改善した場合は「改善（予定）年月」欄に当該年月を記入し、改善予定年月が明らかになっている場合は「改善（予定）年月」欄に当該年月を（　）書きで記入してください。"]
[null,null,"⑭","要是正とされた検査項目（既存不適格の場合を除く。）については、要是正とされた部分を撮影した写真を別添の様式に従い添付してください。"]

{"sheet":"水検査結果表","index":6,"n_rows":120,"n_cols":25,"rows_kept":120,"merged":[[1,2,1,14],[2,2,2,14],[7,2,10,4],[7,7,7,12],[7,13,7,14],[8,7,8,12],[8,13,8,14],[9,6,10,6],[9,7,9,12],[9,13,9,14],[10,7,10,12],[10,13,10,14],[11,2,11,14],[12,2,12,14],[13,2,13,14],[14,2,14,14],[15,2,17,2],[15,3,17,8],[15,10,17,10],[15,11,15,13],[15,14,17,14],[16,11,17,11],[23,3,23,14],[24,3,34,6],[24,7,24,8],[25,7,25,8],[26,7,26,8],[27,7,27,8],[28,7,28,8],[29,7,29,8],[30,7,30,8],[31,7,31,8],[32,7,32,8],[33,7,33,8],[34,7,34,8],[40,3,40,14],[41,3,47,6],[41,7,41,8],[42,7,42,8],[43,7,43,8],[44,7,44,8],[45,7,45,8],[46,7,46,8],[47,7,47,8],[48,3,51,6],[48,7,48,8],[49,7,49,8],[50,7,50,8],[51,7,51,8],[56,3,56,14],[57,3,62,6],[57,7,57,8],[58,7,58,8],[59,7,59,8],[60,7,60,8],[61,7,61,8],[62,7,62,8],[63,3,67,6],[63,7,63,8],[64,7,64,8],[65,7,65,8],[66,7,66,8],[67,7,67,8],[68,3,78,3],[68,7,68,8],[69,7,69,8],[70,7,70,8],[71,6,76,6],[71,7,71,8],[72,7,72,8],[73,7,73,8],[74,7,74,8],[75,7,75,8],[76,7,76,8],[77,6,78,6],[77,7,77,8],[78,7,78,8],[82,3,82,14],[83,3,83,8],[84,3,84,8],[85,3,85,8],[86,3,86,8],[87,3,87,8],[88,3,88,8],[89,3,89,8],[90,3,90,8],[91,3,91,8],[92,3,92,8],[93,2,93,6],[94,3,94,6],[94,8,94,13],[95,3,95,6],[95,8,95,13],[96,3,96,6],[96,8,96,13],[97,3,97,6],[97,8,97,13],[98,3,98,6],[98,8,98,13],[99,3,99,6],[99,8,99,13],[100,3,100,6],[100,8,100,13],[101,3,101,6],[101,8,101,13],[102,3,102,6],[102,8,102,13],[103,3,103,6],[103,8,103,13],[104,3,104,6],[104,8,104,13],[105,2,105,14],[106,2,106,14],[107,3,107,14],[108,3,108,14],[109,3,109,14],[110,3,110,14],[111,3,111,14],[112,3,112,14],[113,3,113,14],[114,3,114,14],[115,3,115,14],[116,3,116,14],[117,3,117,14],[118,3,118,14],[119,3,119,14]]}
[null,null,"別記第四号（Ａ４）"]
[null,null,"検査結果表"]
[null,null,"（給水設備及び排水設備）"]
[]
[]
[]
[]
[null,null,"当該検査に関与した検査者",{"$nulls":4},"　　氏　名",{"$nulls":5},"検査者番号"]
[{"$nulls":6},"代表となる検査者",{"$f":"報告_2_16給検査者代表_ハ_氏名","v":0}]
[{"$nulls":6},"その他の検査者",{"$f":"報告_2_16給検査者他1_ハ_氏名","v":0}]
[{"$nulls":7},{"$f":"報告_2_16給検査者他2_ハ_氏名","v":0}]
[]
[]
[]
[]
[null,null,"番号","検　査　項　目　等",{"$nulls":7},"検査結果",null,null,"担当\n検査者\n番号"]
[{"$nulls":11},"指摘\nなし","要是正"]
[{"$nulls":13},"既　存\n不適格"]
[]
[]
[]
[]
[]
[null,null,1,"飲料用の配管設備及び排水設備"]
[null,null,"(1)","飲料用配管及び排水配管（隠蔽部分及び埋設部分を除く。）",{"$nulls":3},"配管の取付けの状況"]
[null,null,"(2)",{"$nulls":4},"配管の腐食及び漏水の状況",{"$nulls":16},{"$f":"IF(ISBLANK(N9),\"\",\"〃\")","v":""}]
[null,null,"(3)",{"$nulls":4},"配管が貫通する箇所の損傷防止措置の状況",{"$nulls":16},{"$f":"IF(ISBLANK(N9),\"\",N9)","v":""}]
[null,null,"(4)",{"$nulls":4},"継手類の取付けの状況",{"$nulls":15},{"$f":"IF(Y28=\"\",\"\",\"・\")","v":""},{"$f":"IF(ISBLANK(N10),\"\",N10)","v":""}]
[null,null,"(5)",{"$nulls":4},"保温措置の状況",{"$nulls":15},{"$f":"IF(Y29=\"\",\"\",\"・\")","v":""},{"$f":"IF(ISBLANK(N10),\"\",IF(ISBLANK(N11),Y27&X28&Y28,IF(Y28=\"\",\"\",N11)))","v":""}]
[null,null,"(6)",{"$nulls":4},"防火区画等の貫通措置の状況",{"$nulls":16},{"$f":"IF(ISBLANK(N11),\"\",Y27&X28&Y28)","v":""}]
[null,null,"(7)",{"$nulls":4},"配管の支持金物",{"$nulls":16},{"$f":"IF(Y30=\"\",\"\",Y27&X29&Y29)","v":""}]
[null,null,"(8)",{"$nulls":4},"飲料水系統配管の汚染防止措置の状況",{"$nulls":16},{"$f":"IF(Y30=\"\",\"\",Y28&X29&Y29)","v":""}]
[null,null,"(9)",{"$nulls":4},"止水弁の設置の状況",{"$nulls":16},{"$f":"IF(Y30=\"\",\"\",Y30&X29&Y29)","v":""}]
[null,null,"(10)",{"$nulls":4},"ウォーターハンマーの防止措置の状況"]
[null,null,"(11)",{"$nulls":4},"給湯管及び膨張管の設置の状況"]
[]
[]
[]
[]
[]
[null,null,2,"飲料水の配管設備"]
[null,null,"(1)","飲料用の給水タンク及び貯水タンク（以下「給水タンク等」という。）並びに給水ポンプ",{"$nulls":3},"給水タンク等の設置の状況"]
[null,null,"(2)",{"$nulls":4},"給水タンク等の通気管、水抜き管、オーバーフロー管等の設置の状況"]
[null,null,"(3)",{"$nulls":4},"給水タンク等の腐食及び漏水の状況"]
[null,null,"(4)",{"$nulls":4},"給水用圧力タンクの安全装置の状況"]
[null,null,"(5)",{"$nulls":4},"給水ポンプの運転の状況"]
[null,null,"(6)",{"$nulls":4},"給水タンク及びポンプ等の取付けの状況"]
[null,null,"(7)",{"$nulls":4},"給水タンク等の内部の状況"]
[null,null,"(8)","給湯設備（循環ポンプを含む。）",{"$nulls":3},"給湯設備（ガス湯沸器を除く。）の取付けの状況"]
[null,null,"(9)",{"$nulls":4},"ガス湯沸器の取付けの状況"]
[null,null,"(10)",{"$nulls":4},"給湯設備の腐食及び漏水の状況"]
[null,null,"(11)",{"$nulls":4},"ガス湯沸器の煙突及び給排気部の構造"]
[]
[]
[]
[]
[null,null,3,"排水設備"]
[null,null,"(1)","排水槽",{"$nulls":3},"排水槽のマンホールの大きさ"]
[null,null,"(2)",{"$nulls":4},"排水槽の通気の状況"]
[null,null,"(3)",{"$nulls":4},"排水漏れの状況"]
[null,null,"(4)",{"$nulls":4},"排水ポンプの設置の状況"]
[null,null,"(5)",{"$nulls":4},"排水ポンプの運転の状況"]
[null,null,"(6)",{"$nulls":4},"地下街の非常用の排水設備の処理能力及び予備電源の状況"]
[null,null,"(7)","排水再利用配管設備（中水道を含む。）",{"$nulls":3},"雑用水の用途"]
[null,null,"(8)",{"$nulls":4},"雑用水給水栓の表示の状況"]
[null,null,"(9)",{"$nulls":4},"配管の標識等"]
[null,null,"(10)",{"$nulls":4},"雑用水タンク、ポンプ等の設置の状況"]
[null,null,"(11)",{"$nulls":4},"消毒装置"]
[null,null,"(12)","その他",null,null,"衛生器具","衛生器具の取付けの状況"]
[null,null,"(13)",{"$nulls":3},"排水トラップ","排水トラップの取付けの状況"]
[null,null,"(14)",{"$nulls":3},"阻集器","阻集器の構造、機能及び設置の状況"]
[null,null,"(15)",{"$nulls":3},"排水管","公共下水道等への接続の状況"]
[null,null,"(16)",{"$nulls":4},"雨水排水立て管の接続の状況"]
[null,null,"(17)",{"$nulls":4},"排水の状況"]
[null,null,"(18)",{"$nulls":4},"掃除口の取付けの状況"]
[null,null,"(19)",{"$nulls":4},"雨水系統との接続の状況"]
[null,null,"(20)",{"$nulls":4},"間接排水の状況"]
[null,null,"(21)",{"$nulls":3},"通気管","通気開口部の状況"]
[null,null,"(22)",{"$nulls":4},"通気管の状況"]
[]
[]
[]
[null,null,4,"上記以外の検査項目等"]
[null,null,{"$f":"IF(D84=\"\",\"\",\"(1)\")","v":""}]
[null,null,{"$f":"IF(D85=\"\",\"\",\"(2)\")","v":""}]
[null,null,{"$f":"IF(D86=\"\",\"\",\"(3)\")","v":""}]
[null,null,{"$f":"IF(D87=\"\",\"\",\"(4)\")","v":""}]
[null,null,{"$f":"IF(D88=\"\",\"\",\"(5)\")","v":""}]
[null,null,{"$f":"IF(D89=\"\",\"\",\"(6)\")","v":""}]
[null,null,{"$f":"IF(D90=\"\",\"\",\"(7)\")","v":""}]
[null,null,{"$f":"IF(D91=\"\",\"\",\"(8)\")","v":""}]
[null,null,{"$f":"IF(D92=\"\",\"\",\"(9)\")","v":""}]
[null,null,{"$f":"IF(D93=\"\",\"\",\"(10)\")","v":""}]
[null,null,"特記事項"]
[null,null,"番号","検査項目等",{"$nulls":3},"指摘の具体的内容等","改善策の具体的内容等",{"$nulls":5},"改善（予定）年月"]
[{"$nulls":3},{"$f":"IFERROR(VLOOKUP(C96,リスト_検査項目内容_水,2,0),\"\")","v":""}]
[{"$nulls":3},""]
[{"$nulls":3},""]
[{"$nulls":3},""]
[{"$nulls":3},""]
[{"$nulls":3},""]
[{"$nulls":3},""]
[{"$nulls":3},""]
[{"$nulls":3},""]
[{"$nulls":3},""]
[]
[null,null,"（注意）"]
[null,null,"①","　この書類は、建築物ごとに作成してください。"]
[null,null,"②","　記入欄が不足する場合は、枠を拡大、行を追加して記入するか、別紙に必要な事項を記入して添えてください。"]
[null,null,"③","　「当該検査に関与した検査者」欄は、建築基準法施行規則別記第36号の６様式第二面16欄に記入した検査者について記入し、「検査者番号」欄に検査者を特定できる番号、記号等を記入してください。当該建築設備の検査を行った検査者が１人の場合は、その他の検査者欄は削除して構いません。"]
[null,null,"④","　検査対象建築物に給水設備及び排水設備がない場合は、この様式は省略して構いません。"]
[null,null,"⑤","　該当しない検査項目等がある場合は、「番号」欄から「担当検査者番号」欄までを取消線で抹消してください。"]
[null,null,"⑥","　「検査結果」欄は、別表第４（ろ）欄に掲げる各検査事項ごとに記入してください。"]
[null,null,"⑦","　「検査結果」欄のうち「要是正」欄は、別表第４（ろ）欄に掲げる検査事項について同表（に）欄に掲げる判定基準に該当する場合に○印を記入してください。"]
[null,null,"⑧","　「検査結果」欄のうち「指摘なし」欄は、⑦に該当しない場合に○印を記入してください。"]
[null,null,"⑨","　「既存不適格」欄は、「要是正」欄に○印を記入した場合で、建築基準法第３条第２項の規定の適用を受けているものであることが確認されたときは、○印を記入してください。"]
[null,null,"⑩","　「担当検査者番号」欄は、「検査に関与した検査者」欄で記入した番号、記号等を記入してください。ただし、当該建築設備の検査を行った検査者が1人の場合は、記入しなくても構いません。"]
[null,null,"⑪","　４　「上記以外の検査項目等」は、第２ただし書の規定により特定行政庁が検査項目等を追加したとき又は第２第２項の規定により検査の方法を記載した図書があるときに、特定行政庁が追加した検査項目等又は第２第２項に規定する図書に記載されている検査項目等を追加し、⑥から⑨に準じて検査結果等を記入してください。なお、これらの項目等がない場合は、４は削除して構いません。"]
[null,null,"⑫","　「特記事項」は、検査の結果、要是正の指摘があった場合のほか、指摘がない場合にあっても特記すべき事項がある場合に、該当する検査項目等の番号、検査項目等を記入し、「指摘の具体的内容等」欄に指摘又は特記すべき事項の具体的内容を記入するとともに、改善済みの場合及び改善策が明らかになっている場合は「改善策の具体的内容等」欄にその内容を記入し、改善した場合は「改善（予定）年月」欄に当該年月を記入し、改善予定年月が明らかになっている場合は「改善（予定）年月」欄に当該年月を（　）書きで記入してください。"]
[null,null,"⑬","　要是正とされた検査項目（既存不適格の場合を除く。）については、要是正とされた部分を撮影した写真を別添の様式に従い添付してください。"]

{"sheet":"別表１（換気－評価表）","index":7,"n_rows":135,"n_cols":105,"rows_kept":135,"merged":[[2,0,2,5],[2,6,2,7],[2,8,2,9],[2,11,2,12],[2,14,2,15],[2,16,2,17],[2,18,2,28],[2,29,2,51],[2,52,2,71],[2,72,2,83],[3,0,3,5],[3,6,3,17],[3,18,3,28],[3,29,3,40],[3,41,3,51],[3,52,3,71],[3,72,3,83],[4,0,4,5],[4,6,4,17],[4,18,4,28],[4,30,4,31],[4,32,4,33],[4,34,4,35],[4,36,4,37],[4,38,4,39],[4,41,4,51],[4,52,4,66],[4,67,4,71],[4,73,4,77],[4,79,4,82],[5,0,5,5],[5,6,5,17],[5,18,5,28],[5,30,5,31],[5,32,5,33],[5,34,5,35],[5,36,5,37],[5,38,5,39],[5,41,5,51],[5,52,5,66],[5,67,5,71],[5,73,5,77],[5,79,5,82],[6,0,6,5],[6,6,6,17],[6,18,6,28],[6,30,6,31],[6,32,6,33],[6,34,6,35],[6,36,6,37],[6,38,6,39],[6,41,6,51],[6,52,6,66],[6,67,6,71],[6,73,6,77],[6,79,6,82],[7,0,7,5],[7,6,7,17],[7,18,7,28],[7,30,7,31],[7,32,7,33],[7,34,7,35],[7,36,7,37],[7,38,7,39],[7,41,7,51],[7,52,7,66],[7,67,7,71],[7,73,7,77],[7,79,7,82],[8,0,8,5],[8,6,8,17],[8,18,8,28],[8,30,8,31],[8,32,8,33],[8,34,8,35],[8,36,8,37],[8,38,8,39],[8,41,8,51],[8,52,8,66],[8,67,8,71],[8,73,8,77],[8,79,8,82],[9,0,9,5],[9,6,9,17],[9,18,9,28],[9,30,9,31],[9,32,9,33],[9,34,9,35],[9,36,9,37],[9,38,9,39],[9,41,9,51],[9,52,9,66],[9,67,9,71],[9,73,9,77],[9,79,9,82],[10,67,10,71],[10,79,10,82],[11,0,11,5],[11,6,11,17],[11,18,11,28],[11,30,11,31],[11,32,11,33],[11,34,11,35],[11,36,11,37],[11,38,11,39],[11,52,11,66],[11,67,11,71],[11,73,11,77],[11,79,11,82],[17,67,17,71],[18,52,18,66],[18,67,18,71],[20,0,20,83],[21,0,21,83],[22,0,22,83],[23,0,23,83],[24,0,24,83],[25,0,25,83],[26,0,26,83],[27,0,27,83],[30,0,30,5],[30,6,30,7],[30,8,30,9],[30,11,30,12],[30,14,30,15],[30,16,30,17],[30,18,30,28],[30,29,30,51],[30,52,30,71],[30,72,30,83],[31,0,31,5],[31,6,31,17],[31,18,31,28],[31,29,31,40],[31,41,31,51],[31,52,31,71],[31,72,31,83],[32,0,32,5],[32,6,32,17],[32,18,32,28],[32,30,32,31],[32,32,32,33],[32,34,32,35],[32,36,32,37],[32,38,32,39],[32,41,32,51],[32,52,32,66],[32,67,32,71],[32,73,32,77],[32,79,32,82],[33,0,33,5],[33,6,33,17],[33,18,33,28],[33,30,33,31],[33,32,33,33],[33,34,33,35],[33,36,33,37],[33,38,33,39],[33,41,33,51],[33,52,33,66],[33,67,33,71],[33,73,33,77],[33,79,33,82],[34,0,34,5],[34,6,34,17],[34,18,34,28],[34,30,34,31],[34,32,34,33],[34,34,34,35],[34,36,34,37],[34,38,34,39],[34,41,34,51],[34,52,34,66],[34,67,34,71],[34,73,34,77],[34,79,34,82],[35,0,35,5],[35,6,35,17],[35,18,35,28],[35,30,35,31],[35,32,35,33],[35,34,35,35],[35,36,35,37],[35,38,35,39],[35,41,35,51],[35,52,35,66],[35,67,35,71],[35,73,35,77],[35,79,35,82],[36,0,36,5],[36,6,36,17],[36,18,36,28],[36,30,36,31],[36,32,36,33],[36,34,36,35],[36,36,36,37],[36,38,36,39],[36,41,36,51],[36,52,36,66],[36,67,36,71],[36,73,36,77],[36,79,36,82],[37,0,37,5],[37,6,37,17],[37,18,37,28],[37,30,37,31],[37,32,37,33],[37,34,37,35],[37,36,37,37],[37,38,37,39],[37,41,37,51],[37,52,37,66],[37,67,37,71],[37,73,37,77],[37,79,37,82],[38,0,38,5],[38,6,38,17],[38,18,38,28],[38,30,38,31],[38,32,38,33],[38,34,38,35],[38,36,38,37],[38,38,38,39],[38,41,38,51],[38,52,38,66],[38,67,38,71],[38,73,38,77],[38,79,38,82],[39,0,39,5],[39,6,39,17],[39,18,39,28],[39,30,39,31],[39,32,39,33],[39,34,39,35],[39,36,39,37],[39,38,39,39],[39,41,39,51],[39,52,39,66],[39,67,39,71],[39,73,39,77],[39,79,39,82],[40,0,40,5],[40,6,40,17],[40,18,40,28],[40,30,40,31],[40,32,40,33],[40,34,40,35],[40,36,40,37],[40,38,40,39],[40,41,40,51],[40,52,40,66],[40,67,40,71],[40,73,40,77],[40,79,40,82],[41,0,41,5],[41,6,41,17],[41,18,41,28],[41,30,41,31],[41,32,41,33],[41,34,41,35],[41,36,41,37],[41,38,41,39],[41,41,41,51],[41,52,41,66],[41,67,41,71],[41,73,41,77],[41,79,41,82],[42,0,42,5],[42,6,42,17],[42,18,42,28],[42,30,42,31],[42,32,42,33],[42,34,42,35],[42,36,42,37],[42,38,42,39],[42,41,42,51],[42,52,42,66],[42,67,42,71],[42,73,42,77],[42,79,42,82],[43,0,43,5],[43,6,43,17],[43,18,43,28],[43,30,43,31],[43,32,43,33],[43,34,43,35],[43,36,43,37],[43,38,43,39],[43,41,43,51],[43,52,43,66],[43,67,43,71],[43,73,43,77],[43,79,43,82],[44,0,44,5],[44,6,44,17],[44,18,44,28],[44,30,44,31],[44,32,44,33],[44,34,44,35],[44,36,44,37],[44,38,44,39],[44,41,44,51],[44,52,44,66],[44,67,44,71],[44,73,44,77],[44,79,44,82],[45,0,45,5],[45,6,45,17],[45,18,45,28],[45,30,45,31],[45,32,45,33],[45,34,45,35],[45,36,45,37],[45,38,45,39],[45,41,45,51],[45,52,45,66],[45,67,45,71],[45,73,45,77],[45,79,45,82],[46,0,46,5],[46,6,46,17],[46,18,46,28],[46,30,46,31],[46,32,46,33],[46,34,46,35],[46,36,46,37],[46,38,46,39],[46,41,46,51],[46,52,46,66],[46,67,46,71],[46,73,46,77],[46,79,46,82],[48,0,48,83],[49,0,49,83],[50,0,50,83],[51,0,51,83],[52,0,52,83],[53,0,53,83],[54,0,54,83],[55,0,55,83],[58,0,58,5],[58,6,58,7],[58,8,58,9],[58,11,58,12],[58,14,58,15],[58,16,58,17],[58,18,58,28],[58,29,58,51],[58,52,58,71],[58,72,58,83],[59,0,59,5],[59,6,59,17],[59,18,59,28],[59,29,59,40],[59,41,59,51],[59,52,59,71],[59,72,59,83],[60,0,60,5],[60,6,60,17],[60,18,60,28],[60,30,60,31],[60,32,60,33],[60,34,60,35],[60,36,60,37],[60,38,60,39],[60,41,60,51],[60,52,60,66],[60,67,60,71],[60,73,60,77],[60,79,60,82],[61,0,61,5],[61,6,61,17],[61,18,61,28],[61,30,61,31],[61,32,61,33],[61,34,61,35],[61,36,61,37],[61,38,61,39],[61,41,61,51],[61,52,61,66],[61,67,61,71],[61,73,61,77],[61,79,61,82],[62,0,62,5],[62,6,62,17],[62,18,62,28],[62,30,62,31],[62,32,62,33],[62,34,62,35],[62,36,62,37],[62,38,62,39],[62,41,62,51],[62,52,62,66],[62,67,62,71],[62,73,62,77],[62,79,62,82],[63,0,63,5],[63,6,63,17],[63,18,63,28],[63,30,63,31],[63,32,63,33],[63,34,63,35],[63,36,63,37],[63,38,63,39],[63,41,63,51],[63,52,63,66],[63,67,63,71],[63,73,63,77],[63,79,63,82],[64,0,64,5],[64,6,64,17],[64,18,64,28],[64,30,64,31],[64,32,64,33],[64,34,64,35],[64,36,64,37],[64,38,64,39],[64,41,64,51],[64,52,64,66],[64,67,64,71],[64,73,64,77],[64,79,64,82],[65,0,65,5],[65,6,65,17],[65,18,65,28],[65,30,65,31],[65,32,65,33],[65,34,65,35],[65,36,65,37],[65,38,65,39],[65,41,65,51],[65,52,65,66],[65,67,65,71],[65,73,65,77],[65,79,65,82],[66,0,66,5],[66,6,66,17],[66,18,66,28],[66,30,66,31],[66,32,66,33],[66,34,66,35],[66,36,66,37],[66,38,66,39],[66,41,66,51],[66,52,66,66],[66,67,66,71],[66,73,66,77],[66,79,66,82],[67,0,67,5],[67,6,67,17],[67,18,67,28],[67,30,67,31],[67,32,67,33],[67,34,67,35],[67,36,67,37],[67,38,67,39],[67,41,67,51],[67,52,67,66],[67,67,67,71],[67,73,67,77],[67,79,67,82],[68,0,68,5],[68,6,68,17],[68,18,68,28],[68,30,68,31],[68,32,68,33],[68,34,68,35],[68,36,68,37],[68,38,68,39],[68,41,68,51],[68,52,68,66],[68,67,68,71],[68,73,68,77],[68,79,68,82],[69,0,69,5],[69,6,69,17],[69,18,69,28],[69,30,69,31],[69,32,69,33],[69,34,69,35],[69,36,69,37],[69,38,69,39],[69,41,69,51],[69,52,69,66],[69,67,69,71],[69,73,69,77],[69,79,69,82],[70,0,70,5],[70,6,70,17],[70,18,70,28],[70,30,70,31],[70,32,70,33],[70,34,70,35],[70,36,70,37],[70,38,70,39],[70,41,70,51],[70,52,70,66],[70,67,70,71],[70,73,70,77],[70,79,70,82],[71,0,71,5],[71,6,71,17],[71,18,71,28],[71,30,71,31],[71,32,71,33],[71,34,71,35],[71,36,71,37],[71,38,71,39],[71,41,71,51],[71,52,71,66],[71,67,71,71],[71,73,71,77],[71,79,71,82],[72,0,72,5],[72,6,72,17],[72,18,72,28],[72,30,72,31],[72,32,72,33],[72,34,72,35],[72,36,72,37],[72,38,72,39],[72,41,72,51],[72,52,72,66],[72,67,72,71],[72,73,72,77],[72,79,72,82],[73,0,73,5],[73,6,73,17],[73,18,73,28],[73,30,73,31],[73,32,73,33],[73,34,73,35],[73,36,73,37],[73,38,73,39],[73,41,73,51],[73,52,73,66],[73,67,73,71],[73,73,73,77],[73,79,73,82],[74,0,74,5],[74,6,74,17],[74,18,74,28],[74,30,74,31],[74,32,74,33],[74,34,74,35],[74,36,74,37],[74,38,74,39],[74,41,74,51],[74,52,74,66],[74,67,74,71],[74,73,74,77],[74,79,74,82],[76,0,76,83],[77,0,77,83],[78,0,78,83],[79,0,79,83],[80,0,80,83],[81,0,81,83],[82,0,82,83],[83,0,83,83],[86,0,86,5],[86,6,86,7],[86,8,86,9],[86,11,86,12],[86,14,86,15],[86,16,86,17],[86,18,86,28],[86,29,86,51],[86,52,86,71],[86,72,86,83],[87,0,87,5],[87,6,87,17],[87,18,87,28],[87,29,87,40],[87,41,87,51],[87,52,87,71],[87,72,87,83],[88,0,88,5],[88,6,88,17],[88,18,88,28],[88,30,88,31],[88,32,88,33],[88,34,88,35],[88,36,88,37],[88,38,88,39],[88,41,88,51],[88,52,88,66],[88,67,88,71],[88,73,88,77],[88,79,88,82],[89,0,89,5],[89,6,89,17],[89,18,89,28],[89,30,89,31],[89,32,89,33],[89,34,89,35],[89,36,89,37],[89,38,89,39],[89,41,89,51],[89,52,89,66],[89,67,89,71],[89,73,89,77],[89,79,89,82],[90,0,90,5],[90,6,90,17],[90,18,90,28],[90,30,90,31],[90,32,90,33],[90,34,90,35],[90,36,90,37],[90,38,90,39],[90,41,90,51],[90,52,90,66],[90,67,90,71],[90,73,90,77],[90,79,90,82],[91,0,91,5],[91,6,91,17],[91,18,91,28],[91,30,91,31],[91,32,91,33],[91,34,91,35],[91,36,91,37],[91,38,91,39],[91,41,91,51],[91,52,91,66],[91,67,91,71],[91,73,91,77],[91,79,91,82],[92,0,92,5],[92,6,92,17],[92,18,92,28],[92,30,92,31],[92,32,92,33],[92,34,92,35],[92,36,92,37],[92,38,92,39],[92,41,92,51],[92,52,92,66],[92,67,92,71],[92,73,92,77],[92,79,92,82],[93,0,93,5],[93,6,93,17],[93,18,93,28],[93,30,93,31],[93,32,93,33],[93,34,93,35],[93,36,93,37],[93,38,93,39],[93,41,93,51],[93,52,93,66],[93,67,93,71],[93,73,93,77],[93,79,93,82],[94,0,94,5],[94,6,94,17],[94,18,94,28],[94,30,94,31],[94,32,94,33],[94,34,94,35],[94,36,94,37],[94,38,94,39],[94,41,94,51],[94,52,94,66],[94,67,94,71],[94,73,94,77],[94,79,94,82],[95,0,95,5],[95,6,95,17],[95,18,95,28],[95,30,95,31],[95,32,95,33],[95,34,95,35],[95,36,95,37],[95,38,95,39],[95,41,95,51],[95,52,95,66],[95,67,95,71],[95,73,95,77],[95,79,95,82],[96,0,96,5],[96,6,96,17],[96,18,96,28],[96,30,96,31],[96,32,96,33],[96,34,96,35],[96,36,96,37],[96,38,96,39],[96,41,96,51],[96,52,96,66],[96,67,96,71],[96,73,96,77],[96,79,96,82],[97,0,97,5],[97,6,97,17],[97,18,97,28],[97,30,97,31],[97,32,97,33],[97,34,97,35],[97,36,97,37],[97,38,97,39],[97,41,97,51],[97,52,97,66],[97,67,97,71],[97,73,97,77],[97,79,97,82],[98,0,98,5],[98,6,98,17],[98,18,98,28],[98,30,98,31],[98,32,98,33],[98,34,98,35],[98,36,98,37],[98,38,98,39],[98,41,98,51],[98,52,98,66],[98,67,98,71],[98,73,98,77],[98,79,98,82],[99,0,99,5],[99,6,99,17],[99,18,99,28],[99,30,99,31],[99,32,99,33],[99,34,99,35],[99,36,99,37],[99,38,99,39],[99,41,99,51],[99,52,99,66],[99,67,99,71],[99,73,99,77],[99,79,99,82],[100,0,100,5],[100,6,100,17],[100,18,100,28],[100,30,100,31],[100,32,100,33],[100,34,100,35],[100,36,100,37],[100,38,100,39],[100,41,100,51],[100,52,100,66],[100,67,100,71],[100,73,100,77],[100,79,100,82],[101,0,101,5],[101,6,101,17],[101,18,101,28],[101,30,101,31],[101,32,101,33],[101,34,101,35],[101,36,101,37],[101,38,101,39],[101,41,101,51],[101,52,101,66],[101,67,101,71],[101,73,101,77],[101,79,101,82],[102,0,102,5],[102,6,102,17],[102,18,102,28],[102,30,102,31],[102,32,102,33],[102,34,102,35],[102,36,102,37],[102,38,102,39],[102,41,102,51],[102,52,102,66],[102,67,102,71],[102,73,102,77],[102,79,102,82],[104,0,104,83],[105,0,105,83],[106,0,106,83],[107,0,107,83],[108,0,108,83],[109,0,109,83],[110,0,110,83],[111,0,111,83],[114,0,114,5],[114,6,114,7],[114,8,114,9],[114,11,114,12],[114,14,114,15],[114,16,114,17],[114,18,114,28],[114,29,114,51],[114,52,114,71],[114,72,114,83],[115,0,115,5],[115,6,115,17],[115,18,115,28],[115,29,115,40],[115,41,115,51],[115,52,115,71],[115,72,115,83],[116,0,116,5],[116,6,116,17],[116,18,116,28],[116,30,116,31],[116,32,116,33],[116,34,116,35],[116,36,116,37],[116,38,116,39],[116,41,116,51],[116,52,116,66],[116,67,116,71],[116,73,116,77],[116,79,116,82],[117,0,117,5],[117,6,117,17],[117,18,117,28],[117,30,117,31],[117,32,117,33],[117,34,117,35],[117,36,117,37],[117,38,117,39],[117,41,117,51],[117,52,117,66],[117,67,117,71],[117,73,117,77],[117,79,117,82],[118,0,118,5],[118,6,118,17],[118,18,118,28],[118,30,118,31],[118,32,118,33],[118,34,118,35],[118,36,118,37],[118,38,118,39],[118,41,118,51],[118,52,118,66],[118,67,118,71],[118,73,118,77],[118,79,118,82],[119,0,119,5],[119,6,119,17],[119,18,119,28],[119,30,119,31],[119,32,119,33],[119,34,119,35],[119,36,119,37],[119,38,119,39],[119,41,119,51],[119,52,119,66],[119,67,119,71],[119,73,119,77],[119,79,119,82],[120,0,120,5],[120,6,120,17],[120,18,120,28],[120,30,120,31],[120,32,120,33],[120,34,120,35],[120,36,120,37],[120,38,120,39],[120,41,120,51],[120,52,120,66],[120,67,120,71],[120,73,120,77],[120,79,120,82],[121,0,121,5],[121,6,121,17],[121,18,121,28],[121,30,121,31],[121,32,121,33],[121,34,121,35],[121,36,121,37],[121,38,121,39],[121,41,121,51],[121,52,121,66],[121,67,121,71],[121,73,121,77],[121,79,121,82],[122,0,122,5],[122,6,122,17],[122,18,122,28],[122,30,122,31],[122,32,122,33],[122,34,122,35],[122,36,122,37],[122,38,122,39],[122,41,122,51],[122,52,122,66],[122,67,122,71],[122,73,122,77],[122,79,122,82],[123,0,123,5],[123,6,123,17],[123,18,123,28],[123,30,123,31],[123,32,123,33],[123,34,123,35],[123,36,123,37],[123,38,123,39],[123,41,123,51],[123,52,123,66],[123,67,123,71],[123,73,123,77],[123,79,123,82],[124,0,124,5],[124,6,124,17],[124,18,124,28],[124,30,124,31],[124,32,124,33],[124,34,124,35],[124,36,124,37],[124,38,124,39],[124,41,124,51],[124,52,124,66],[124,67,124,71],[124,73,124,77],[124,79,124,82],[125,0,125,5],[125,6,125,17],[125,18,125,28],[125,30,125,31],[125,32,125,33],[125,34,125,35],[125,36,125,37],[125,38,125,39],[125,41,125,51],[125,52,125,66],[125,67,125,71],[125,73,125,77],[125,79,125,82],[126,0,126,5],[126,6,126,17],[126,18,126,28],[126,30,126,31],[126,32,126,33],[126,34,126,35],[126,36,126,37],[126,38,126,39],[126,41,126,51],[126,52,126,66],[126,67,126,71],[126,73,126,77],[126,79,126,82],[127,0,127,5],[127,6,127,17],[127,18,127,28],[127,30,127,31],[127,32,127,33],[127,34,127,35],[127,36,127,37],[127,38,127,39],[127,41,127,51],[127,52,127,66],[127,67,127,71],[127,73,127,77],[127,79,127,82],[128,0,128,5],[128,6,128,17],[128,18,128,28],[128,30,128,31],[128,32,128,33],[128,34,128,35],[128,36,128,37],[128,38,128,39],[128,41,128,51],[128,52,128,66],[128,67,128,71],[128,73,128,77],[128,79,128,82],[129,0,129,5],[129,6,129,17],[129,18,129,28],[129,30,129,31],[129,32,129,33],[129,34,129,35],[129,36,129,37],[129,38,129,39],[129,41,129,51],[129,52,129,66],[129,67,129,71],[129,73,129,77],[129,79,129,82],[130,0,130,5],[130,6,130,17],[130,18,130,28],[130,30,130,31],[130,32,130,33],[130,34,130,35],[130,36,130,37],[130,38,130,39],[130,41,130,51],[130,52,130,66],[130,67,130,71],[130,73,130,77],[130,79,130,82],[132,0,132,83],[133,0,133,83],[134,0,134,83],[135,0,135,83],[136,0,136,83],[137,0,137,83],[138,0,138,83],[139,0,139,83]],"merged_total":1100,"flags":["merged_cut"]}
["別表１　法第28条第２項又は第３項に基づき換気設備が設けられた居室（換気設備を設けるべき調理室等を除く。）の換気状況評価表（Ａ４）"]
[]
["測定年月日",{"$nulls":17},"測定機器 メーカー名",{"$nulls":33},"型式番号等",{"$nulls":51},"㎥／h"]
["階",{"$nulls":5},"室名",{"$nulls":11},"必要換気量(ｍ3/h)",{"$nulls":10},"換　気　方　式",{"$nulls":11},"換気設備機種名＊注1)",{"$nulls":10},"換気状況の評価＊注2)",{"$nulls":19},"判　定",{"$nulls":31},"ppm"]
[{"$nulls":30},"一種",null,"・",null,"二種",null,"・",null,"三種",{"$nulls":34},"指摘なし",{"$nulls":4},"・","要是正"]
[{"$nulls":30},"一種",null,"・",null,"二種",null,"・",null,"三種",{"$nulls":34},"指摘なし",{"$nulls":4},"・","要是正"]
[{"$nulls":30},"一種",null,"・",null,"二種",null,"・",null,"三種",{"$nulls":34},"指摘なし",{"$nulls":4},"・","要是正"]
[{"$nulls":30},"一種",null,"・",null,"二種",null,"・",null,"三種",{"$nulls":34},"指摘なし",{"$nulls":4},"・","要是正"]
[{"$nulls":30},"一種",null,"・",null,"二種",null,"・",null,"三種",{"$nulls":34},"指摘なし",{"$nulls":4},"・","要是正"]
[{"$nulls":30},"一種",null,"・",null,"二種",null,"・",null,"三種",{"$nulls":34},"指摘なし",{"$nulls":4},"・","要是正"]
[{"$nulls":30},"一種",null,"・",null,"二種",null,"・",null,"三種",{"$nulls":34},"指摘なし",{"$nulls":4},"・","要是正"]
[{"$nulls":30},"一種",null,"・",null,"二種",null,"・",null,"三種",{"$nulls":34},"指摘なし",{"$nulls":4},"・","要是正"]
[{"$nulls":30},"一種",null,"・",null,"二種",null,"・",null,"三種",{"$nulls":34},"指摘なし",{"$nulls":4},"・","要是正"]
[{"$nulls":30},"一種",null,"・",null,"二種",null,"・",null,"三種",{"$nulls":34},"指摘なし",{"$nulls":4},"・","要是正"]
[{"$nulls":30},"一種",null,"・",null,"二種",null,"・",null,"三種",{"$nulls":34},"指摘なし",{"$nulls":4},"・","要是正"]
[{"$nulls":30},"一種",null,"・",null,"二種",null,"・",null,"三種",{"$nulls":34},"指摘なし",{"$nulls":4},"・","要是正"]
[{"$nulls":30},"一種",null,"・",null,"二種",null,"・",null,"三種",{"$nulls":34},"指摘なし",{"$nulls":4},"・","要是正"]
[{"$nulls":30},"一種",null,"・",null,"二種",null,"・",null,"三種",{"$nulls":34},"指摘なし",{"$nulls":4},"・","要是正"]
[{"$nulls":30},"一種",null,"・",null,"二種",null,"・",null,"三種",{"$nulls":34},"指摘なし",{"$nulls":4},"・","要是正"]
[]
["　注1) 室ごとに単独の換気扇がある場合など、換気設備が特定されている場合は、その名称を記入する。"]
["　注2) 「換気状況の評価」欄には、外気取り入れ口における風量測定を行うことが最も確実であり、換気量測定を行った場合は、その測定結果を記入する。"]
["　　　 これに代わる方法として、各室の二酸化炭素濃度の測定を行い、居住者数と測定値に矛盾がないか確認する等を行った場合には、その結果を記入する。"]
[]
[]
[]
[]
[]
["別表１　法第28条第２項又は第３項に基づき換気設備が設けられた居室（換気設備を設けるべき調理室等を除く。）の換気状況評価表２（Ａ４）"]
[]
["測定年月日",{"$nulls":17},"測定機器 メーカー名",{"$nulls":33},"型式番号等"]
["階",{"$nulls":5},"室名",{"$nulls":11},"必要換気量(ｍ3/h)",{"$nulls":10},"換　気　方　式",{"$nulls":11},"換気設備機種名＊注1)",{"$nulls":10},"換気状況の評価＊注2)",{"$nulls":19},"判　定"]
[{"$nulls":30},"一種",null,"・",null,"二種",null,"・",null,"三種",{"$nulls":34},"指摘なし",{"$nulls":4},"・","要是正"]
[{"$nulls":30},"一種",null,"・",null,"二種",null,"・",null,"三種",{"$nulls":34},"指摘なし",{"$nulls":4},"・","要是正"]
[{"$nulls":30},"一種",null,"・",null,"二種",null,"・",null,"三種",{"$nulls":34},"指摘なし",{"$nulls":4},"・","要是正"]
[{"$nulls":30},"一種",null,"・",null,"二種",null,"・",null,"三種",{"$nulls":34},"指摘なし",{"$nulls":4},"・","要是正"]
[{"$nulls":30},"一種",null,"・",null,"二種",null,"・",null,"三種",{"$nulls":34},"指摘なし",{"$nulls":4},"・","要是正"]
[{"$nulls":30},"一種",null,"・",null,"二種",null,"・",null,"三種",{"$nulls":34},"指摘なし",{"$nulls":4},"・","要是正"]
[{"$nulls":30},"一種",null,"・",null,"二種",null,"・",null,"三種",{"$nulls":34},"指摘なし",{"$nulls":4},"・","要是正"]
[{"$nulls":30},"一種",null,"・",null,"二種",null,"・",null,"三種",{"$nulls":34},"指摘なし",{"$nulls":4},"・","要是正"]
[{"$nulls":30},"一種",null,"・",null,"二種",null,"・",null,"三種",{"$nulls":34},"指摘なし",{"$nulls":4},"・","要是正"]
[{"$nulls":30},"一種",null,"・",null,"二種",null,"・",null,"三種",{"$nulls":34},"指摘なし",{"$nulls":4},"・","要是正"]
[{"$nulls":30},"一種",null,"・",null,"二種",null,"・",null,"三種",{"$nulls":34},"指摘なし",{"$nulls":4},"・","要是正"]
[{"$nulls":30},"一種",null,"・",null,"二種",null,"・",null,"三種",{"$nulls":34},"指摘なし",{"$nulls":4},"・","要是正"]
[{"$nulls":30},"一種",null,"・",null,"二種",null,"・",null,"三種",{"$nulls":34},"指摘なし",{"$nulls":4},"・","要是正"]
[{"$nulls":30},"一種",null,"・",null,"二種",null,"・",null,"三種",{"$nulls":34},"指摘なし",{"$nulls":4},"・","要是正"]
[{"$nulls":30},"一種",null,"・",null,"二種",null,"・",null,"三種",{"$nulls":34},"指摘なし",{"$nulls":4},"・","要是正"]
[]
["　注1) 室ごとに単独の換気扇がある場合など、換気設備が特定されている場合は、その名称を記入する。"]
["　注2) 「換気状況の評価」欄には、外気取り入れ口における風量測定を行うことが最も確実であり、換気量測定を行った場合は、その測定結果を記入する。"]
["　　　 これに代わる方法として、各室の二酸化炭素濃度の測定を行い、居住者数と測定値に矛盾がないか確認する等を行った場合には、その結果を記入する。"]
[]
[]
[]
[]
[]
["別表１　法第28条第２項又は第３項に基づき換気設備が設けられた居室（換気設備を設けるべき調理室等を除く。）の換気状況評価表３（Ａ４）"]
[]
["測定年月日",{"$nulls":17},"測定機器 メーカー名",{"$nulls":33},"型式番号等"]
["階",{"$nulls":5},"室名",{"$nulls":11},"必要換気量(ｍ3/h)",{"$nulls":10},"換　気　方　式",{"$nulls":11},"換気設備機種名＊注1)",{"$nulls":10},"換気状況の評価＊注2)",{"$nulls":19},"判　定"]
[{"$nulls":30},"一種",null,"・",null,"二種",null,"・",null,"三種",{"$nulls":34},"指摘なし",{"$nulls":4},"・","要是正"]
[{"$nulls":30},"一種",null,"・",null,"二種",null,"・",null,"三種",{"$nulls":34},"指摘なし",{"$nulls":4},"・","要是正"]
[{"$nulls":30},"一種",null,"・",null,"二種",null,"・",null,"三種",{"$nulls":34},"指摘なし",{"$nulls":4},"・","要是正"]
[{"$nulls":30},"一種",null,"・",null,"二種",null,"・",null,"三種",{"$nulls":34},"指摘なし",{"$nulls":4},"・","要是正"]
[{"$nulls":30},"一種",null,"・",null,"二種",null,"・",null,"三種",{"$nulls":34},"指摘なし",{"$nulls":4},"・","要是正"]
[{"$nulls":30},"一種",null,"・",null,"二種",null,"・",null,"三種",{"$nulls":34},"指摘なし",{"$nulls":4},"・","要是正"]
[{"$nulls":30},"一種",null,"・",null,"二種",null,"・",null,"三種",{"$nulls":34},"指摘なし",{"$nulls":4},"・","要是正"]
[{"$nulls":30},"一種",null,"・",null,"二種",null,"・",null,"三種",{"$nulls":34},"指摘なし",{"$nulls":4},"・","要是正"]
[{"$nulls":30},"一種",null,"・",null,"二種",null,"・",null,"三種",{"$nulls":34},"指摘なし",{"$nulls":4},"・","要是正"]
[{"$nulls":30},"一種",null,"・",null,"二種",null,"・",null,"三種",{"$nulls":34},"指摘なし",{"$nulls":4},"・","要是正"]
[{"$nulls":30},"一種",null,"・",null,"二種",null,"・",null,"三種",{"$nulls":34},"指摘なし",{"$nulls":4},"・","要是正"]
[{"$nulls":30},"一種",null,"・",null,"二種",null,"・",null,"三種",{"$nulls":34},"指摘なし",{"$nulls":4},"・","要是正"]
[{"$nulls":30},"一種",null,"・",null,"二種",null,"・",null,"三種",{"$nulls":34},"指摘なし",{"$nulls":4},"・","要是正"]
[{"$nulls":30},"一種",null,"・",null,"二種",null,"・",null,"三種",{"$nulls":34},"指摘なし",{"$nulls":4},"・","要是正"]
[{"$nulls":30},"一種",null,"・",null,"二種",null,"・",null,"三種",{"$nulls":34},"指摘なし",{"$nulls":4},"・","要是正"]
[]
["　注1) 室ごとに単独の換気扇がある場合など、換気設備が特定されている場合は、その名称を記入する。"]
["　注2) 「換気状況の評価」欄には、外気取り入れ口における風量測定を行うことが最も確実であり、換気量測定を行った場合は、その測定結果を記入する。"]
["　　　 これに代わる方法として、各室の二酸化炭素濃度の測定を行い、居住者数と測定値に矛盾がないか確認する等を行った場合には、その結果を記入する。"]
[]
[]
[]
[]
[]
["別表１　法第28条第２項又は第３項に基づき換気設備が設けられた居室（換気設備を設けるべき調理室等を除く。）の換気状況評価表４（Ａ４）"]
[]
["測定年月日",{"$nulls":17},"測定機器 メーカー名",{"$nulls":33},"型式番号等"]
["階",{"$nulls":5},"室名",{"$nulls":11},"必要換気量(ｍ3/h)",{"$nulls":10},"換　気　方　式",{"$nulls":11},"換気設備機種名＊注1)",{"$nulls":10},"換気状況の評価＊注2)",{"$nulls":19},"判　定"]
[{"$nulls":30},"一種",null,"・",null,"二種",null,"・",null,"三種",{"$nulls":34},"指摘なし",{"$nulls":4},"・","要是正"]
[{"$nulls":30},"一種",null,"・",null,"二種",null,"・",null,"三種",{"$nulls":34},"指摘なし",{"$nulls":4},"・","要是正"]
[{"$nulls":30},"一種",null,"・",null,"二種",null,"・",null,"三種",{"$nulls":34},"指摘なし",{"$nulls":4},"・","要是正"]
[{"$nulls":30},"一種",null,"・",null,"二種",null,"・",null,"三種",{"$nulls":34},"指摘なし",{"$nulls":4},"・","要是正"]
[{"$nulls":30},"一種",null,"・",null,"二種",null,"・",null,"三種",{"$nulls":34},"指摘なし",{"$nulls":4},"・","要是正"]
[{"$nulls":30},"一種",null,"・",null,"二種",null,"・",null,"三種",{"$nulls":34},"指摘なし",{"$nulls":4},"・","要是正"]
[{"$nulls":30},"一種",null,"・",null,"二種",null,"・",null,"三種",{"$nulls":34},"指摘なし",{"$nulls":4},"・","要是正"]
[{"$nulls":30},"一種",null,"・",null,"二種",null,"・",null,"三種",{"$nulls":34},"指摘なし",{"$nulls":4},"・","要是正"]
[{"$nulls":30},"一種",null,"・",null,"二種",null,"・",null,"三種",{"$nulls":34},"指摘なし",{"$nulls":4},"・","要是正"]
[{"$nulls":30},"一種",null,"・",null,"二種",null,"・",null,"三種",{"$nulls":34},"指摘なし",{"$nulls":4},"・","要是正"]
[{"$nulls":30},"一種",null,"・",null,"二種",null,"・",null,"三種",{"$nulls":34},"指摘なし",{"$nulls":4},"・","要是正"]
[{"$nulls":30},"一種",null,"・",null,"二種",null,"・",null,"三種",{"$nulls":34},"指摘なし",{"$nulls":4},"・","要是正"]
[{"$nulls":30},"一種",null,"・",null,"二種",null,"・",null,"三種",{"$nulls":34},"指摘なし",{"$nulls":4},"・","要是正"]
[{"$nulls":30},"一種",null,"・",null,"二種",null,"・",null,"三種",{"$nulls":34},"指摘なし",{"$nulls":4},"・","要是正"]
[{"$nulls":30},"一種",null,"・",null,"二種",null,"・",null,"三種",{"$nulls":34},"指摘なし",{"$nulls":4},"・","要是正"]
[]
["　注1) 室ごとに単独の換気扇がある場合など、換気設備が特定されている場合は、その名称を記入する。"]
["　注2) 「換気状況の評価」欄には、外気取り入れ口における風量測定を行うことが最も確実であり、換気量測定を行った場合は、その測定結果を記入する。"]
["　　　 これに代わる方法として、各室の二酸化炭素濃度の測定を行い、居住者数と測定値に矛盾がないか確認する等を行った場合には、その結果を記入する。"]
[]
[]
[]
[]
[]
["別表１　法第28条第２項又は第３項に基づき換気設備が設けられた居室（換気設備を設けるべき調理室等を除く。）の換気状況評価表５（Ａ４）"]
[]
["測定年月日",{"$nulls":17},"測定機器 メーカー名",{"$nulls":33},"型式番号等"]
["階",{"$nulls":5},"室名",{"$nulls":11},"必要換気量(ｍ3/h)",{"$nulls":10},"換　気　方　式",{"$nulls":11},"換気設備機種名＊注1)",{"$nulls":10},"換気状況の評価＊注2)",{"$nulls":19},"判　定"]
[{"$nulls":30},"一種",null,"・",null,"二種",null,"・",null,"三種",{"$nulls":34},"指摘なし",{"$nulls":4},"・","要是正"]
[{"$nulls":30},"一種",null,"・",null,"二種",null,"・",null,"三種",{"$nulls":34},"指摘なし",{"$nulls":4},"・","要是正"]
[{"$nulls":30},"一種",null,"・",null,"二種",null,"・",null,"三種",{"$nulls":34},"指摘なし",{"$nulls":4},"・","要是正"]
[{"$nulls":30},"一種",null,"・",null,"二種",null,"・",null,"三種",{"$nulls":34},"指摘なし",{"$nulls":4},"・","要是正"]
[{"$nulls":30},"一種",null,"・",null,"二種",null,"・",null,"三種",{"$nulls":34},"指摘なし",{"$nulls":4},"・","要是正"]
[{"$nulls":30},"一種",null,"・",null,"二種",null,"・",null,"三種",{"$nulls":34},"指摘なし",{"$nulls":4},"・","要是正"]
[{"$nulls":30},"一種",null,"・",null,"二種",null,"・",null,"三種",{"$nulls":34},"指摘なし",{"$nulls":4},"・","要是正"]
[{"$nulls":30},"一種",null,"・",null,"二種",null,"・",null,"三種",{"$nulls":34},"指摘なし",{"$nulls":4},"・","要是正"]
[{"$nulls":30},"一種",null,"・",null,"二種",null,"・",null,"三種",{"$nulls":34},"指摘なし",{"$nulls":4},"・","要是正"]
[{"$nulls":30},"一種",null,"・",null,"二種",null,"・",null,"三種",{"$nulls":34},"指摘なし",{"$nulls":4},"・","要是正"]
[{"$nulls":30},"一種",null,"・",null,"二種",null,"・",null,"三種",{"$nulls":34},"指摘なし",{"$nulls":4},"・","要是正"]
[{"$nulls":30},"一種",null,"・",null,"二種",null,"・",null,"三種",{"$nulls":34},"指摘なし",{"$nulls":4},"・","要是正"]
[{"$nulls":30},"一種",null,"・",null,"二種",null,"・",null,"三種",{"$nulls":34},"指摘なし",{"$nulls":4},"・","要是正"]
[{"$nulls":30},"一種",null,"・",null,"二種",null,"・",null,"三種",{"$nulls":34},"指摘なし",{"$nulls":4},"・","要是正"]
[{"$nulls":30},"一種",null,"・",null,"二種",null,"・",null,"三種",{"$nulls":34},"指摘なし",{"$nulls":4},"・","要是正"]
[]
["　注1) 室ごとに単独の換気扇がある場合など、換気設備が特定されている場合は、その名称を記入する。"]
["　注2) 「換気状況の評価」欄には、外気取り入れ口における風量測定を行うことが最も確実であり、換気量測定を行った場合は、その測定結果を記入する。"]
["　　　 これに代わる方法として、各室の二酸化炭素濃度の測定を行い、居住者数と測定値に矛盾がないか確認する等を行った場合には、その結果を記入する。"]

{"sheet":"別表２（換気－測定表）","index":8,"n_rows":130,"n_cols":80,"rows_kept":130,"merged":[[28,11,28,13],[28,14,28,15],[28,16,28,17],[28,18,28,19],[28,20,28,21],[28,22,28,23],[28,24,28,25],[28,39,28,55],[29,73,29,82],[38,48,38,55],[38,56,38,64],[38,65,38,72],[38,73,38,77],[38,79,38,82],[39,0,39,8],[39,34,39,35],[39,37,39,38],[39,39,39,47],[39,48,39,55],[39,56,39,64],[39,65,39,72],[39,73,39,77],[39,79,39,82],[40,0,40,8],[40,9,40,19],[40,20,40,27],[40,28,40,29],[40,31,40,32],[40,34,40,35],[40,37,40,38],[40,39,40,47],[40,48,40,55],[40,56,40,64],[40,65,40,72],[40,73,40,77],[40,79,40,82],[41,0,41,8],[41,9,41,19],[41,20,41,27],[41,28,41,29],[41,31,41,32],[41,34,41,35],[41,37,41,38],[41,39,41,47],[41,48,41,55],[41,56,41,64],[41,65,41,72],[41,73,41,77],[41,79,41,82],[42,0,42,8],[42,9,42,19],[42,20,42,27],[42,28,42,29],[42,31,42,32],[42,34,42,35],[42,37,42,38],[42,39,42,47],[42,48,42,55],[42,56,42,64],[42,65,42,72],[42,73,42,77],[42,79,42,82],[43,0,43,8],[43,9,43,19],[43,20,43,27],[43,28,43,29],[43,31,43,32],[43,34,43,35],[43,37,43,38],[43,39,43,47],[43,48,43,55],[43,56,43,64],[43,65,43,72],[43,73,43,77],[43,79,43,82],[44,0,44,8],[44,9,44,19],[44,20,44,27],[44,28,44,29],[44,31,44,32],[44,34,44,35],[44,37,44,38],[44,39,44,47],[44,48,44,55],[44,56,44,64],[44,65,44,72],[44,73,44,77],[44,79,44,82],[45,0,45,8],[45,9,45,19],[45,20,45,27],[45,28,45,29],[45,31,45,32],[45,34,45,35],[45,37,45,38],[45,39,45,47],[45,48,45,55],[45,56,45,64],[45,65,45,72],[45,73,45,77],[45,79,45,82],[46,0,46,8],[46,9,46,19],[46,20,46,27],[46,28,46,29],[46,31,46,32],[46,34,46,35],[46,37,46,38],[46,39,46,47],[46,48,46,55],[46,56,46,64],[46,65,46,72],[46,73,46,77],[46,79,46,82],[47,0,47,8],[47,9,47,19],[47,20,47,27],[47,28,47,29],[47,31,47,32],[47,34,47,35],[47,37,47,38],[47,39,47,47],[47,48,47,55],[47,56,47,64],[47,65,47,72],[47,73,47,77],[47,79,47,82],[48,0,48,8],[48,9,48,19],[48,20,48,27],[48,28,48,29],[48,31,48,32],[48,34,48,35],[48,37,48,38],[48,39,48,47],[48,48,48,55],[48,56,48,64],[48,65,48,72],[48,73,48,77],[48,79,48,82],[49,0,49,8],[49,9,49,19],[49,20,49,27],[49,28,49,29],[49,31,49,32],[49,34,49,35],[49,37,49,38],[49,39,49,47],[49,48,49,55],[49,56,49,64],[49,65,49,72],[49,73,49,77],[49,79,49,82],[51,0,51,82],[54,0,54,8],[54,11,54,13],[54,14,54,15],[54,16,54,17],[54,18,54,19],[54,20,54,21],[54,22,54,23],[54,24,54,25],[54,28,54,38],[54,39,54,55],[54,56,54,64],[54,65,54,82],[55,0,55,8],[55,9,55,19],[55,20,55,27],[55,28,55,38],[55,39,55,47],[55,48,55,55],[55,56,55,64],[55,65,55,72],[55,73,55,82],[56,0,56,8],[56,9,56,19],[56,20,56,27],[56,28,56,29],[56,31,56,32],[56,34,56,35],[56,37,56,38],[56,39,56,47],[56,48,56,55],[56,56,56,64],[56,65,56,72],[56,73,56,77],[56,79,56,82],[57,0,57,8],[57,9,57,19],[57,20,57,27],[57,28,57,29],[57,31,57,32],[57,34,57,35],[57,37,57,38],[57,39,57,47],[57,48,57,55],[57,56,57,64],[57,65,57,72],[57,73,57,77],[57,79,57,82],[58,0,58,8],[58,9,58,19],[58,20,58,27],[58,28,58,29],[58,31,58,32],[58,34,58,35],[58,37,58,38],[58,39,58,47],[58,48,58,55],[58,56,58,64],[58,65,58,72],[58,73,58,77],[58,79,58,82],[59,0,59,8],[59,9,59,19],[59,20,59,27],[59,28,59,29],[59,31,59,32],[59,34,59,35],[59,37,59,38],[59,39,59,47],[59,48,59,55],[59,56,59,64],[59,65,59,72],[59,73,59,77],[59,79,59,82],[60,0,60,8],[60,9,60,19],[60,20,60,27],[60,28,60,29],[60,31,60,32],[60,34,60,35],[60,37,60,38],[60,39,60,47],[60,48,60,55],[60,56,60,64],[60,65,60,72],[60,73,60,77],[60,79,60,82],[61,0,61,8],[61,9,61,19],[61,20,61,27],[61,28,61,29],[61,31,61,32],[61,34,61,35],[61,37,61,38],[61,39,61,47],[61,48,61,55],[61,56,61,64],[61,65,61,72],[61,73,61,77],[61,79,61,82],[62,0,62,8],[62,9,62,19],[62,20,62,27],[62,28,62,29],[62,31,62,32],[62,34,62,35],[62,37,62,38],[62,39,62,47],[62,48,62,55],[62,56,62,64],[62,65,62,72],[62,73,62,77],[62,79,62,82],[63,0,63,8],[63,9,63,19],[63,20,63,27],[63,28,63,29],[63,31,63,32],[63,34,63,35],[63,37,63,38],[63,39,63,47],[63,48,63,55],[63,56,63,64],[63,65,63,72],[63,73,63,77],[63,79,63,82],[64,0,64,8],[64,9,64,19],[64,20,64,27],[64,28,64,29],[64,31,64,32],[64,34,64,35],[64,37,64,38],[64,39,64,47],[64,48,64,55],[64,56,64,64],[64,65,64,72],[64,73,64,77],[64,79,64,82],[65,0,65,8],[65,9,65,19],[65,20,65,27],[65,28,65,29],[65,31,65,32],[65,34,65,35],[65,37,65,38],[65,39,65,47],[65,48,65,55],[65,56,65,64],[65,65,65,72],[65,73,65,77],[65,79,65,82],[66,0,66,8],[66,9,66,19],[66,20,66,27],[66,28,66,29],[66,31,66,32],[66,34,66,35],[66,37,66,38],[66,39,66,47],[66,48,66,55],[66,56,66,64],[66,65,66,72],[66,73,66,77],[66,79,66,82],[67,0,67,8],[67,9,67,19],[67,20,67,27],[67,28,67,29],[67,31,67,32],[67,34,67,35],[67,37,67,38],[67,39,67,47],[67,48,67,55],[67,56,67,64],[67,65,67,72],[67,73,67,77],[67,79,67,82],[68,0,68,8],[68,9,68,19],[68,20,68,27],[68,28,68,29],[68,31,68,32],[68,34,68,35],[68,37,68,38],[68,39,68,47],[68,48,68,55],[68,56,68,64],[68,65,68,72],[68,73,68,77],[68,79,68,82],[69,0,69,8],[69,9,69,19],[69,20,69,27],[69,28,69,29],[69,31,69,32],[69,34,69,35],[69,37,69,38],[69,39,69,47],[69,48,69,55],[69,56,69,64],[69,65,69,72],[69,73,69,77],[69,79,69,82],[70,0,70,8],[70,9,70,19],[70,20,70,27],[70,28,70,29],[70,31,70,32],[70,34,70,35],[70,37,70,38],[70,39,70,47],[70,48,70,55],[70,56,70,64],[70,65,70,72],[70,73,70,77],[70,79,70,82],[71,0,71,8],[71,9,71,19],[71,20,71,27],[71,28,71,29],[71,31,71,32],[71,34,71,35],[71,37,71,38],[71,39,71,47],[71,48,71,55],[71,56,71,64],[71,65,71,72],[71,73,71,77],[71,79,71,82],[72,0,72,8],[72,9,72,19],[72,20,72,27],[72,28,72,29],[72,31,72,32],[72,34,72,35],[72,37,72,38],[72,39,72,47],[72,48,72,55],[72,56,72,64],[72,65,72,72],[72,73,72,77],[72,79,72,82],[73,0,73,8],[73,9,73,19],[73,20,73,27],[73,28,73,29],[73,31,73,32],[73,34,73,35],[73,37,73,38],[73,39,73,47],[73,48,73,55],[73,56,73,64],[73,65,73,72],[73,73,73,77],[73,79,73,82],[74,0,74,8],[74,9,74,19],[74,20,74,27],[74,28,74,29],[74,31,74,32],[74,34,74,35],[74,37,74,38],[74,39,74,47],[74,48,74,55],[74,56,74,64],[74,65,74,72],[74,73,74,77],[74,79,74,82],[75,0,75,8],[75,9,75,19],[75,20,75,27],[75,28,75,29],[75,31,75,32],[75,34,75,35],[75,37,75,38],[75,39,75,47],[75,48,75,55],[75,56,75,64],[75,65,75,72],[75,73,75,77],[75,79,75,82],[77,0,77,82],[80,0,80,8],[80,11,80,13],[80,14,80,15],[80,16,80,17],[80,18,80,19],[80,20,80,21],[80,22,80,23],[80,24,80,25],[80,28,80,38],[80,39,80,55],[80,56,80,64],[80,65,80,82],[81,0,81,8],[81,9,81,19],[81,20,81,27],[81,28,81,38],[81,39,81,47],[81,48,81,55],[81,56,81,64],[81,65,81,72],[81,73,81,82],[82,0,82,8],[82,9,82,19],[82,20,82,27],[82,28,82,29],[82,31,82,32],[82,34,82,35],[82,37,82,38],[82,39,82,47],[82,48,82,55],[82,56,82,64],[82,65,82,72],[82,73,82,77],[82,79,82,82],[83,0,83,8],[83,9,83,19],[83,20,83,27],[83,28,83,29],[83,31,83,32],[83,34,83,35],[83,37,83,38],[83,39,83,47],[83,48,83,55],[83,56,83,64],[83,65,83,72],[83,73,83,77],[83,79,83,82],[84,0,84,8],[84,9,84,19],[84,20,84,27],[84,28,84,29],[84,31,84,32],[84,34,84,35],[84,37,84,38],[84,39,84,47],[84,48,84,55],[84,56,84,64],[84,65,84,72],[84,73,84,77],[84,79,84,82],[85,0,85,8],[85,9,85,19],[85,20,85,27],[85,28,85,29],[85,31,85,32],[85,34,85,35],[85,37,85,38],[85,39,85,47],[85,48,85,55],[85,56,85,64],[85,65,85,72],[85,73,85,77],[85,79,85,82],[86,0,86,8],[86,9,86,19],[86,20,86,27],[86,28,86,29],[86,31,86,32],[86,34,86,35],[86,37,86,38],[86,39,86,47],[86,48,86,55],[86,56,86,64],[86,65,86,72],[86,73,86,77],[86,79,86,82],[87,0,87,8],[87,9,87,19],[87,20,87,27],[87,28,87,29],[87,31,87,32],[87,34,87,35],[87,37,87,38],[87,39,87,47],[87,48,87,55],[87,56,87,64],[87,65,87,72],[87,73,87,77],[87,79,87,82],[88,0,88,8],[88,9,88,19],[88,20,88,27],[88,28,88,29],[88,31,88,32],[88,34,88,35],[88,37,88,38],[88,39,88,47],[88,48,88,55],[88,56,88,64],[88,65,88,72],[88,73,88,77],[88,79,88,82],[89,0,89,8],[89,9,89,19],[89,20,89,27],[89,28,89,29],[89,31,89,32],[89,34,89,35],[89,37,89,38],[89,39,89,47],[89,48,89,55],[89,56,89,64],[89,65,89,72],[89,73,89,77],[89,79,89,82],[90,0,90,8],[90,9,90,19],[90,20,90,27],[90,28,90,29],[90,31,90,32],[90,34,90,35],[90,37,90,38],[90,39,90,47],[90,48,90,55],[90,56,90,64],[90,65,90,72],[90,73,90,77],[90,79,90,82],[91,0,91,8],[91,9,91,19],[91,20,91,27],[91,28,91,29],[91,31,91,32],[91,34,91,35],[91,37,91,38],[91,39,91,47],[91,48,91,55],[91,56,91,64],[91,65,91,72],[91,73,91,77],[91,79,91,82],[92,0,92,8],[92,9,92,19],[92,20,92,27],[92,28,92,29],[92,31,92,32],[92,34,92,35],[92,37,92,38],[92,39,92,47],[92,48,92,55],[92,56,92,64],[92,65,92,72],[92,73,92,77],[92,79,92,82],[93,0,93,8],[93,9,93,19],[93,20,93,27],[93,28,93,29],[93,31,93,32],[93,34,93,35],[93,37,93,38],[93,39,93,47],[93,48,93,55],[93,56,93,64],[93,65,93,72],[93,73,93,77],[93,79,93,82],[94,0,94,8],[94,9,94,19],[94,20,94,27],[94,28,94,29],[94,31,94,32],[94,34,94,35],[94,37,94,38],[94,39,94,47],[94,48,94,55],[94,56,94,64],[94,65,94,72],[94,73,94,77],[94,79,94,82],[95,0,95,8],[95,9,95,19],[95,20,95,27],[95,28,95,29],[95,31,95,32],[95,34,95,35],[95,37,95,38],[95,39,95,47],[95,48,95,55],[95,56,95,64],[95,65,95,72],[95,73,95,77],[95,79,95,82],[96,0,96,8],[96,9,96,19],[96,20,96,27],[96,28,96,29],[96,31,96,32],[96,34,96,35],[96,37,96,38],[96,39,96,47],[96,48,96,55],[96,56,96,64],[96,65,96,72],[96,73,96,77],[96,79,96,82],[97,0,97,8],[97,9,97,19],[97,20,97,27],[97,28,97,29],[97,31,97,32],[97,34,97,35],[97,37,97,38],[97,39,97,47],[97,48,97,55],[97,56,97,64],[97,65,97,72],[97,73,97,77],[97,79,97,82],[98,0,98,8],[98,9,98,19],[98,20,98,27],[98,28,98,29],[98,31,98,32],[98,34,98,35],[98,37,98,38],[98,39,98,47],[98,48,98,55],[98,56,98,64],[98,65,98,72],[98,73,98,77],[98,79,98,82],[99,0,99,8],[99,9,99,19],[99,20,99,27],[99,28,99,29],[99,31,99,32],[99,34,99,35],[99,37,99,38],[99,39,99,47],[99,48,99,55],[99,56,99,64],[99,65,99,72],[99,73,99,77],[99,79,99,82],[100,0,100,8],[100,9,100,19],[100,20,100,27],[100,28,100,29],[100,31,100,32],[100,34,100,35],[100,37,100,38],[100,39,100,47],[100,48,100,55],[100,56,100,64],[100,65,100,72],[100,73,100,77],[100,79,100,82],[101,0,101,8],[101,9,101,19],[101,20,101,27],[101,28,101,29],[101,31,101,32],[101,34,101,35],[101,37,101,38],[101,39,101,47],[101,48,101,55],[101,56,101,64],[101,65,101,72],[101,73,101,77],[101,79,101,82],[103,0,103,82],[106,0,106,8],[106,11,106,13],[106,14,106,15],[106,16,106,17],[106,18,106,19],[106,20,106,21],[106,22,106,23],[106,24,106,25],[106,28,106,38],[106,39,106,55],[106,56,106,64],[106,65,106,82],[107,0,107,8],[107,9,107,19],[107,20,107,27],[107,28,107,38],[107,39,107,47],[107,48,107,55],[107,56,107,64],[107,65,107,72],[107,73,107,82],[108,0,108,8],[108,9,108,19],[108,20,108,27],[108,28,108,29],[108,31,108,32],[108,34,108,35],[108,37,108,38],[108,39,108,47],[108,48,108,55],[108,56,108,64],[108,65,108,72],[108,73,108,77],[108,79,108,82],[109,0,109,8],[109,9,109,19],[109,20,109,27],[109,28,109,29],[109,31,109,32],[109,34,109,35],[109,37,109,38],[109,39,109,47],[109,48,109,55],[109,56,109,64],[109,65,109,72],[109,73,109,77],[109,79,109,82],[110,0,110,8],[110,9,110,19],[110,20,110,27],[110,28,110,29],[110,31,110,32],[110,34,110,35],[110,37,110,38],[110,39,110,47],[110,48,110,55],[110,56,110,64],[110,65,110,72],[110,73,110,77],[110,79,110,82],[111,0,111,8],[111,9,111,19],[111,20,111,27],[111,28,111,29],[111,31,111,32],[111,34,111,35],[111,37,111,38],[111,39,111,47],[111,48,111,55],[111,56,111,64],[111,65,111,72],[111,73,111,77],[111,79,111,82],[112,0,112,8],[112,9,112,19],[112,20,112,27],[112,28,112,29],[112,31,112,32],[112,34,112,35],[112,37,112,38],[112,39,112,47],[112,48,112,55],[112,56,112,64],[112,65,112,72],[112,73,112,77],[112,79,112,82],[113,0,113,8],[113,9,113,19],[113,20,113,27],[113,28,113,29],[113,31,113,32],[113,34,113,35],[113,37,113,38],[113,39,113,47],[113,48,113,55],[113,56,113,64],[113,65,113,72],[113,73,113,77],[113,79,113,82],[114,0,114,8],[114,9,114,19],[114,20,114,27],[114,28,114,29],[114,31,114,32],[114,34,114,35],[114,37,114,38],[114,39,114,47],[114,48,114,55],[114,56,114,64],[114,65,114,72],[114,73,114,77],[114,79,114,82],[115,0,115,8],[115,9,115,19],[115,20,115,27],[115,28,115,29],[115,31,115,32],[115,34,115,35],[115,37,115,38],[115,39,115,47],[115,48,115,55],[115,56,115,64],[115,65,115,72],[115,73,115,77],[115,79,115,82],[116,0,116,8],[116,9,116,19],[116,20,116,27],[116,28,116,29],[116,31,116,32],[116,34,116,35],[116,37,116,38],[116,39,116,47],[116,48,116,55],[116,56,116,64],[116,65,116,72],[116,73,116,77],[116,79,116,82],[117,0,117,8],[117,9,117,19],[117,20,117,27],[117,28,117,29],[117,31,117,32],[117,34,117,35],[117,37,117,38],[117,39,117,47],[117,48,117,55],[117,56,117,64],[117,65,117,72],[117,73,117,77],[117,79,117,82],[118,0,118,8],[118,9,118,19],[118,20,118,27],[118,28,118,29],[118,31,118,32],[118,34,118,35],[118,37,118,38],[118,39,118,47],[118,48,118,55],[118,56,118,64],[118,65,118,72],[118,73,118,77],[118,79,118,82],[119,0,119,8],[119,9,119,19],[119,20,119,27],[119,28,119,29],[119,31,119,32],[119,34,119,35],[119,37,119,38],[119,39,119,47],[119,48,119,55],[119,56,119,64],[119,65,119,72],[119,73,119,77],[119,79,119,82],[120,0,120,8],[120,9,120,19],[120,20,120,27],[120,28,120,29],[120,31,120,32],[120,34,120,35],[120,37,120,38],[120,39,120,47],[120,48,120,55],[120,56,120,64],[120,65,120,72],[120,73,120,77],[120,79,120,82],[121,0,121,8],[121,9,121,19],[121,20,121,27],[121,28,121,29],[121,31,121,32],[121,34,121,35],[121,37,121,38],[121,39,121,47],[121,48,121,55],[121,56,121,64],[121,65,121,72],[121,73,121,77],[121,79,121,82],[122,0,122,8],[122,9,122,19],[122,20,122,27],[122,28,122,29],[122,31,122,32],[122,34,122,35],[122,37,122,38],[122,39,122,47],[122,48,122,55],[122,56,122,64],[122,65,122,72],[122,73,122,77],[122,79,122,82],[123,0,123,8],[123,9,123,19],[123,20,123,27],[123,28,123,29],[123,31,123,32],[123,34,123,35],[123,37,123,38],[123,39,123,47],[123,48,123,55],[123,56,123,64],[123,65,123,72],[123,73,123,77],[123,79,123,82],[124,0,124,8],[124,9,124,19],[124,20,124,27],[124,28,124,29],[124,31,124,32],[124,34,124,35],[124,37,124,38],[124,39,124,47],[124,48,124,55],[124,56,124,64],[124,65,124,72],[124,73,124,77],[124,79,124,82],[125,0,125,8],[125,9,125,19],[125,20,125,27],[125,28,125,29],[125,31,125,32],[125,34,125,35],[125,37,125,38],[125,39,125,47],[125,48,125,55],[125,56,125,64],[125,65,125,72],[125,73,125,77],[125,79,125,82],[126,0,126,8],[126,9,126,19],[126,20,126,27],[126,28,126,29],[126,31,126,32],[126,34,126,35],[126,37,126,38],[126,39,126,47],[126,48,126,55],[126,56,126,64],[126,65,126,72],[126,73,126,77],[126,79,126,82],[127,0,127,8],[127,9,127,19],[127,20,127,27],[127,28,127,29],[127,31,127,32],[127,34,127,35],[127,37,127,38],[127,39,127,47],[127,48,127,55],[127,56,127,64],[127,65,127,72],[127,73,127,77],[127,79,127,82],[129,0,129,82]],"merged_total":1410,"flags":["merged_cut"]}
["別表２　換気設備を設けるべき調理室等の換気風量測定表（Ａ４）"]
[]
["測定年月日",{"$nulls":10},"令和",{"$nulls":4},"年",{"$nulls":3},"月",{"$nulls":3},"日",{"$nulls":3},"測定機器　メーカー名",{"$nulls":27},"型式番号等"]
["室番（場所）",{"$nulls":8},"使用器具",{"$nulls":10},"発熱量(kW)",{"$nulls":7},"換気型式(n)",{"$nulls":10},"必要換気量(m3/h)",{"$nulls":8},"開口面積(㎡)",{"$nulls":7},"測定風速＊注(m/s)",{"$nulls":8},"測定風量(m3/h)",{"$nulls":7},"判　　定"]
[{"$nulls":30},"・",null,null,"・",null,null,"・",null,null,{"$f":"U5*CN5*0.93","v":0},{"$nulls":25},{"$f":"IF(OR(AW5=\"\",BE5=\"\"),\"\",AW5*BE5*3600)","v":""},{"$nulls":7},"指摘なし",{"$nulls":4},"・","要是正"]
[{"$nulls":30},"・",null,null,"・",null,null,"・",null,null,{"$f":"U6*CN6*0.93","v":0},{"$nulls":25},"",{"$nulls":7},"指摘なし",{"$nulls":4},"・","要是正"]
[{"$nulls":30},"・",null,null,"・",null,null,"・",null,null,0,{"$nulls":25},"",{"$nulls":7},"指摘なし",{"$nulls":4},"・","要是正"]
[{"$nulls":30},"・",null,null,"・",null,null,"・",null,null,0,{"$nulls":25},"",{"$nulls":7},"指摘なし",{"$nulls":4},"・","要是正"]
[{"$nulls":30},"・",null,null,"・",null,null,"・",null,null,0,{"$nulls":25},"",{"$nulls":7},"指摘なし",{"$nulls":4},"・","要是正"]
[{"$nulls":30},"・",null,null,"・",null,null,"・",null,null,0,{"$nulls":25},"",{"$nulls":7},"指摘なし",{"$nulls":4},"・","要是正"]
[{"$nulls":30},"・",null,null,"・",null,null,"・",null,null,0,{"$nulls":25},"",{"$nulls":7},"指摘なし",{"$nulls":4},"・","要是正"]
[{"$nulls":30},"・",null,null,"・",null,null,"・",null,null,0,{"$nulls":25},"",{"$nulls":7},"指摘なし",{"$nulls":4},"・","要是正"]
[{"$nulls":30},"・",null,null,"・",null,null,"・",null,null,0,{"$nulls":25},"",{"$nulls":7},"指摘なし",{"$nulls":4},"・","要是正"]
[{"$nulls":30},"・",null,null,"・",null,null,"・",null,null,0,{"$nulls":25},"",{"$nulls":7},"指摘なし",{"$nulls":4},"・","要是正"]
[{"$nulls":30},"・",null,null,"・",null,null,"・",null,null,0,{"$nulls":25},"",{"$nulls":7},"指摘なし",{"$nulls":4},"・","要是正"]
[{"$nulls":30},"・",null,null,"・",null,null,"・",null,null,0,{"$nulls":25},"",{"$nulls":7},"指摘なし",{"$nulls":4},"・","要是正"]
[{"$nulls":30},"・",null,null,"・",null,null,"・",null,null,0,{"$nulls":25},"",{"$nulls":7},"指摘なし",{"$nulls":4},"・","要是正"]
[{"$nulls":30},"・",null,null,"・",null,null,"・",null,null,0,{"$nulls":25},"",{"$nulls":7},"指摘なし",{"$nulls":4},"・","要是正"]
[{"$nulls":30},"・",null,null,"・",null,null,"・",null,null,0,{"$nulls":25},"",{"$nulls":7},"指摘なし",{"$nulls":4},"・","要是正"]
[{"$nulls":30},"・",null,null,"・",null,null,"・",null,null,0,{"$nulls":25},"",{"$nulls":7},"指摘なし",{"$nulls":4},"・","要是正"]
[{"$nulls":30},"・",null,null,"・",null,null,"・",null,null,0,{"$nulls":25},"",{"$nulls":7},"指摘なし",{"$nulls":4},"・","要是正"]
[{"$nulls":30},"・",null,null,"・",null,null,"・",null,null,0,{"$nulls":25},"",{"$nulls":7},"指摘なし",{"$nulls":4},"・","要是正"]
[{"$nulls":30},"・",null,null,"・",null,null,"・",null,null,0,{"$nulls":25},"",{"$nulls":7},"指摘なし",{"$nulls":4},"・","要是正"]
[{"$nulls":30},"・",null,null,"・",null,null,"・",null,null,0,{"$nulls":25},"",{"$nulls":7},"指摘なし",{"$nulls":4},"・","要是正"]
[]
["注）「測定風速」欄には、原則として測定した箇所の平均風速を記入する。"]
["別表２　換気設備を設けるべき調理室等の換気風量測定表２（Ａ４）"]
[]
["測定年月日",{"$nulls":10},"令和",{"$nulls":4},"年",{"$nulls":3},"月",{"$nulls":3},"日",{"$nulls":3},"測定機器　メーカー名",{"$nulls":27},"型式番号等"]
["室番（場所）",{"$nulls":8},"使用器具",{"$nulls":10},"発熱量(kW)",{"$nulls":7},"換気型式(n)",{"$nulls":10},"必要換気量(m3/h)",{"$nulls":8},"開口面積(㎡)",{"$nulls":7},"測定風速＊注(m/s)",{"$nulls":8},"測定風量(m3/h)",{"$nulls":7},"判　　定"]
[{"$nulls":30},"・",null,null,"・",null,null,"・",null,null,{"$f":"U31*CN31*0.93","v":0},{"$nulls":25},{"$f":"IF(OR(AW31=\"\",BE31=\"\"),\"\",AW31*BE31*3600)","v":""},{"$nulls":7},"指摘なし",{"$nulls":4},"・","要是正"]
[{"$nulls":30},"・",null,null,"・",null,null,"・",null,null,0,{"$nulls":25},"",{"$nulls":7},"指摘なし",{"$nulls":4},"・","要是正"]
[{"$nulls":30},"・",null,null,"・",null,null,"・",null,null,0,{"$nulls":25},"",{"$nulls":7},"指摘なし",{"$nulls":4},"・","要是正"]
[{"$nulls":30},"・",null,null,"・",null,null,"・",null,null,0,{"$nulls":25},"",{"$nulls":7},"指摘なし",{"$nulls":4},"・","要是正"]
[{"$nulls":30},"・",null,null,"・",null,null,"・",null,null,0,{"$nulls":25},"",{"$nulls":7},"指摘なし",{"$nulls":4},"・","要是正"]
[{"$nulls":30},"・",null,null,"・",null,null,"・",null,null,0,{"$nulls":25},"",{"$nulls":7},"指摘なし",{"$nulls":4},"・","要是正"]
[{"$nulls":30},"・",null,null,"・",null,null,"・",null,null,0,{"$nulls":25},"",{"$nulls":7},"指摘なし",{"$nulls":4},"・","要是正"]
[{"$nulls":30},"・",null,null,"・",null,null,"・",null,null,0,{"$nulls":25},"",{"$nulls":7},"指摘なし",{"$nulls":4},"・","要是正"]
[{"$nulls":30},"・",null,null,"・",null,null,"・",null,null,0,{"$nulls":25},"",{"$nulls":7},"指摘なし",{"$nulls":4},"・","要是正"]
[{"$nulls":30},"・",null,null,"・",null,null,"・",null,null,0,{"$nulls":25},"",{"$nulls":7},"指摘なし",{"$nulls":4},"・","要是正"]
[{"$nulls":30},"・",null,null,"・",null,null,"・",null,null,0,{"$nulls":25},"",{"$nulls":7},"指摘なし",{"$nulls":4},"・","要是正"]
[{"$nulls":30},"・",null,null,"・",null,null,"・",null,null,0,{"$nulls":25},"",{"$nulls":7},"指摘なし",{"$nulls":4},"・","要是正"]
[{"$nulls":30},"・",null,null,"・",null,null,"・",null,null,0,{"$nulls":25},"",{"$nulls":7},"指摘なし",{"$nulls":4},"・","要是正"]
[{"$nulls":30},"・",null,null,"・",null,null,"・",null,null,0,{"$nulls":25},"",{"$nulls":7},"指摘なし",{"$nulls":4},"・","要是正"]
[{"$nulls":30},"・",null,null,"・",null,null,"・",null,null,0,{"$nulls":25},"",{"$nulls":7},"指摘なし",{"$nulls":4},"・","要是正"]
[{"$nulls":30},"・",null,null,"・",null,null,"・",null,null,0,{"$nulls":25},"",{"$nulls":7},"指摘なし",{"$nulls":4},"・","要是正"]
[{"$nulls":30},"・",null,null,"・",null,null,"・",null,null,0,{"$nulls":25},"",{"$nulls":7},"指摘なし",{"$nulls":4},"・","要是正"]
[{"$nulls":30},"・",null,null,"・",null,null,"・",null,null,0,{"$nulls":25},"",{"$nulls":7},"指摘なし",{"$nulls":4},"・","要是正"]
[{"$nulls":30},"・",null,null,"・",null,null,"・",null,null,0,{"$nulls":25},"",{"$nulls":7},"指摘なし",{"$nulls":4},"・","要是正"]
[{"$nulls":30},"・",null,null,"・",null,null,"・",null,null,0,{"$nulls":25},"",{"$nulls":7},"指摘なし",{"$nulls":4},"・","要是正"]
[]
["注）「測定風速」欄には、原則として測定した箇所の平均風速を記入する。"]
["別表２　換気設備を設けるべき調理室等の換気風量測定表３（Ａ４）"]
[]
["測定年月日",{"$nulls":10},"令和",{"$nulls":4},"年",{"$nulls":3},"月",{"$nulls":3},"日",{"$nulls":3},"測定機器　メーカー名",{"$nulls":27},"型式番号等"]
["室番（場所）",{"$nulls":8},"使用器具",{"$nulls":10},"発熱量(kW)",{"$nulls":7},"換気型式(n)",{"$nulls":10},"必要換気量(m3/h)",{"$nulls":8},"開口面積(㎡)",{"$nulls":7},"測定風速＊注(m/s)",{"$nulls":8},"測定風量(m3/h)",{"$nulls":7},"判　　定"]
[{"$nulls":30},"・",null,null,"・",null,null,"・",null,null,{"$f":"U57*CN57*0.93","v":0},{"$nulls":25},{"$f":"IF(OR(AW57=\"\",BE57=\"\"),\"\",AW57*BE57*3600)","v":""},{"$nulls":7},"指摘なし",{"$nulls":4},"・","要是正"]
[{"$nulls":30},"・",null,null,"・",null,null,"・",null,null,0,{"$nulls":25},"",{"$nulls":7},"指摘なし",{"$nulls":4},"・","要是正"]
[{"$nulls":30},"・",null,null,"・",null,null,"・",null,null,0,{"$nulls":25},"",{"$nulls":7},"指摘なし",{"$nulls":4},"・","要是正"]
[{"$nulls":30},"・",null,null,"・",null,null,"・",null,null,0,{"$nulls":25},"",{"$nulls":7},"指摘なし",{"$nulls":4},"・","要是正"]
[{"$nulls":30},"・",null,null,"・",null,null,"・",null,null,0,{"$nulls":25},"",{"$nulls":7},"指摘なし",{"$nulls":4},"・","要是正"]
[{"$nulls":30},"・",null,null,"・",null,null,"・",null,null,0,{"$nulls":25},"",{"$nulls":7},"指摘なし",{"$nulls":4},"・","要是正"]
[{"$nulls":30},"・",null,null,"・",null,null,"・",null,null,0,{"$nulls":25},"",{"$nulls":7},"指摘なし",{"$nulls":4},"・","要是正"]
[{"$nulls":30},"・",null,null,"・",null,null,"・",null,null,0,{"$nulls":25},"",{"$nulls":7},"指摘なし",{"$nulls":4},"・","要是正"]
[{"$nulls":30},"・",null,null,"・",null,null,"・",null,null,0,{"$nulls":25},"",{"$nulls":7},"指摘なし",{"$nulls":4},"・","要是正"]
[{"$nulls":30},"・",null,null,"・",null,null,"・",null,null,0,{"$nulls":25},"",{"$nulls":7},"指摘なし",{"$nulls":4},"・","要是正"]
[{"$nulls":30},"・",null,null,"・",null,null,"・",null,null,0,{"$nulls":25},"",{"$nulls":7},"指摘なし",{"$nulls":4},"・","要是正"]
[{"$nulls":30},"・",null,null,"・",null,null,"・",null,null,0,{"$nulls":25},"",{"$nulls":7},"指摘なし",{"$nulls":4},"・","要是正"]
[{"$nulls":30},"・",null,null,"・",null,null,"・",null,null,0,{"$nulls":25},"",{"$nulls":7},"指摘なし",{"$nulls":4},"・","要是正"]
[{"$nulls":30},"・",null,null,"・",null,null,"・",null,null,0,{"$nulls":25},"",{"$nulls":7},"指摘なし",{"$nulls":4},"・","要是正"]
[{"$nulls":30},"・",null,null,"・",null,null,"・",null,null,0,{"$nulls":25},"",{"$nulls":7},"指摘なし",{"$nulls":4},"・","要是正"]
[{"$nulls":30},"・",null,null,"・",null,null,"・",null,null,0,{"$nulls":25},"",{"$nulls":7},"指摘なし",{"$nulls":4},"・","要是正"]
[{"$nulls":30},"・",null,null,"・",null,null,"・",null,null,0,{"$nulls":25},"",{"$nulls":7},"指摘なし",{"$nulls":4},"・","要是正"]
[{"$nulls":30},"・",null,null,"・",null,null,"・",null,null,0,{"$nulls":25},"",{"$nulls":7},"指摘なし",{"$nulls":4},"・","要是正"]
[{"$nulls":30},"・",null,null,"・",null,null,"・",null,null,0,{"$nulls":25},"",{"$nulls":7},"指摘なし",{"$nulls":4},"・","要是正"]
[{"$nulls":30},"・",null,null,"・",null,null,"・",null,null,0,{"$nulls":25},"",{"$nulls":7},"指摘なし",{"$nulls":4},"・","要是正"]
[]
["注）「測定風速」欄には、原則として測定した箇所の平均風速を記入する。"]
["別表２　換気設備を設けるべき調理室等の換気風量測定表４（Ａ４）"]
[]
["測定年月日",{"$nulls":10},"令和",{"$nulls":4},"年",{"$nulls":3},"月",{"$nulls":3},"日",{"$nulls":3},"測定機器　メーカー名",{"$nulls":27},"型式番号等"]
["室番（場所）",{"$nulls":8},"使用器具",{"$nulls":10},"発熱量(kW)",{"$nulls":7},"換気型式(n)",{"$nulls":10},"必要換気量(m3/h)",{"$nulls":8},"開口面積(㎡)",{"$nulls":7},"測定風速＊注(m/s)",{"$nulls":8},"測定風量(m3/h)",{"$nulls":7},"判　　定"]
[{"$nulls":30},"・",null,null,"・",null,null,"・",null,null,{"$f":"U83*CN83*0.93","v":0},{"$nulls":25},{"$f":"IF(OR(AW83=\"\",BE83=\"\"),\"\",AW83*BE83*3600)","v":""},{"$nulls":7},"指摘なし",{"$nulls":4},"・","要是正"]
[{"$nulls":30},"・",null,null,"・",null,null,"・",null,null,0,{"$nulls":25},"",{"$nulls":7},"指摘なし",{"$nulls":4},"・","要是正"]
[{"$nulls":30},"・",null,null,"・",null,null,"・",null,null,0,{"$nulls":25},"",{"$nulls":7},"指摘なし",{"$nulls":4},"・","要是正"]
[{"$nulls":30},"・",null,null,"・",null,null,"・",null,null,0,{"$nulls":25},"",{"$nulls":7},"指摘なし",{"$nulls":4},"・","要是正"]
[{"$nulls":30},"・",null,null,"・",null,null,"・",null,null,0,{"$nulls":25},"",{"$nulls":7},"指摘なし",{"$nulls":4},"・","要是正"]
[{"$nulls":30},"・",null,null,"・",null,null,"・",null,null,0,{"$nulls":25},"",{"$nulls":7},"指摘なし",{"$nulls":4},"・","要是正"]
[{"$nulls":30},"・",null,null,"・",null,null,"・",null,null,0,{"$nulls":25},"",{"$nulls":7},"指摘なし",{"$nulls":4},"・","要是正"]
[{"$nulls":30},"・",null,null,"・",null,null,"・",null,null,0,{"$nulls":25},"",{"$nulls":7},"指摘なし",{"$nulls":4},"・","要是正"]
[{"$nulls":30},"・",null,null,"・",null,null,"・",null,null,0,{"$nulls":25},"",{"$nulls":7},"指摘なし",{"$nulls":4},"・","要是正"]
[{"$nulls":30},"・",null,null,"・",null,null,"・",null,null,0,{"$nulls":25},"",{"$nulls":7},"指摘なし",{"$nulls":4},"・","要是正"]
[{"$nulls":30},"・",null,null,"・",null,null,"・",null,null,0,{"$nulls":25},"",{"$nulls":7},"指摘なし",{"$nulls":4},"・","要是正"]
[{"$nulls":30},"・",null,null,"・",null,null,"・",null,null,0,{"$nulls":25},"",{"$nulls":7},"指摘なし",{"$nulls":4},"・","要是正"]
[{"$nulls":30},"・",null,null,"・",null,null,"・",null,null,0,{"$nulls":25},"",{"$nulls":7},"指摘なし",{"$nulls":4},"・","要是正"]
[{"$nulls":30},"・",null,null,"・",null,null,"・",null,null,0,{"$nulls":25},"",{"$nulls":7},"指摘なし",{"$nulls":4},"・","要是正"]
[{"$nulls":30},"・",null,null,"・",null,null,"・",null,null,0,{"$nulls":25},"",{"$nulls":7},"指摘なし",{"$nulls":4},"・","要是正"]
[{"$nulls":30},"・",null,null,"・",null,null,"・",null,null,0,{"$nulls":25},"",{"$nulls":7},"指摘なし",{"$nulls":4},"・","要是正"]
[{"$nulls":30},"・",null,null,"・",null,null,"・",null,null,0,{"$nulls":25},"",{"$nulls":7},"指摘なし",{"$nulls":4},"・","要是正"]
[{"$nulls":30},"・",null,null,"・",null,null,"・",null,null,0,{"$nulls":25},"",{"$nulls":7},"指摘なし",{"$nulls":4},"・","要是正"]
[{"$nulls":30},"・",null,null,"・",null,null,"・",null,null,0,{"$nulls":25},"",{"$nulls":7},"指摘なし",{"$nulls":4},"・","要是正"]
[{"$nulls":30},"・",null,null,"・",null,null,"・",null,null,0,{"$nulls":25},"",{"$nulls":7},"指摘なし",{"$nulls":4},"・","要是正"]
[]
["注）「測定風速」欄には、原則として測定した箇所の平均風速を記入する。"]
["別表２　換気設備を設けるべき調理室等の換気風量測定表５（Ａ４）"]
[]
["測定年月日",{"$nulls":10},"令和",{"$nulls":4},"年",{"$nulls":3},"月",{"$nulls":3},"日",{"$nulls":3},"測定機器　メーカー名",{"$nulls":27},"型式番号等"]
["室番（場所）",{"$nulls":8},"使用器具",{"$nulls":10},"発熱量(kW)",{"$nulls":7},"換気型式(n)",{"$nulls":10},"必要換気量(m3/h)",{"$nulls":8},"開口面積(㎡)",{"$nulls":7},"測定風速＊注(m/s)",{"$nulls":8},"測定風量(m3/h)",{"$nulls":7},"判　　定"]
[{"$nulls":30},"・",null,null,"・",null,null,"・",null,null,{"$f":"U109*CN109*0.93","v":0},{"$nulls":25},{"$f":"IF(OR(AW109=\"\",BE109=\"\"),\"\",AW109*BE109*3600)","v":""},{"$nulls":7},"指摘なし",{"$nulls":4},"・","要是正"]
[{"$nulls":30},"・",null,null,"・",null,null,"・",null,null,0,{"$nulls":25},"",{"$nulls":7},"指摘なし",{"$nulls":4},"・","要是正"]
[{"$nulls":30},"・",null,null,"・",null,null,"・",null,null,0,{"$nulls":25},"",{"$nulls":7},"指摘なし",{"$nulls":4},"・","要是正"]
[{"$nulls":30},"・",null,null,"・",null,null,"・",null,null,0,{"$nulls":25},"",{"$nulls":7},"指摘なし",{"$nulls":4},"・","要是正"]
[{"$nulls":30},"・",null,null,"・",null,null,"・",null,null,0,{"$nulls":25},"",{"$nulls":7},"指摘なし",{"$nulls":4},"・","要是正"]
[{"$nulls":30},"・",null,null,"・",null,null,"・",null,null,0,{"$nulls":25},"",{"$nulls":7},"指摘なし",{"$nulls":4},"・","要是正"]
[{"$nulls":30},"・",null,null,"・",null,null,"・",null,null,0,{"$nulls":25},"",{"$nulls":7},"指摘なし",{"$nulls":4},"・","要是正"]
[{"$nulls":30},"・",null,null,"・",null,null,"・",null,null,0,{"$nulls":25},"",{"$nulls":7},"指摘なし",{"$nulls":4},"・","要是正"]
[{"$nulls":30},"・",null,null,"・",null,null,"・",null,null,0,{"$nulls":25},"",{"$nulls":7},"指摘なし",{"$nulls":4},"・","要是正"]
[{"$nulls":30},"・",null,null,"・",null,null,"・",null,null,0,{"$nulls":25},"",{"$nulls":7},"指摘なし",{"$nulls":4},"・","要是正"]
[{"$nulls":30},"・",null,null,"・",null,null,"・",null,null,0,{"$nulls":25},"",{"$nulls":7},"指摘なし",{"$nulls":4},"・","要是正"]
[{"$nulls":30},"・",null,null,"・",null,null,"・",null,null,0,{"$nulls":25},"",{"$nulls":7},"指摘なし",{"$nulls":4},"・","要是正"]
[{"$nulls":30},"・",null,null,"・",null,null,"・",null,null,0,{"$nulls":25},"",{"$nulls":7},"指摘なし",{"$nulls":4},"・","要是正"]
[{"$nulls":30},"・",null,null,"・",null,null,"・",null,null,0,{"$nulls":25},"",{"$nulls":7},"指摘なし",{"$nulls":4},"・","要是正"]
[{"$nulls":30},"・",null,null,"・",null,null,"・",null,null,0,{"$nulls":25},"",{"$nulls":7},"指摘なし",{"$nulls":4},"・","要是正"]
[{"$nulls":30},"・",null,null,"・",null,null,"・",null,null,0,{"$nulls":25},"",{"$nulls":7},"指摘なし",{"$nulls":4},"・","要是正"]
[{"$nulls":30},"・",null,null,"・",null,null,"・",null,null,0,{"$nulls":25},"",{"$nulls":7},"指摘なし",{"$nulls":4},"・","要是正"]
[{"$nulls":30},"・",null,null,"・",null,null,"・",null,null,0,{"$nulls":25},"",{"$nulls":7},"指摘なし",{"$nulls":4},"・","要是正"]
[{"$nulls":30},"・",null,null,"・",null,null,"・",null,null,0,{"$nulls":25},"",{"$nulls":7},"指摘なし",{"$nulls":4},"・","要是正"]
[{"$nulls":30},"・",null,null,"・",null,null,"・",null,null,0,{"$nulls":25},"",{"$nulls":7},"指摘なし",{"$nulls":4},"・","要是正"]
[]
["注）「測定風速」欄には、原則として測定した箇所の平均風速を記入する。"]

{"sheet":"別表３（排煙－記録表）","index":9,"n_rows":183,"n_cols":78,"rows_kept":183,"merged":[[2,0,2,5],[2,7,2,8],[2,9,2,10],[2,12,2,13],[2,15,2,16],[2,17,2,18],[2,19,2,32],[2,33,2,50],[2,51,2,58],[2,59,2,80],[3,0,3,1],[3,2,3,32],[3,33,3,46],[3,47,3,80],[4,2,4,32],[4,33,4,46],[4,47,4,55],[4,56,4,60],[4,61,4,62],[4,63,4,64],[4,65,4,66],[4,67,4,68],[4,69,4,70],[4,71,4,75],[6,0,6,1],[6,2,6,70],[6,71,7,80],[7,2,7,5],[7,6,7,21],[7,22,7,32],[7,33,7,46],[7,47,7,58],[7,59,7,70],[8,2,8,5],[8,6,8,21],[8,22,8,32],[8,33,8,46],[8,47,8,58],[8,59,8,70],[8,71,8,75],[8,77,8,80],[9,2,9,5],[9,6,9,21],[9,22,9,32],[9,33,9,46],[9,47,9,58],[9,59,9,70],[9,71,9,75],[9,77,9,80],[10,2,10,5],[10,6,10,21],[10,22,10,32],[10,33,10,46],[10,47,10,58],[10,59,10,70],[10,71,10,75],[10,77,10,80],[11,2,11,5],[11,6,11,21],[11,22,11,32],[11,33,11,46],[11,47,11,58],[11,59,11,70],[11,71,11,75],[11,77,11,80],[12,2,12,5],[12,6,12,21],[12,22,12,32],[12,33,12,46],[12,47,12,58],[12,59,12,70],[12,71,12,75],[12,77,12,80],[13,2,13,5],[13,6,13,21],[13,22,13,32],[13,33,13,46],[13,47,13,58],[13,59,13,70],[13,71,13,75],[13,77,13,80],[14,2,14,5],[14,6,14,21],[14,22,14,32],[14,33,14,46],[14,47,14,58],[14,59,14,70],[14,71,14,75],[14,77,14,80],[15,2,15,5],[15,6,15,21],[15,22,15,32],[15,33,15,46],[15,47,15,58],[15,59,15,70],[15,71,15,75],[15,77,15,80],[16,2,16,5],[16,6,16,21],[16,22,16,32],[16,33,16,46],[16,47,16,58],[16,59,16,70],[16,71,16,75],[16,77,16,80],[17,2,17,5],[17,6,17,21],[17,22,17,32],[17,33,17,46],[17,47,17,58],[17,59,17,70],[17,71,17,75],[17,77,17,80],[19,0,19,1],[19,2,19,70],[19,71,20,80],[20,2,20,17],[20,18,20,32],[20,33,20,46],[20,47,20,58],[20,59,20,70],[21,2,21,17],[21,18,21,32],[21,33,21,46],[21,47,21,58],[21,59,21,70],[21,71,21,75],[21,77,21,80],[23,0,23,1],[23,2,23,21],[23,22,23,42],[23,45,23,46],[23,47,23,80],[24,7,24,9],[24,13,24,15],[24,16,24,21],[24,26,24,30],[24,32,24,33],[24,35,24,38],[24,47,37,80],[27,2,27,42],[28,2,28,42],[29,2,29,42],[30,2,30,42],[40,0,40,5],[40,7,40,8],[40,9,40,10],[40,12,40,13],[40,15,40,16],[40,17,40,18],[40,19,40,32],[40,33,40,50],[40,51,40,58],[40,59,40,80],[41,0,41,1],[41,2,41,32],[41,33,41,46],[41,47,41,80],[42,2,42,32],[42,33,42,46],[42,47,42,55],[42,56,42,60],[42,61,42,62],[42,63,42,64],[42,65,42,66],[42,67,42,68],[42,69,42,70],[42,71,42,75],[44,0,44,1],[44,2,44,70],[44,71,45,80],[45,2,45,5],[45,6,45,21],[45,22,45,32],[45,33,45,46],[45,47,45,58],[45,59,45,70],[46,2,46,5],[46,6,46,21],[46,22,46,32],[46,33,46,46],[46,47,46,58],[46,59,46,70],[46,71,46,75],[46,77,46,80],[47,2,47,5],[47,6,47,21],[47,22,47,32],[47,33,47,46],[47,47,47,58],[47,59,47,70],[47,71,47,75],[47,77,47,80],[48,2,48,5],[48,6,48,21],[48,22,48,32],[48,33,48,46],[48,47,48,58],[48,59,48,70],[48,71,48,75],[48,77,48,80],[49,2,49,5],[49,6,49,21],[49,22,49,32],[49,33,49,46],[49,47,49,58],[49,59,49,70],[49,71,49,75],[49,77,49,80],[50,2,50,5],[50,6,50,21],[50,22,50,32],[50,33,50,46],[50,47,50,58],[50,59,50,70],[50,71,50,75],[50,77,50,80],[51,2,51,5],[51,6,51,21],[51,22,51,32],[51,33,51,46],[51,47,51,58],[51,59,51,70],[51,71,51,75],[51,77,51,80],[52,2,52,5],[52,6,52,21],[52,22,52,32],[52,33,52,46],[52,47,52,58],[52,59,52,70],[52,71,52,75],[52,77,52,80],[53,2,53,5],[53,6,53,21],[53,22,53,32],[53,33,53,46],[53,47,53,58],[53,59,53,70],[53,71,53,75],[53,77,53,80],[54,2,54,5],[54,6,54,21],[54,22,54,32],[54,33,54,46],[54,47,54,58],[54,59,54,70],[54,71,54,75],[54,77,54,80],[55,2,55,5],[55,6,55,21],[55,22,55,32],[55,33,55,46],[55,47,55,58],[55,59,55,70],[55,71,55,75],[55,77,55,80],[57,0,57,1],[57,2,57,70],[57,71,58,80],[58,2,58,17],[58,18,58,32],[58,33,58,46],[58,47,58,58],[58,59,58,70],[59,2,59,17],[59,18,59,32],[59,33,59,46],[59,47,59,58],[59,59,59,70],[59,71,59,75],[59,77,59,80],[61,0,61,1],[61,2,61,21],[61,22,61,42],[61,45,61,46],[61,47,61,80],[62,7,62,9],[62,13,62,15],[62,16,62,21],[62,26,62,30],[62,32,62,33],[62,35,62,38],[62,47,75,80],[65,2,65,42],[66,2,66,42],[67,2,67,42],[68,2,68,42],[78,0,78,5],[78,7,78,8],[78,9,78,10],[78,12,78,13],[78,15,78,16],[78,17,78,18],[78,19,78,32],[78,33,78,50],[78,51,78,58],[78,59,78,80],[79,0,79,1],[79,2,79,32],[79,33,79,46],[79,47,79,80],[80,2,80,32],[80,33,80,46],[80,47,80,55],[80,56,80,60],[80,61,80,62],[80,63,80,64],[80,65,80,66],[80,67,80,68],[80,69,80,70],[80,71,80,75],[82,0,82,1],[82,2,82,70],[82,71,83,80],[83,2,83,5],[83,6,83,21],[83,22,83,32],[83,33,83,46],[83,47,83,58],[83,59,83,70],[84,2,84,5],[84,6,84,21],[84,22,84,32],[84,33,84,46],[84,47,84,58],[84,59,84,70],[84,71,84,75],[84,77,84,80],[85,2,85,5],[85,6,85,21],[85,22,85,32],[85,33,85,46],[85,47,85,58],[85,59,85,70],[85,71,85,75],[85,77,85,80],[86,2,86,5],[86,6,86,21],[86,22,86,32],[86,33,86,46],[86,47,86,58],[86,59,86,70],[86,71,86,75],[86,77,86,80],[87,2,87,5],[87,6,87,21],[87,22,87,32],[87,33,87,46],[87,47,87,58],[87,59,87,70],[87,71,87,75],[87,77,87,80],[88,2,88,5],[88,6,88,21],[88,22,88,32],[88,33,88,46],[88,47,88,58],[88,59,88,70],[88,71,88,75],[88,77,88,80],[89,2,89,5],[89,6,89,21],[89,22,89,32],[89,33,89,46],[89,47,89,58],[89,59,89,70],[89,71,89,75],[89,77,89,80],[90,2,90,5],[90,6,90,21],[90,22,90,32],[90,33,90,46],[90,47,90,58],[90,59,90,70],[90,71,90,75],[90,77,90,80],[91,2,91,5],[91,6,91,21],[91,22,91,32],[91,33,91,46],[91,47,91,58],[91,59,91,70],[91,71,91,75],[91,77,91,80],[92,2,92,5],[92,6,92,21],[92,22,92,32],[92,33,92,46],[92,47,92,58],[92,59,92,70],[92,71,92,75],[92,77,92,80],[93,2,93,5],[93,6,93,21],[93,22,93,32],[93,33,93,46],[93,47,93,58],[93,59,93,70],[93,71,93,75],[93,77,93,80],[95,0,95,1],[95,2,95,70],[95,71,96,80],[96,2,96,17],[96,18,96,32],[96,33,96,46],[96,47,96,58],[96,59,96,70],[97,2,97,17],[97,18,97,32],[97,33,97,46],[97,47,97,58],[97,59,97,70],[97,71,97,75],[97,77,97,80],[99,0,99,1],[99,2,99,21],[99,22,99,42],[99,45,99,46],[99,47,99,80],[100,7,100,9],[100,13,100,15],[100,16,100,21],[100,26,100,30],[100,32,100,33],[100,35,100,38],[100,47,113,80],[103,2,103,42],[104,2,104,42],[105,2,105,42],[106,2,106,42],[116,0,116,5],[116,7,116,8],[116,9,116,10],[116,12,116,13],[116,15,116,16],[116,17,116,18],[116,19,116,32],[116,33,116,50],[116,51,116,58],[116,59,116,80],[117,0,117,1],[117,2,117,32],[117,33,117,46],[117,47,117,80],[118,2,118,32],[118,33,118,46],[118,47,118,55],[118,56,118,60],[118,61,118,62],[118,63,118,64],[118,65,118,66],[118,67,118,68],[118,69,118,70],[118,71,118,75],[120,0,120,1],[120,2,120,70],[120,71,121,80],[121,2,121,5],[121,6,121,21],[121,22,121,32],[121,33,121,46],[121,47,121,58],[121,59,121,70],[122,2,122,5],[122,6,122,21],[122,22,122,32],[122,33,122,46],[122,47,122,58],[122,59,122,70],[122,71,122,75],[122,77,122,80],[123,2,123,5],[123,6,123,21],[123,22,123,32],[123,33,123,46],[123,47,123,58],[123,59,123,70],[123,71,123,75],[123,77,123,80],[124,2,124,5],[124,6,124,21],[124,22,124,32],[124,33,124,46],[124,47,124,58],[124,59,124,70],[124,71,124,75],[124,77,124,80],[125,2,125,5],[125,6,125,21],[125,22,125,32],[125,33,125,46],[125,47,125,58],[125,59,125,70],[125,71,125,75],[125,77,125,80],[126,2,126,5],[126,6,126,21],[126,22,126,32],[126,33,126,46],[126,47,126,58],[126,59,126,70],[126,71,126,75],[126,77,126,80],[127,2,127,5],[127,6,127,21],[127,22,127,32],[127,33,127,46],[127,47,127,58],[127,59,127,70],[127,71,127,75],[127,77,127,80],[128,2,128,5],[128,6,128,21],[128,22,128,32],[128,33,128,46],[128,47,128,58],[128,59,128,70],[128,71,128,75],[128,77,128,80],[129,2,129,5],[129,6,129,21],[129,22,129,32],[129,33,129,46],[129,47,129,58],[129,59,129,70],[129,71,129,75],[129,77,129,80],[130,2,130,5],[130,6,130,21],[130,22,130,32],[130,33,130,46],[130,47,130,58],[130,59,130,70],[130,71,130,75],[130,77,130,80],[131,2,131,5],[131,6,131,21],[131,22,131,32],[131,33,131,46],[131,47,131,58],[131,59,131,70],[131,71,131,75],[131,77,131,80],[133,0,133,1],[133,2,133,70],[133,71,134,80],[134,2,134,17],[134,18,134,32],[134,33,134,46],[134,47,134,58],[134,59,134,70],[135,2,135,17],[135,18,135,32],[135,33,135,46],[135,47,135,58],[135,59,135,70],[135,71,135,75],[135,77,135,80],[137,0,137,1],[137,2,137,21],[137,22,137,42],[137,45,137,46],[137,47,137,80],[138,7,138,9],[138,13,138,15],[138,16,138,21],[138,26,138,30],[138,32,138,33],[138,35,138,38],[138,47,151,80],[141,2,141,42],[142,2,142,42],[143,2,143,42],[144,2,144,42],[154,0,154,5],[154,7,154,8],[154,9,154,10],[154,12,154,13],[154,15,154,16],[154,17,154,18],[154,19,154,32],[154,33,154,50],[154,51,154,58],[154,59,154,80],[155,0,155,1],[155,2,155,32],[155,33,155,46],[155,47,155,80],[156,2,156,32],[156,33,156,46],[156,47,156,55],[156,56,156,60],[156,61,156,62],[156,63,156,64],[156,65,156,66],[156,67,156,68],[156,69,156,70],[156,71,156,75],[158,0,158,1],[158,2,158,70],[158,71,159,80],[159,2,159,5],[159,6,159,21],[159,22,159,32],[159,33,159,46],[159,47,159,58],[159,59,159,70],[160,2,160,5],[160,6,160,21],[160,22,160,32],[160,33,160,46],[160,47,160,58],[160,59,160,70],[160,71,160,75],[160,77,160,80],[161,2,161,5],[161,6,161,21],[161,22,161,32],[161,33,161,46],[161,47,161,58],[161,59,161,70],[161,71,161,75],[161,77,161,80],[162,2,162,5],[162,6,162,21],[162,22,162,32],[162,33,162,46],[162,47,162,58],[162,59,162,70],[162,71,162,75],[162,77,162,80],[163,2,163,5],[163,6,163,21],[163,22,163,32],[163,33,163,46],[163,47,163,58],[163,59,163,70],[163,71,163,75],[163,77,163,80],[164,2,164,5],[164,6,164,21],[164,22,164,32],[164,33,164,46],[164,47,164,58],[164,59,164,70],[164,71,164,75],[164,77,164,80],[165,2,165,5],[165,6,165,21],[165,22,165,32],[165,33,165,46],[165,47,165,58],[165,59,165,70],[165,71,165,75],[165,77,165,80],[166,2,166,5],[166,6,166,21],[166,22,166,32],[166,33,166,46],[166,47,166,58],[166,59,166,70],[166,71,166,75],[166,77,166,80],[167,2,167,5],[167,6,167,21],[167,22,167,32],[167,33,167,46],[167,47,167,58],[167,59,167,70],[167,71,167,75],[167,77,167,80],[168,2,168,5],[168,6,168,21],[168,22,168,32],[168,33,168,46],[168,47,168,58],[168,59,168,70],[168,71,168,75],[168,77,168,80],[169,2,169,5],[169,6,169,21],[169,22,169,32],[169,33,169,46],[169,47,169,58],[169,59,169,70],[169,71,169,75],[169,77,169,80],[171,0,171,1],[171,2,171,70],[171,71,172,80],[172,2,172,17],[172,18,172,32],[172,33,172,46],[172,47,172,58],[172,59,172,70],[173,2,173,17],[173,18,173,32],[173,33,173,46],[173,47,173,58],[173,59,173,70],[173,71,173,75],[173,77,173,80],[175,0,175,1],[175,2,175,21],[175,22,175,42],[175,45,175,46],[175,47,175,80],[176,7,176,9],[176,13,176,15],[176,16,176,21],[176,26,176,30],[176,32,176,33],[176,35,176,38],[176,47,189,80],[179,2,179,42],[180,2,180,42],[181,2,181,42],[182,2,182,42]]}
["別表３　排煙風量測定記録表（Ａ４）＊注1)"]
[]
["測定年月日",{"$nulls":18},"測定機器　メーカー名",{"$nulls":31},"型式番号等"]
[1,null,"排煙機系統（機器番号等）",{"$nulls":30},"排煙機銘板表示",{"$nulls":13},"排煙機の規定風量"]
[{"$nulls":47},"最大防煙区画面積",{"$nulls":13},"㎡×",null,"",null,"or",null,"",null,"＝",null,{"$f":"IF(AND(BL5=\"○\",BP5=\"\"),BE5*1,IF(AND(BL5=\"\",BP5=\"○\"),BE5*2,\"\"))","v":""},{"$nulls":4},"m3/min"]
[]
[2,null,"排　　　　　煙　　　　　口",{"$nulls":68},"判　定"]
[null,null,"階",{"$nulls":3},"室　　　　　名",{"$nulls":15},"排煙口面積　(㎡)",{"$nulls":10},"測定風速　(m/s)＊注2)",{"$nulls":13},"測定風量(m3/min)",{"$nulls":11},"規定風量(m3/min)"]
[{"$nulls":47},{"$f":"IF(OR(W9=\"\",AH9=\"\"),\"\",60*W9*AH9)","v":""},{"$nulls":23},"指摘なし",{"$nulls":4},"・","要是正"]
[{"$nulls":47},"",{"$nulls":23},"指摘なし",{"$nulls":4},"・","要是正"]
[{"$nulls":47},"",{"$nulls":23},"指摘なし",{"$nulls":4},"・","要是正"]
[{"$nulls":47},"",{"$nulls":23},"指摘なし",{"$nulls":4},"・","要是正"]
[{"$nulls":47},"",{"$nulls":23},"指摘なし",{"$nulls":4},"・","要是正"]
[{"$nulls":47},"",{"$nulls":23},"指摘なし",{"$nulls":4},"・","要是正"]
[{"$nulls":47},"",{"$nulls":23},"指摘なし",{"$nulls":4},"・","要是正"]
[{"$nulls":47},"",{"$nulls":23},"指摘なし",{"$nulls":4},"・","要是正"]
[{"$nulls":47},"",{"$nulls":23},"指摘なし",{"$nulls":4},"・","要是正"]
[{"$nulls":47},"",{"$nulls":23},"指摘なし",{"$nulls":4},"・","要是正"]
[]
[3,null,"排　　　　　煙　　　　　機",{"$nulls":68},"判　定"]
[null,null,"排煙機（番号等）",{"$nulls":15},"煙排出口面積　(㎡)",{"$nulls":14},"測定風速　(m/s)＊注2)",{"$nulls":13},"測定風量(m3/min)",{"$nulls":11},"規定風量(m3/min)"]
[{"$nulls":47},{"$f":"IF(OR(S22=\"\",AH22=\"\"),\"\",60*S22*AH22)","v":""},{"$nulls":23},"指摘なし",{"$nulls":4},"・","要是正"]
[]
[4,null,"直結エンジン（内燃エンジン）の有無",{"$nulls":19},"予備電源又は直結エンジン切り替え",{"$nulls":22},5,null,"排煙系統図（排煙機と排煙口の対応関係がわかる図を記入すること）"]
[{"$nulls":7},"有",{"$nulls":3},"・",null,"無",{"$nulls":12},"指摘なし",{"$nulls":5},"・",null,null,"要是正"]
[]
[]
[null,null,"注1）本記録表は、排煙機系統ごとに記入する。"]
[null,null,"注2）「測定風速」欄には、原則として測定した箇所の平均風速を記入する。"]
[null,null,"注3）自主点検等による排煙風量測定記録がある場合は、実施時期、測定方法、測定"]
[null,null,"　　値等が適正であるか否かを判定すること。"]
{"$rows_empty":7}
["別表３　排煙風量測定記録表２（Ａ４）＊注1)"]
[]
["測定年月日",{"$nulls":18},"測定機器　メーカー名",{"$nulls":31},"型式番号等"]
[1,null,"排煙機系統（機器番号等）",{"$nulls":30},"排煙機銘板表示",{"$nulls":13},"排煙機の規定風量"]
[{"$nulls":47},"最大防煙区画面積",{"$nulls":13},"㎡×",null,"",null,"or",null,"",null,"＝",null,{"$f":"IF(AND(BL43=\"○\",BP43=\"\"),BE43*1,IF(AND(BL43=\"\",BP43=\"○\"),BE43*2,\"\"))","v":""},{"$nulls":4},"m3/min"]
[]
[2,null,"排　　　　　煙　　　　　口",{"$nulls":68},"判　定"]
[null,null,"階",{"$nulls":3},"室　　　　　名",{"$nulls":15},"排煙口面積　(㎡)",{"$nulls":10},"測定風速　(m/s)＊注2)",{"$nulls":13},"測定風量(m3/min)",{"$nulls":11},"規定風量(m3/min)"]
[{"$nulls":47},{"$f":"IF(OR(W47=\"\",AH47=\"\"),\"\",60*W47*AH47)","v":""},{"$nulls":23},"指摘なし",{"$nulls":4},"・","要是正"]
[{"$nulls":47},"",{"$nulls":23},"指摘なし",{"$nulls":4},"・","要是正"]
[{"$nulls":47},"",{"$nulls":23},"指摘なし",{"$nulls":4},"・","要是正"]
[{"$nulls":47},"",{"$nulls":23},"指摘なし",{"$nulls":4},"・","要是正"]
[{"$nulls":47},"",{"$nulls":23},"指摘なし",{"$nulls":4},"・","要是正"]
[{"$nulls":47},"",{"$nulls":23},"指摘なし",{"$nulls":4},"・","要是正"]
[{"$nulls":47},"",{"$nulls":23},"指摘なし",{"$nulls":4},"・","要是正"]
[{"$nulls":47},"",{"$nulls":23},"指摘なし",{"$nulls":4},"・","要是正"]
[{"$nulls":47},"",{"$nulls":23},"指摘なし",{"$nulls":4},"・","要是正"]
[{"$nulls":47},"",{"$nulls":23},"指摘なし",{"$nulls":4},"・","要是正"]
[]
[3,null,"排　　　　　煙　　　　　機",{"$nulls":68},"判　定"]
[null,null,"排煙機（番号等）",{"$nulls":15},"煙排出口面積　(㎡)",{"$nulls":14},"測定風速　(m/s)＊注2)",{"$nulls":13},"測定風量(m3/min)",{"$nulls":11},"規定風量(m3/min)"]
[{"$nulls":47},{"$f":"IF(OR(S60=\"\",AH60=\"\"),\"\",60*S60*AH60)","v":""},{"$nulls":23},"指摘なし",{"$nulls":4},"・","要是正"]
[]
[4,null,"直結エンジン（内燃エンジン）の有無",{"$nulls":19},"予備電源又は直結エンジン切り替え",{"$nulls":22},5,null,"排煙系統図（排煙機と排煙口の対応関係がわかる図を記入すること）"]
[{"$nulls":7},"有",{"$nulls":3},"・",null,"無",{"$nulls":12},"指摘なし",{"$nulls":5},"・",null,null,"要是正"]
[]
[]
[null,null,"注1）本記録表は、排煙機系統ごとに記入する。"]
[null,null,"注2）「測定風速」欄には、原則として測定した箇所の平均風速を記入する。"]
[null,null,"注3）自主点検等による排煙風量測定記録がある場合は、実施時期、測定方法、測定"]
[null,null,"　　値等が適正であるか否かを判定すること。"]
{"$rows_empty":7}
["別表３　排煙風量測定記録表３（Ａ４）＊注1)"]
[]
["測定年月日",{"$nulls":18},"測定機器　メーカー名",{"$nulls":31},"型式番号等"]
[1,null,"排煙機系統（機器番号等）",{"$nulls":30},"排煙機銘板表示",{"$nulls":13},"排煙機の規定風量"]
[{"$nulls":47},"最大防煙区画面積",{"$nulls":13},"㎡×",null,"",null,"or",null,"",null,"＝",null,{"$f":"IF(AND(BL81=\"○\",BP81=\"\"),BE81*1,IF(AND(BL81=\"\",BP81=\"○\"),BE81*2,\"\"))","v":""},{"$nulls":4},"m3/min"]
[]
[2,null,"排　　　　　煙　　　　　口",{"$nulls":68},"判　定"]
[null,null,"階",{"$nulls":3},"室　　　　　名",{"$nulls":15},"排煙口面積　(㎡)",{"$nulls":10},"測定風速　(m/s)＊注2)",{"$nulls":13},"測定風量(m3/min)",{"$nulls":11},"規定風量(m3/min)"]
[{"$nulls":47},{"$f":"IF(OR(W85=\"\",AH85=\"\"),\"\",60*W85*AH85)","v":""},{"$nulls":23},"指摘なし",{"$nulls":4},"・","要是正"]
[{"$nulls":47},"",{"$nulls":23},"指摘なし",{"$nulls":4},"・","要是正"]
[{"$nulls":47},"",{"$nulls":23},"指摘なし",{"$nulls":4},"・","要是正"]
[{"$nulls":47},"",{"$nulls":23},"指摘なし",{"$nulls":4},"・","要是正"]
[{"$nulls":47},"",{"$nulls":23},"指摘なし",{"$nulls":4},"・","要是正"]
[{"$nulls":47},"",{"$nulls":23},"指摘なし",{"$nulls":4},"・","要是正"]
[{"$nulls":47},"",{"$nulls":23},"指摘なし",{"$nulls":4},"・","要是正"]
[{"$nulls":47},"",{"$nulls":23},"指摘なし",{"$nulls":4},"・","要是正"]
[{"$nulls":47},"",{"$nulls":23},"指摘なし",{"$nulls":4},"・","要是正"]
[{"$nulls":47},"",{"$nulls":23},"指摘なし",{"$nulls":4},"・","要是正"]
[]
[3,null,"排　　　　　煙　　　　　機",{"$nulls":68},"判　定"]
[null,null,"排煙機（番号等）",{"$nulls":15},"煙排出口面積　(㎡)",{"$nulls":14},"測定風速　(m/s)＊注2)",{"$nulls":13},"測定風量(m3/min)",{"$nulls":11},"規定風量(m3/min)"]
[{"$nulls":47},{"$f":"IF(OR(S98=\"\",AH98=\"\"),\"\",60*S98*AH98)","v":""},{"$nulls":23},"指摘なし",{"$nulls":4},"・","要是正"]
[]
[4,null,"直結エンジン（内燃エンジン）の有無",{"$nulls":19},"予備電源又は直結エンジン切り替え",{"$nulls":22},5,null,"排煙系統図（排煙機と排煙口の対応関係がわかる図を記入すること）"]
[{"$nulls":7},"有",{"$nulls":3},"・",null,"無",{"$nulls":12},"指摘なし",{"$nulls":5},"・",null,null,"要是正"]
[]
[]
[null,null,"注1）本記録表は、排煙機系統ごとに記入する。"]
[null,null,"注2）「測定風速」欄には、原則として測定した箇所の平均風速を記入する。"]
[null,null,"注3）自主点検等による排煙風量測定記録がある場合は、実施時期、測定方法、測定"]
[null,null,"　　値等が適正であるか否かを判定すること。"]
{"$rows_empty":7}
["別表３　排煙風量測定記録表４（Ａ４）＊注1)"]
[]
["測定年月日",{"$nulls":18},"測定機器　メーカー名",{"$nulls":31},"型式番号等"]
[1,null,"排煙機系統（機器番号等）",{"$nulls":30},"排煙機銘板表示",{"$nulls":13},"排煙機の規定風量"]
[{"$nulls":47},"最大防煙区画面積",{"$nulls":13},"㎡×",null,"",null,"or",null,"",null,"＝",null,{"$f":"IF(AND(BL119=\"○\",BP119=\"\"),BE119*1,IF(AND(BL119=\"\",BP119=\"○\"),BE119*2,\"\"))","v":""},{"$nulls":4},"m3/min"]
[]
[2,null,"排　　　　　煙　　　　　口",{"$nulls":68},"判　定"]
[null,null,"階",{"$nulls":3},"室　　　　　名",{"$nulls":15},"排煙口面積　(㎡)",{"$nulls":10},"測定風速　(m/s)＊注2)",{"$nulls":13},"測定風量(m3/min)",{"$nulls":11},"規定風量(m3/min)"]
[{"$nulls":47},{"$f":"IF(OR(W123=\"\",AH123=\"\"),\"\",60*W123*AH123)","v":""},{"$nulls":23},"指摘なし",{"$nulls":4},"・","要是正"]
[{"$nulls":47},"",{"$nulls":23},"指摘なし",{"$nulls":4},"・","要是正"]
[{"$nulls":47},"",{"$nulls":23},"指摘なし",{"$nulls":4},"・","要是正"]
[{"$nulls":47},"",{"$nulls":23},"指摘なし",{"$nulls":4},"・","要是正"]
[{"$nulls":47},"",{"$nulls":23},"指摘なし",{"$nulls":4},"・","要是正"]
[{"$nulls":47},"",{"$nulls":23},"指摘なし",{"$nulls":4},"・","要是正"]
[{"$nulls":47},"",{"$nulls":23},"指摘なし",{"$nulls":4},"・","要是正"]
[{"$nulls":47},"",{"$nulls":23},"指摘なし",{"$nulls":4},"・","要是正"]
[{"$nulls":47},"",{"$nulls":23},"指摘なし",{"$nulls":4},"・","要是正"]
[{"$nulls":47},"",{"$nulls":23},"指摘なし",{"$nulls":4},"・","要是正"]
[]
[3,null,"排　　　　　煙　　　　　機",{"$nulls":68},"判　定"]
[null,null,"排煙機（番号等）",{"$nulls":15},"煙排出口面積　(㎡)",{"$nulls":14},"測定風速　(m/s)＊注2)",{"$nulls":13},"測定風量(m3/min)",{"$nulls":11},"規定風量(m3/min)"]
[{"$nulls":47},{"$f":"IF(OR(S136=\"\",AH136=\"\"),\"\",60*S136*AH136)","v":""},{"$nulls":23},"指摘なし",{"$nulls":4},"・","要是正"]
[]
[4,null,"直結エンジン（内燃エンジン）の有無",{"$nulls":19},"予備電源又は直結エンジン切り替え",{"$nulls":22},5,null,"排煙系統図（排煙機と排煙口の対応関係がわかる図を記入すること）"]
[{"$nulls":7},"有",{"$nulls":3},"・",null,"無",{"$nulls":12},"指摘なし",{"$nulls":5},"・",null,null,"要是正"]
[]
[]
[null,null,"注1）本記録表は、排煙機系統ごとに記入する。"]
[null,null,"注2）「測定風速」欄には、原則として測定した箇所の平均風速を記入する。"]
[null,null,"注3）自主点検等による排煙風量測定記録がある場合は、実施時期、測定方法、測定"]
[null,null,"　　値等が適正であるか否かを判定すること。"]
{"$rows_empty":7}
["別表３　排煙風量測定記録表５（Ａ４）＊注1)"]
[]
["測定年月日",{"$nulls":18},"測定機器　メーカー名",{"$nulls":31},"型式番号等"]
[1,null,"排煙機系統（機器番号等）",{"$nulls":30},"排煙機銘板表示",{"$nulls":13},"排煙機の規定風量"]
[{"$nulls":47},"最大防煙区画面積",{"$nulls":13},"㎡×",null,"",null,"or",null,"",null,"＝",null,{"$f":"IF(AND(BL157=\"○\",BP157=\"\"),BE157*1,IF(AND(BL157=\"\",BP157=\"○\"),BE157*2,\"\"))","v":""},{"$nulls":4},"m3/min"]
[]
[2,null,"排　　　　　煙　　　　　口",{"$nulls":68},"判　定"]
[null,null,"階",{"$nulls":3},"室　　　　　名",{"$nulls":15},"排煙口面積　(㎡)",{"$nulls":10},"測定風速　(m/s)＊注2)",{"$nulls":13},"測定風量(m3/min)",{"$nulls":11},"規定風量(m3/min)"]
[{"$nulls":47},{"$f":"IF(OR(W161=\"\",AH161=\"\"),\"\",60*W161*AH161)","v":""},{"$nulls":23},"指摘なし",{"$nulls":4},"・","要是正"]
[{"$nulls":47},"",{"$nulls":23},"指摘なし",{"$nulls":4},"・","要是正"]
[{"$nulls":47},"",{"$nulls":23},"指摘なし",{"$nulls":4},"・","要是正"]
[{"$nulls":47},"",{"$nulls":23},"指摘なし",{"$nulls":4},"・","要是正"]
[{"$nulls":47},"",{"$nulls":23},"指摘なし",{"$nulls":4},"・","要是正"]
[{"$nulls":47},"",{"$nulls":23},"指摘なし",{"$nulls":4},"・","要是正"]
[{"$nulls":47},"",{"$nulls":23},"指摘なし",{"$nulls":4},"・","要是正"]
[{"$nulls":47},"",{"$nulls":23},"指摘なし",{"$nulls":4},"・","要是正"]
[{"$nulls":47},"",{"$nulls":23},"指摘なし",{"$nulls":4},"・","要是正"]
[{"$nulls":47},"",{"$nulls":23},"指摘なし",{"$nulls":4},"・","要是正"]
[]
[3,null,"排　　　　　煙　　　　　機",{"$nulls":68},"判　定"]
[null,null,"排煙機（番号等）",{"$nulls":15},"煙排出口面積　(㎡)",{"$nulls":14},"測定風速　(m/s)＊注2)",{"$nulls":13},"測定風量(m3/min)",{"$nulls":11},"規定風量(m3/min)"]
[{"$nulls":47},{"$f":"IF(OR(S174=\"\",AH174=\"\"),\"\",60*S174*AH174)","v":""},{"$nulls":23},"指摘なし",{"$nulls":4},"・","要是正"]
[]
[4,null,"直結エンジン（内燃エンジン）の有無",{"$nulls":19},"予備電源又は直結エンジン切り替え",{"$nulls":22},5,null,"排煙系統図（排煙機と排煙口の対応関係がわかる図を記入すること）"]
[{"$nulls":7},"有",{"$nulls":3},"・",null,"無",{"$nulls":12},"指摘なし",{"$nulls":5},"・",null,null,"要是正"]
[]
[]
[null,null,"注1）本記録表は、排煙機系統ごとに記入する。"]
[null,null,"注2）「測定風速」欄には、原則として測定した箇所の平均風速を記入する。"]
[null,null,"注3）自主点検等による排煙風量測定記録がある場合は、実施時期、測定方法、測定"]
[null,null,"　　値等が適正であるか否かを判定すること。"]

{"sheet":"別表3-2（排煙風量測定記録表 給気式）","index":10,"n_rows":182,"n_cols":78,"rows_kept":182,"merged":[[2,0,2,5],[2,6,2,8],[2,9,2,10],[2,11,2,12],[2,13,2,14],[2,15,2,16],[2,17,2,18],[2,19,2,20],[2,21,2,32],[2,33,2,50],[2,51,2,58],[2,59,2,80],[3,0,3,1],[3,2,3,32],[3,33,3,50],[3,51,3,80],[4,2,4,32],[4,33,4,50],[4,51,4,62],[4,63,4,71],[4,72,4,80],[6,0,6,1],[6,2,6,70],[6,71,7,80],[7,2,7,5],[7,6,7,21],[7,22,7,32],[7,33,7,46],[7,47,7,58],[7,59,7,70],[8,2,8,5],[8,6,8,21],[8,22,8,32],[8,33,8,46],[8,47,8,58],[8,59,8,70],[8,71,8,75],[8,77,8,80],[9,2,9,5],[9,6,9,21],[9,22,9,32],[9,33,9,46],[9,47,9,58],[9,59,9,70],[9,71,9,75],[9,77,9,80],[10,2,10,5],[10,6,10,21],[10,22,10,32],[10,33,10,46],[10,47,10,58],[10,59,10,70],[10,71,10,75],[10,77,10,80],[11,2,11,5],[11,6,11,21],[11,22,11,32],[11,33,11,46],[11,47,11,58],[11,59,11,70],[11,71,11,75],[11,77,11,80],[12,2,12,5],[12,6,12,21],[12,22,12,32],[12,33,12,46],[12,47,12,58],[12,59,12,70],[12,71,12,75],[12,77,12,80],[13,2,13,5],[13,6,13,21],[13,22,13,32],[13,33,13,46],[13,47,13,58],[13,59,13,70],[13,71,13,75],[13,77,13,80],[14,2,14,5],[14,6,14,21],[14,22,14,32],[14,33,14,46],[14,47,14,58],[14,59,14,70],[14,71,14,75],[14,77,14,80],[15,2,15,5],[15,6,15,21],[15,22,15,32],[15,33,15,46],[15,47,15,58],[15,59,15,70],[15,71,15,75],[15,77,15,80],[16,2,16,5],[16,6,16,21],[16,22,16,32],[16,33,16,46],[16,47,16,58],[16,59,16,70],[16,71,16,75],[16,77,16,80],[17,2,17,5],[17,6,17,21],[17,22,17,32],[17,33,17,46],[17,47,17,58],[17,59,17,70],[17,71,17,75],[17,77,17,80],[19,0,19,1],[19,2,19,70],[19,71,20,80],[20,2,20,20],[20,21,20,37],[20,38,20,54],[20,55,20,70],[21,2,21,20],[21,21,21,37],[21,38,21,54],[21,55,21,70],[21,71,21,75],[21,77,21,80],[23,0,23,1],[23,2,23,21],[23,22,23,42],[23,45,23,46],[23,47,23,80],[24,7,24,9],[24,13,24,15],[24,16,24,21],[24,26,24,30],[24,32,24,33],[24,35,24,38],[24,47,36,80],[27,2,27,44],[28,2,28,44],[29,2,29,44],[30,2,30,44],[31,2,31,44],[32,2,32,44],[33,2,33,44],[40,0,40,5],[40,6,40,8],[40,9,40,10],[40,11,40,12],[40,13,40,14],[40,15,40,16],[40,17,40,18],[40,19,40,20],[40,21,40,32],[40,33,40,50],[40,51,40,58],[40,59,40,80],[41,0,41,1],[41,2,41,32],[41,33,41,50],[41,51,41,80],[42,2,42,32],[42,33,42,50],[42,51,42,62],[42,63,42,71],[42,72,42,80],[44,0,44,1],[44,2,44,70],[44,71,45,80],[45,2,45,5],[45,6,45,21],[45,22,45,32],[45,33,45,46],[45,47,45,58],[45,59,45,70],[46,2,46,5],[46,6,46,21],[46,22,46,32],[46,33,46,46],[46,47,46,58],[46,59,46,70],[46,71,46,75],[46,77,46,80],[47,2,47,5],[47,6,47,21],[47,22,47,32],[47,33,47,46],[47,47,47,58],[47,59,47,70],[47,71,47,75],[47,77,47,80],[48,2,48,5],[48,6,48,21],[48,22,48,32],[48,33,48,46],[48,47,48,58],[48,59,48,70],[48,71,48,75],[48,77,48,80],[49,2,49,5],[49,6,49,21],[49,22,49,32],[49,33,49,46],[49,47,49,58],[49,59,49,70],[49,71,49,75],[49,77,49,80],[50,2,50,5],[50,6,50,21],[50,22,50,32],[50,33,50,46],[50,47,50,58],[50,59,50,70],[50,71,50,75],[50,77,50,80],[51,2,51,5],[51,6,51,21],[51,22,51,32],[51,33,51,46],[51,47,51,58],[51,59,51,70],[51,71,51,75],[51,77,51,80],[52,2,52,5],[52,6,52,21],[52,22,52,32],[52,33,52,46],[52,47,52,58],[52,59,52,70],[52,71,52,75],[52,77,52,80],[53,2,53,5],[53,6,53,21],[53,22,53,32],[53,33,53,46],[53,47,53,58],[53,59,53,70],[53,71,53,75],[53,77,53,80],[54,2,54,5],[54,6,54,21],[54,22,54,32],[54,33,54,46],[54,47,54,58],[54,59,54,70],[54,71,54,75],[54,77,54,80],[55,2,55,5],[55,6,55,21],[55,22,55,32],[55,33,55,46],[55,47,55,58],[55,59,55,70],[55,71,55,75],[55,77,55,80],[57,0,57,1],[57,2,57,70],[57,71,58,80],[58,2,58,20],[58,21,58,37],[58,38,58,54],[58,55,58,70],[59,2,59,20],[59,21,59,37],[59,38,59,54],[59,55,59,70],[59,71,59,75],[59,77,59,80],[61,0,61,1],[61,2,61,21],[61,22,61,42],[61,45,61,46],[61,47,61,80],[62,7,62,9],[62,13,62,15],[62,16,62,21],[62,26,62,30],[62,32,62,33],[62,35,62,38],[62,47,74,80],[65,2,65,44],[66,2,66,44],[67,2,67,44],[68,2,68,44],[69,2,69,44],[70,2,70,44],[71,2,71,44],[78,0,78,5],[78,6,78,8],[78,9,78,10],[78,11,78,12],[78,13,78,14],[78,15,78,16],[78,17,78,18],[78,19,78,20],[78,21,78,32],[78,33,78,50],[78,51,78,58],[78,59,78,80],[79,0,79,1],[79,2,79,32],[79,33,79,50],[79,51,79,80],[80,2,80,32],[80,33,80,50],[80,51,80,62],[80,63,80,71],[80,72,80,80],[82,0,82,1],[82,2,82,70],[82,71,83,80],[83,2,83,5],[83,6,83,21],[83,22,83,32],[83,33,83,46],[83,47,83,58],[83,59,83,70],[84,2,84,5],[84,6,84,21],[84,22,84,32],[84,33,84,46],[84,47,84,58],[84,59,84,70],[84,71,84,75],[84,77,84,80],[85,2,85,5],[85,6,85,21],[85,22,85,32],[85,33,85,46],[85,47,85,58],[85,59,85,70],[85,71,85,75],[85,77,85,80],[86,2,86,5],[86,6,86,21],[86,22,86,32],[86,33,86,46],[86,47,86,58],[86,59,86,70],[86,71,86,75],[86,77,86,80],[87,2,87,5],[87,6,87,21],[87,22,87,32],[87,33,87,46],[87,47,87,58],[87,59,87,70],[87,71,87,75],[87,77,87,80],[88,2,88,5],[88,6,88,21],[88,22,88,32],[88,33,88,46],[88,47,88,58],[88,59,88,70],[88,71,88,75],[88,77,88,80],[89,2,89,5],[89,6,89,21],[89,22,89,32],[89,33,89,46],[89,47,89,58],[89,59,89,70],[89,71,89,75],[89,77,89,80],[90,2,90,5],[90,6,90,21],[90,22,90,32],[90,33,90,46],[90,47,90,58],[90,59,90,70],[90,71,90,75],[90,77,90,80],[91,2,91,5],[91,6,91,21],[91,22,91,32],[91,33,91,46],[91,47,91,58],[91,59,91,70],[91,71,91,75],[91,77,91,80],[92,2,92,5],[92,6,92,21],[92,22,92,32],[92,33,92,46],[92,47,92,58],[92,59,92,70],[92,71,92,75],[92,77,92,80],[93,2,93,5],[93,6,93,21],[93,22,93,32],[93,33,93,46],[93,47,93,58],[93,59,93,70],[93,71,93,75],[93,77,93,80],[95,0,95,1],[95,2,95,70],[95,71,96,80],[96,2,96,20],[96,21,96,37],[96,38,96,54],[96,55,96,70],[97,2,97,20],[97,21,97,37],[97,38,97,54],[97,55,97,70],[97,71,97,75],[97,77,97,80],[99,0,99,1],[99,2,99,21],[99,22,99,42],[99,45,99,46],[99,47,99,80],[100,7,100,9],[100,13,100,15],[100,16,100,21],[100,26,100,30],[100,32,100,33],[100,35,100,38],[100,47,112,80],[103,2,103,44],[104,2,104,44],[105,2,105,44],[106,2,106,44],[107,2,107,44],[108,2,108,44],[109,2,109,44],[116,0,116,5],[116,6,116,8],[116,9,116,10],[116,11,116,12],[116,13,116,14],[116,15,116,16],[116,17,116,18],[116,19,116,20],[116,21,116,32],[116,33,116,50],[116,51,116,58],[116,59,116,80],[117,0,117,1],[117,2,117,32],[117,33,117,50],[117,51,117,80],[118,2,118,32],[118,33,118,50],[118,51,118,62],[118,63,118,71],[118,72,118,80],[120,0,120,1],[120,2,120,70],[120,71,121,80],[121,2,121,5],[121,6,121,21],[121,22,121,32],[121,33,121,46],[121,47,121,58],[121,59,121,70],[122,2,122,5],[122,6,122,21],[122,22,122,32],[122,33,122,46],[122,47,122,58],[122,59,122,70],[122,71,122,75],[122,77,122,80],[123,2,123,5],[123,6,123,21],[123,22,123,32],[123,33,123,46],[123,47,123,58],[123,59,123,70],[123,71,123,75],[123,77,123,80],[124,2,124,5],[124,6,124,21],[124,22,124,32],[124,33,124,46],[124,47,124,58],[124,59,124,70],[124,71,124,75],[124,77,124,80],[125,2,125,5],[125,6,125,21],[125,22,125,32],[125,33,125,46],[125,47,125,58],[125,59,125,70],[125,71,125,75],[125,77,125,80],[126,2,126,5],[126,6,126,21],[126,22,126,32],[126,33,126,46],[126,47,126,58],[126,59,126,70],[126,71,126,75],[126,77,126,80],[127,2,127,5],[127,6,127,21],[127,22,127,32],[127,33,127,46],[127,47,127,58],[127,59,127,70],[127,71,127,75],[127,77,127,80],[128,2,128,5],[128,6,128,21],[128,22,128,32],[128,33,128,46],[128,47,128,58],[128,59,128,70],[128,71,128,75],[128,77,128,80],[129,2,129,5],[129,6,129,21],[129,22,129,32],[129,33,129,46],[129,47,129,58],[129,59,129,70],[129,71,129,75],[129,77,129,80],[130,2,130,5],[130,6,130,21],[130,22,130,32],[130,33,130,46],[130,47,130,58],[130,59,130,70],[130,71,130,75],[130,77,130,80],[131,2,131,5],[131,6,131,21],[131,22,131,32],[131,33,131,46],[131,47,131,58],[131,59,131,70],[131,71,131,75],[131,77,131,80],[133,0,133,1],[133,2,133,70],[133,71,134,80],[134,2,134,20],[134,21,134,37],[134,38,134,54],[134,55,134,70],[135,2,135,20],[135,21,135,37],[135,38,135,54],[135,55,135,70],[135,71,135,75],[135,77,135,80],[137,0,137,1],[137,2,137,21],[137,22,137,42],[137,45,137,46],[137,47,137,80],[138,7,138,9],[138,13,138,15],[138,16,138,21],[138,26,138,30],[138,32,138,33],[138,35,138,38],[138,47,150,80],[141,2,141,44],[142,2,142,44],[143,2,143,44],[144,2,144,44],[145,2,145,44],[146,2,146,44],[147,2,147,44],[154,0,154,5],[154,6,154,8],[154,9,154,10],[154,11,154,12],[154,13,154,14],[154,15,154,16],[154,17,154,18],[154,19,154,20],[154,21,154,32],[154,33,154,50],[154,51,154,58],[154,59,154,80],[155,0,155,1],[155,2,155,32],[155,33,155,50],[155,51,155,80],[156,2,156,32],[156,33,156,50],[156,51,156,62],[156,63,156,71],[156,72,156,80],[158,0,158,1],[158,2,158,70],[158,71,159,80],[159,2,159,5],[159,6,159,21],[159,22,159,32],[159,33,159,46],[159,47,159,58],[159,59,159,70],[160,2,160,5],[160,6,160,21],[160,22,160,32],[160,33,160,46],[160,47,160,58],[160,59,160,70],[160,71,160,75],[160,77,160,80],[161,2,161,5],[161,6,161,21],[161,22,161,32],[161,33,161,46],[161,47,161,58],[161,59,161,70],[161,71,161,75],[161,77,161,80],[162,2,162,5],[162,6,162,21],[162,22,162,32],[162,33,162,46],[162,47,162,58],[162,59,162,70],[162,71,162,75],[162,77,162,80],[163,2,163,5],[163,6,163,21],[163,22,163,32],[163,33,163,46],[163,47,163,58],[163,59,163,70],[163,71,163,75],[163,77,163,80],[164,2,164,5],[164,6,164,21],[164,22,164,32],[164,33,164,46],[164,47,164,58],[164,59,164,70],[164,71,164,75],[164,77,164,80],[165,2,165,5],[165,6,165,21],[165,22,165,32],[165,33,165,46],[165,47,165,58],[165,59,165,70],[165,71,165,75],[165,77,165,80],[166,2,166,5],[166,6,166,21],[166,22,166,32],[166,33,166,46],[166,47,166,58],[166,59,166,70],[166,71,166,75],[166,77,166,80],[167,2,167,5],[167,6,167,21],[167,22,167,32],[167,33,167,46],[167,47,167,58],[167,59,167,70],[167,71,167,75],[167,77,167,80],[168,2,168,5],[168,6,168,21],[168,22,168,32],[168,33,168,46],[168,47,168,58],[168,59,168,70],[168,71,168,75],[168,77,168,80],[169,2,169,5],[169,6,169,21],[169,22,169,32],[169,33,169,46],[169,47,169,58],[169,59,169,70],[169,71,169,75],[169,77,169,80],[171,0,171,1],[171,2,171,70],[171,71,172,80],[172,2,172,20],[172,21,172,37],[172,38,172,54],[172,55,172,70],[173,2,173,20],[173,21,173,37],[173,38,173,54],[173,55,173,70],[173,71,173,75],[173,77,173,80],[175,0,175,1],[175,2,175,21],[175,22,175,42],[175,45,175,46],[175,47,175,80],[176,7,176,9],[176,13,176,15],[176,16,176,21],[176,26,176,30],[176,32,176,33],[176,35,176,38],[176,47,188,80],[179,2,179,44],[180,2,180,44],[181,2,181,44],[182,2,182,44],[183,2,183,44],[184,2,184,44],[185,2,185,44]]}
["別表３－２　排煙風量測定記録表（Ａ４）　給気式（特殊な構造の排煙設備）"]
[]
["測定年月日",{"$nulls":5},"令和",{"$nulls":4},"年",{"$nulls":3},"月",{"$nulls":3},"日",null,"測定機器　メーカー名",{"$nulls":29},"型式番号等"]
[1,null,"給気送風機系統（機器番号等）",{"$nulls":30},"給気送風機銘板表示",{"$nulls":17},"給気送風機の性能（風量）"]
[{"$nulls":72},"m3/min"]
[]
[2,null,"排　　　　　煙　　　　　口",{"$nulls":68},"判　定"]
[null,null,"階",{"$nulls":3},"室　　　　　名",{"$nulls":15},"排煙口面積　(㎡)",{"$nulls":10},"測定風速　(m/s)＊注1)",{"$nulls":13},"測定風量(m3/min)",{"$nulls":11},"規定風量(m3/min)"]
[{"$nulls":47},{"$f":"IF(OR(W9=\"\",AH9=\"\"),\"\",60*W9*AH9)","v":""},{"$nulls":23},"指摘なし",{"$nulls":4},"・","要是正"]
[{"$nulls":47},"",{"$nulls":23},"指摘なし",{"$nulls":4},"・","要是正"]
[{"$nulls":47},"",{"$nulls":23},"指摘なし",{"$nulls":4},"・","要是正"]
[{"$nulls":47},"",{"$nulls":23},"指摘なし",{"$nulls":4},"・","要是正"]
[{"$nulls":47},"",{"$nulls":23},"指摘なし",{"$nulls":4},"・","要是正"]
[{"$nulls":47},"",{"$nulls":23},"指摘なし",{"$nulls":4},"・","要是正"]
[{"$nulls":47},"",{"$nulls":23},"指摘なし",{"$nulls":4},"・","要是正"]
[{"$nulls":47},"",{"$nulls":23},"指摘なし",{"$nulls":4},"・","要是正"]
[{"$nulls":47},"",{"$nulls":23},"指摘なし",{"$nulls":4},"・","要是正"]
[{"$nulls":47},"",{"$nulls":23},"指摘なし",{"$nulls":4},"・","要是正"]
[]
[3,null,"給　　気　　送　　風　　機",{"$nulls":68},"判　定"]
[null,null,"吸込口面積　(㎡)",{"$nulls":18},"測定風速　(m/s)＊注1)",{"$nulls":16},"測定風量(m3/min)",{"$nulls":16},"規定風量(m3/min)"]
[{"$nulls":38},{"$f":"IF(OR(ISBLANK(C22),ISBLANK(V22)),\"\",60*C22*V22)","v":""},{"$nulls":32},"指摘なし",{"$nulls":4},"・","要是正"]
[]
[4,null,"直結エンジン（内燃エンジン）の有無",{"$nulls":19},"予備電源又は直結エンジン切り替え",{"$nulls":22},4,null,"排煙系統図（給気送風機と排煙口の対応関係がわかる図を記入すること）"]
[{"$nulls":7},"有",{"$nulls":3},"・",null,"無",{"$nulls":12},"指摘なし",{"$nulls":5},"・",null,null,"要是正"]
[]
[]
[null,null,"注1）「測定風速」欄には、原則として測定した箇所の平均風速を記入する。"]
[null,null,"注2）自主点検等による排煙風量測定記録がある場合は、実施時期、測定方法、測定"]
[null,null,"　　値等が適正であるか否かを判定すること。"]
{"$rows_empty":8}
["別表３－２　排煙風量測定記録表（Ａ４）　給気式（特殊な構造の排煙設備）"]
[]
["測定年月日",{"$nulls":5},"令和",{"$nulls":4},"年",{"$nulls":3},"月",{"$nulls":3},"日",null,"測定機器　メーカー名",{"$nulls":29},"型式番号等"]
[1,null,"給気送風機系統（機器番号等）",{"$nulls":30},"給気送風機銘板表示",{"$nulls":17},"給気送風機の性能（風量）"]
[{"$nulls":72},"m3/min"]
[]
[2,null,"排　　　　　煙　　　　　口",{"$nulls":68},"判　定"]
[null,null,"階",{"$nulls":3},"室　　　　　名",{"$nulls":15},"排煙口面積　(㎡)",{"$nulls":10},"測定風速　(m/s)＊注1)",{"$nulls":13},"測定風量(m3/min)",{"$nulls":11},"規定風量(m3/min)"]
[{"$nulls":47},{"$f":"IF(OR(W47=\"\",AH47=\"\"),\"\",60*W47*AH47)","v":""},{"$nulls":23},"指摘なし",{"$nulls":4},"・","要是正"]
[{"$nulls":47},"",{"$nulls":23},"指摘なし",{"$nulls":4},"・","要是正"]
[{"$nulls":47},"",{"$nulls":23},"指摘なし",{"$nulls":4},"・","要是正"]
[{"$nulls":47},"",{"$nulls":23},"指摘なし",{"$nulls":4},"・","要是正"]
[{"$nulls":47},"",{"$nulls":23},"指摘なし",{"$nulls":4},"・","要是正"]
[{"$nulls":47},"",{"$nulls":23},"指摘なし",{"$nulls":4},"・","要是正"]
[{"$nulls":47},"",{"$nulls":23},"指摘なし",{"$nulls":4},"・","要是正"]
[{"$nulls":47},"",{"$nulls":23},"指摘なし",{"$nulls":4},"・","要是正"]
[{"$nulls":47},"",{"$nulls":23},"指摘なし",{"$nulls":4},"・","要是正"]
[{"$nulls":47},"",{"$nulls":23},"指摘なし",{"$nulls":4},"・","要是正"]
[]
[3,null,"給　　気　　送　　風　　機",{"$nulls":68},"判　定"]
[null,null,"吸込口面積　(㎡)",{"$nulls":18},"測定風速　(m/s)＊注1)",{"$nulls":16},"測定風量(m3/min)",{"$nulls":16},"規定風量(m3/min)"]
[{"$nulls":38},{"$f":"IF(OR(ISBLANK(C60),ISBLANK(V60)),\"\",60*C60*V60)","v":""},{"$nulls":32},"指摘なし",{"$nulls":4},"・","要是正"]
[]
[4,null,"直結エンジン（内燃エンジン）の有無",{"$nulls":19},"予備電源又は直結エンジン切り替え",{"$nulls":22},4,null,"排煙系統図（給気送風機と排煙口の対応関係がわかる図を記入すること）"]
[{"$nulls":7},"有",{"$nulls":3},"・",null,"無",{"$nulls":12},"指摘なし",{"$nulls":5},"・",null,null,"要是正"]
[]
[]
[null,null,"注1）「測定風速」欄には、原則として測定した箇所の平均風速を記入する。"]
[null,null,"注2）自主点検等による排煙風量測定記録がある場合は、実施時期、測定方法、測定"]
[null,null,"　　値等が適正であるか否かを判定すること。"]
{"$rows_empty":8}
["別表３－２　排煙風量測定記録表（Ａ４）　給気式（特殊な構造の排煙設備）"]
[]
["測定年月日",{"$nulls":5},"令和",{"$nulls":4},"年",{"$nulls":3},"月",{"$nulls":3},"日",null,"測定機器　メーカー名",{"$nulls":29},"型式番号等"]
[1,null,"給気送風機系統（機器番号等）",{"$nulls":30},"給気送風機銘板表示",{"$nulls":17},"給気送風機の性能（風量）"]
[{"$nulls":72},"m3/min"]
[]
[2,null,"排　　　　　煙　　　　　口",{"$nulls":68},"判　定"]
[null,null,"階",{"$nulls":3},"室　　　　　名",{"$nulls":15},"排煙口面積　(㎡)",{"$nulls":10},"測定風速　(m/s)＊注1)",{"$nulls":13},"測定風量(m3/min)",{"$nulls":11},"規定風量(m3/min)"]
[{"$nulls":47},{"$f":"IF(OR(W85=\"\",AH85=\"\"),\"\",60*W85*AH85)","v":""},{"$nulls":23},"指摘なし",{"$nulls":4},"・","要是正"]
[{"$nulls":47},"",{"$nulls":23},"指摘なし",{"$nulls":4},"・","要是正"]
[{"$nulls":47},"",{"$nulls":23},"指摘なし",{"$nulls":4},"・","要是正"]
[{"$nulls":47},"",{"$nulls":23},"指摘なし",{"$nulls":4},"・","要是正"]
[{"$nulls":47},"",{"$nulls":23},"指摘なし",{"$nulls":4},"・","要是正"]
[{"$nulls":47},"",{"$nulls":23},"指摘なし",{"$nulls":4},"・","要是正"]
[{"$nulls":47},"",{"$nulls":23},"指摘なし",{"$nulls":4},"・","要是正"]
[{"$nulls":47},"",{"$nulls":23},"指摘なし",{"$nulls":4},"・","要是正"]
[{"$nulls":47},"",{"$nulls":23},"指摘なし",{"$nulls":4},"・","要是正"]
[{"$nulls":47},"",{"$nulls":23},"指摘なし",{"$nulls":4},"・","要是正"]
[]
[3,null,"給　　気　　送　　風　　機",{"$nulls":68},"判　定"]
[null,null,"吸込口面積　(㎡)",{"$nulls":18},"測定風速　(m/s)＊注1)",{"$nulls":16},"測定風量(m3/min)",{"$nulls":16},"規定風量(m3/min)"]
[{"$nulls":38},{"$f":"IF(OR(ISBLANK(C98),ISBLANK(V98)),\"\",60*C98*V98)","v":""},{"$nulls":32},"指摘なし",{"$nulls":4},"・","要是正"]
[]
[4,null,"直結エンジン（内燃エンジン）の有無",{"$nulls":19},"予備電源又は直結エンジン切り替え",{"$nulls":22},4,null,"排煙系統図（給気送風機と排煙口の対応関係がわかる図を記入すること）"]
[{"$nulls":7},"有",{"$nulls":3},"・",null,"無",{"$nulls":12},"指摘なし",{"$nulls":5},"・",null,null,"要是正"]
[]
[]
[null,null,"注1）「測定風速」欄には、原則として測定した箇所の平均風速を記入する。"]
[null,null,"注2）自主点検等による排煙風量測定記録がある場合は、実施時期、測定方法、測定"]
[null,null,"　　値等が適正であるか否かを判定すること。"]
{"$rows_empty":8}
["別表３－２　排煙風量測定記録表（Ａ４）　給気式（特殊な構造の排煙設備）"]
[]
["測定年月日",{"$nulls":5},"令和",{"$nulls":4},"年",{"$nulls":3},"月",{"$nulls":3},"日",null,"測定機器　メーカー名",{"$nulls":29},"型式番号等"]
[1,null,"給気送風機系統（機器番号等）",{"$nulls":30},"給気送風機銘板表示",{"$nulls":17},"給気送風機の性能（風量）"]
[{"$nulls":72},"m3/min"]
[]
[2,null,"排　　　　　煙　　　　　口",{"$nulls":68},"判　定"]
[null,null,"階",{"$nulls":3},"室　　　　　名",{"$nulls":15},"排煙口面積　(㎡)",{"$nulls":10},"測定風速　(m/s)＊注1)",{"$nulls":13},"測定風量(m3/min)",{"$nulls":11},"規定風量(m3/min)"]
[{"$nulls":47},{"$f":"IF(OR(W123=\"\",AH123=\"\"),\"\",60*W123*AH123)","v":""},{"$nulls":23},"指摘なし",{"$nulls":4},"・","要是正"]
[{"$nulls":47},"",{"$nulls":23},"指摘なし",{"$nulls":4},"・","要是正"]
[{"$nulls":47},"",{"$nulls":23},"指摘なし",{"$nulls":4},"・","要是正"]
[{"$nulls":47},"",{"$nulls":23},"指摘なし",{"$nulls":4},"・","要是正"]
[{"$nulls":47},"",{"$nulls":23},"指摘なし",{"$nulls":4},"・","要是正"]
[{"$nulls":47},"",{"$nulls":23},"指摘なし",{"$nulls":4},"・","要是正"]
[{"$nulls":47},"",{"$nulls":23},"指摘なし",{"$nulls":4},"・","要是正"]
[{"$nulls":47},"",{"$nulls":23},"指摘なし",{"$nulls":4},"・","要是正"]
[{"$nulls":47},"",{"$nulls":23},"指摘なし",{"$nulls":4},"・","要是正"]
[{"$nulls":47},"",{"$nulls":23},"指摘なし",{"$nulls":4},"・","要是正"]
[]
[3,null,"給　　気　　送　　風　　機",{"$nulls":68},"判　定"]
[null,null,"吸込口面積　(㎡)",{"$nulls":18},"測定風速　(m/s)＊注1)",{"$nulls":16},"測定風量(m3/min)",{"$nulls":16},"規定風量(m3/min)"]
[{"$nulls":38},{"$f":"IF(OR(ISBLANK(C136),ISBLANK(V136)),\"\",60*C136*V136)","v":""},{"$nulls":32},"指摘なし",{"$nulls":4},"・","要是正"]
[]
[4,null,"直結エンジン（内燃エンジン）の有無",{"$nulls":19},"予備電源又は直結エンジン切り替え",{"$nulls":22},4,null,"排煙系統図（給気送風機と排煙口の対応関係がわかる図を記入すること）"]
[{"$nulls":7},"有",{"$nulls":3},"・",null,"無",{"$nulls":12},"指摘なし",{"$nulls":5},"・",null,null,"要是正"]
[]
[]
[null,null,"注1）「測定風速」欄には、原則として測定した箇所の平均風速を記入する。"]
[null,null,"注2）自主点検等による排煙風量測定記録がある場合は、実施時期、測定方法、測定"]
[null,null,"　　値等が適正であるか否かを判定すること。"]
{"$rows_empty":8}
["別表３－２　排煙風量測定記録表（Ａ４）　給気式（特殊な構造の排煙設備）"]
[]
["測定年月日",{"$nulls":5},"令和",{"$nulls":4},"年",{"$nulls":3},"月",{"$nulls":3},"日",null,"測定機器　メーカー名",{"$nulls":29},"型式番号等"]
[1,null,"給気送風機系統（機器番号等）",{"$nulls":30},"給気送風機銘板表示",{"$nulls":17},"給気送風機の性能（風量）"]
[{"$nulls":72},"m3/min"]
[]
[2,null,"排　　　　　煙　　　　　口",{"$nulls":68},"判　定"]
[null,null,"階",{"$nulls":3},"室　　　　　名",{"$nulls":15},"排煙口面積　(㎡)",{"$nulls":10},"測定風速　(m/s)＊注1)",{"$nulls":13},"測定風量(m3/min)",{"$nulls":11},"規定風量(m3/min)"]
[{"$nulls":47},{"$f":"IF(OR(W161=\"\",AH161=\"\"),\"\",60*W161*AH161)","v":""},{"$nulls":23},"指摘なし",{"$nulls":4},"・","要是正"]
[{"$nulls":47},"",{"$nulls":23},"指摘なし",{"$nulls":4},"・","要是正"]
[{"$nulls":47},"",{"$nulls":23},"指摘なし",{"$nulls":4},"・","要是正"]
[{"$nulls":47},"",{"$nulls":23},"指摘なし",{"$nulls":4},"・","要是正"]
[{"$nulls":47},"",{"$nulls":23},"指摘なし",{"$nulls":4},"・","要是正"]
[{"$nulls":47},"",{"$nulls":23},"指摘なし",{"$nulls":4},"・","要是正"]
[{"$nulls":47},"",{"$nulls":23},"指摘なし",{"$nulls":4},"・","要是正"]
[{"$nulls":47},"",{"$nulls":23},"指摘なし",{"$nulls":4},"・","要是正"]
[{"$nulls":47},"",{"$nulls":23},"指摘なし",{"$nulls":4},"・","要是正"]
[{"$nulls":47},"",{"$nulls":23},"指摘なし",{"$nulls":4},"・","要是正"]
[]
[3,null,"給　　気　　送　　風　　機",{"$nulls":68},"判　定"]
[null,null,"吸込口面積　(㎡)",{"$nulls":18},"測定風速　(m/s)＊注1)",{"$nulls":16},"測定風量(m3/min)",{"$nulls":16},"規定風量(m3/min)"]
[{"$nulls":38},{"$f":"IF(OR(ISBLANK(C174),ISBLANK(V174)),\"\",60*C174*V174)","v":""},{"$nulls":32},"指摘なし",{"$nulls":4},"・","要是正"]
[]
[4,null,"直結エンジン（内燃エンジン）の有無",{"$nulls":19},"予備電源又は直結エンジン切り替え",{"$nulls":22},4,null,"排煙系統図（給気送風機と排煙口の対応関係がわかる図を記入すること）"]
[{"$nulls":7},"有",{"$nulls":3},"・",null,"無",{"$nulls":12},"指摘なし",{"$nulls":5},"・",null,null,"要是正"]
[]
[]
[null,null,"注1）「測定風速」欄には、原則として測定した箇所の平均風速を記入する。"]
[null,null,"注2）自主点検等による排煙風量測定記録がある場合は、実施時期、測定方法、測定"]
[null,null,"　　値等が適正であるか否かを判定すること。"]

{"sheet":"別表3-3（排煙風量測定記録表 加圧式）","index":11,"n_rows":188,"n_cols":78,"rows_kept":188,"merged":[[2,0,2,5],[2,6,2,8],[2,9,2,10],[2,11,2,12],[2,13,2,14],[2,15,2,16],[2,17,2,18],[2,19,2,20],[2,21,2,32],[2,33,2,50],[2,51,2,58],[2,59,2,80],[3,0,3,1],[3,2,3,32],[3,33,3,50],[3,51,3,80],[4,2,4,32],[4,33,4,50],[4,51,4,62],[4,63,4,71],[4,72,4,80],[6,0,6,1],[6,2,6,70],[6,71,7,80],[7,2,7,5],[7,6,7,21],[7,22,7,32],[7,33,7,44],[7,45,7,56],[7,57,7,61],[7,62,7,70],[8,2,10,5],[8,6,10,21],[8,22,8,28],[8,29,8,30],[8,33,10,44],[8,45,10,56],[8,57,10,61],[8,62,10,70],[8,71,10,75],[8,76,10,76],[8,77,10,80],[9,22,9,28],[9,29,9,30],[10,22,10,28],[10,29,10,30],[11,2,13,5],[11,6,13,21],[11,22,11,28],[11,29,11,30],[11,33,13,44],[11,45,13,56],[11,57,13,61],[11,62,13,70],[11,71,13,75],[11,76,13,76],[11,77,13,80],[12,22,12,28],[12,29,12,30],[13,22,13,28],[13,29,13,30],[14,2,16,5],[14,6,16,21],[14,22,14,28],[14,29,14,30],[14,33,16,44],[14,45,16,56],[14,57,16,61],[14,62,16,70],[14,71,16,75],[14,76,16,76],[14,77,16,80],[15,22,15,28],[15,29,15,30],[16,22,16,28],[16,29,16,30],[17,2,19,5],[17,6,19,21],[17,22,17,28],[17,29,17,30],[17,33,19,44],[17,45,19,56],[17,57,19,61],[17,62,19,70],[17,71,19,75],[17,76,19,76],[17,77,19,80],[18,22,18,28],[18,29,18,30],[19,22,19,28],[19,29,19,30],[20,2,22,5],[20,6,22,21],[20,22,20,28],[20,29,20,30],[20,33,22,44],[20,45,22,56],[20,57,22,61],[20,62,22,70],[20,71,22,75],[20,76,22,76],[20,77,22,80],[21,22,21,28],[21,29,21,30],[22,22,22,28],[22,29,22,30],[24,0,24,1],[24,2,24,21],[24,22,24,42],[24,45,24,46],[24,47,24,80],[25,7,25,9],[25,13,25,15],[25,16,25,21],[25,26,25,30],[25,32,25,33],[25,35,25,38],[25,47,37,80],[27,1,27,3],[27,4,27,43],[28,1,28,3],[28,4,28,43],[29,1,29,3],[29,4,29,43],[30,4,30,43],[31,4,31,43],[32,4,32,43],[33,4,33,43],[34,1,34,3],[34,4,34,43],[35,4,35,43],[40,0,40,5],[40,6,40,8],[40,9,40,10],[40,11,40,12],[40,13,40,14],[40,15,40,16],[40,17,40,18],[40,19,40,20],[40,21,40,32],[40,33,40,50],[40,51,40,58],[40,59,40,80],[41,0,41,1],[41,2,41,32],[41,33,41,50],[41,51,41,80],[42,2,42,32],[42,33,42,50],[42,51,42,62],[42,63,42,71],[42,72,42,80],[44,0,44,1],[44,2,44,70],[44,71,45,80],[45,2,45,5],[45,6,45,21],[45,22,45,32],[45,33,45,44],[45,45,45,56],[45,57,45,61],[45,62,45,70],[46,2,48,5],[46,6,48,21],[46,22,46,28],[46,29,46,30],[46,33,48,44],[46,45,48,56],[46,57,48,61],[46,62,48,70],[46,71,48,75],[46,76,48,76],[46,77,48,80],[47,22,47,28],[47,29,47,30],[48,22,48,28],[48,29,48,30],[49,2,51,5],[49,6,51,21],[49,22,49,28],[49,29,49,30],[49,33,51,44],[49,45,51,56],[49,57,51,61],[49,62,51,70],[49,71,51,75],[49,76,51,76],[49,77,51,80],[50,22,50,28],[50,29,50,30],[51,22,51,28],[51,29,51,30],[52,2,54,5],[52,6,54,21],[52,22,52,28],[52,29,52,30],[52,33,54,44],[52,45,54,56],[52,57,54,61],[52,62,54,70],[52,71,54,75],[52,76,54,76],[52,77,54,80],[53,22,53,28],[53,29,53,30],[54,22,54,28],[54,29,54,30],[55,2,57,5],[55,6,57,21],[55,22,55,28],[55,29,55,30],[55,33,57,44],[55,45,57,56],[55,57,57,61],[55,62,57,70],[55,71,57,75],[55,76,57,76],[55,77,57,80],[56,22,56,28],[56,29,56,30],[57,22,57,28],[57,29,57,30],[58,2,60,5],[58,6,60,21],[58,22,58,28],[58,29,58,30],[58,33,60,44],[58,45,60,56],[58,57,60,61],[58,62,60,70],[58,71,60,75],[58,76,60,76],[58,77,60,80],[59,22,59,28],[59,29,59,30],[60,22,60,28],[60,29,60,30],[62,0,62,1],[62,2,62,21],[62,22,62,42],[62,45,62,46],[62,47,62,80],[63,7,63,9],[63,13,63,15],[63,16,63,21],[63,26,63,30],[63,32,63,33],[63,35,63,38],[63,47,75,80],[65,1,65,3],[65,4,65,43],[66,1,66,3],[66,4,66,43],[67,1,67,3],[67,4,67,43],[68,4,68,43],[69,4,69,43],[70,4,70,43],[71,4,71,43],[72,1,72,3],[72,4,72,43],[73,4,73,43],[78,0,78,5],[78,6,78,8],[78,9,78,10],[78,11,78,12],[78,13,78,14],[78,15,78,16],[78,17,78,18],[78,19,78,20],[78,21,78,32],[78,33,78,50],[78,51,78,58],[78,59,78,80],[79,0,79,1],[79,2,79,32],[79,33,79,50],[79,51,79,80],[80,2,80,32],[80,33,80,50],[80,51,80,62],[80,63,80,71],[80,72,80,80],[82,0,82,1],[82,2,82,70],[82,71,83,80],[83,2,83,5],[83,6,83,21],[83,22,83,32],[83,33,83,44],[83,45,83,56],[83,57,83,61],[83,62,83,70],[84,2,86,5],[84,6,86,21],[84,22,84,28],[84,29,84,30],[84,33,86,44],[84,45,86,56],[84,57,86,61],[84,62,86,70],[84,71,86,75],[84,76,86,76],[84,77,86,80],[85,22,85,28],[85,29,85,30],[86,22,86,28],[86,29,86,30],[87,2,89,5],[87,6,89,21],[87,22,87,28],[87,29,87,30],[87,33,89,44],[87,45,89,56],[87,57,89,61],[87,62,89,70],[87,71,89,75],[87,76,89,76],[87,77,89,80],[88,22,88,28],[88,29,88,30],[89,22,89,28],[89,29,89,30],[90,2,92,5],[90,6,92,21],[90,22,90,28],[90,29,90,30],[90,33,92,44],[90,45,92,56],[90,57,92,61],[90,62,92,70],[90,71,92,75],[90,76,92,76],[90,77,92,80],[91,22,91,28],[91,29,91,30],[92,22,92,28],[92,29,92,30],[93,2,95,5],[93,6,95,21],[93,22,93,28],[93,29,93,30],[93,33,95,44],[93,45,95,56],[93,57,95,61],[93,62,95,70],[93,71,95,75],[93,76,95,76],[93,77,95,80],[94,22,94,28],[94,29,94,30],[95,22,95,28],[95,29,95,30],[96,2,98,5],[96,6,98,21],[96,22,96,28],[96,29,96,30],[96,33,98,44],[96,45,98,56],[96,57,98,61],[96,62,98,70],[96,71,98,75],[96,76,98,76],[96,77,98,80],[97,22,97,28],[97,29,97,30],[98,22,98,28],[98,29,98,30],[100,0,100,1],[100,2,100,21],[100,22,100,42],[100,45,100,46],[100,47,100,80],[101,7,101,9],[101,13,101,15],[101,16,101,21],[101,26,101,30],[101,32,101,33],[101,35,101,38],[101,47,113,80],[103,1,103,3],[103,4,103,43],[104,1,104,3],[104,4,104,43],[105,1,105,3],[105,4,105,43],[106,4,106,43],[107,4,107,43],[108,4,108,43],[109,4,109,43],[110,1,110,3],[110,4,110,43],[111,4,111,43],[116,0,116,5],[116,6,116,8],[116,9,116,10],[116,11,116,12],[116,13,116,14],[116,15,116,16],[116,17,116,18],[116,19,116,20],[116,21,116,32],[116,33,116,50],[116,51,116,58],[116,59,116,80],[117,0,117,1],[117,2,117,32],[117,33,117,50],[117,51,117,80],[118,2,118,32],[118,33,118,50],[118,51,118,62],[118,63,118,71],[118,72,118,80],[120,0,120,1],[120,2,120,70],[120,71,121,80],[121,2,121,5],[121,6,121,21],[121,22,121,32],[121,33,121,44],[121,45,121,56],[121,57,121,61],[121,62,121,70],[122,2,124,5],[122,6,124,21],[122,22,122,28],[122,29,122,30],[122,33,124,44],[122,45,124,56],[122,57,124,61],[122,62,124,70],[122,71,124,75],[122,76,124,76],[122,77,124,80],[123,22,123,28],[123,29,123,30],[124,22,124,28],[124,29,124,30],[125,2,127,5],[125,6,127,21],[125,22,125,28],[125,29,125,30],[125,33,127,44],[125,45,127,56],[125,57,127,61],[125,62,127,70],[125,71,127,75],[125,76,127,76],[125,77,127,80],[126,22,126,28],[126,29,126,30],[127,22,127,28],[127,29,127,30],[128,2,130,5],[128,6,130,21],[128,22,128,28],[128,29,128,30],[128,33,130,44],[128,45,130,56],[128,57,130,61],[128,62,130,70],[128,71,130,75],[128,76,130,76],[128,77,130,80],[129,22,129,28],[129,29,129,30],[130,22,130,28],[130,29,130,30],[131,2,133,5],[131,6,133,21],[131,22,131,28],[131,29,131,30],[131,33,133,44],[131,45,133,56],[131,57,133,61],[131,62,133,70],[131,71,133,75],[131,76,133,76],[131,77,133,80],[132,22,132,28],[132,29,132,30],[133,22,133,28],[133,29,133,30],[134,2,136,5],[134,6,136,21],[134,22,134,28],[134,29,134,30],[134,33,136,44],[134,45,136,56],[134,57,136,61],[134,62,136,70],[134,71,136,75],[134,76,136,76],[134,77,136,80],[135,22,135,28],[135,29,135,30],[136,22,136,28],[136,29,136,30],[138,0,138,1],[138,2,138,21],[138,22,138,42],[138,45,138,46],[138,47,138,80],[139,7,139,9],[139,13,139,15],[139,16,139,21],[139,26,139,30],[139,32,139,33],[139,35,139,38],[139,47,151,80],[141,1,141,3],[141,4,141,43],[142,1,142,3],[142,4,142,43],[143,1,143,3],[143,4,143,43],[144,4,144,43],[145,4,145,43],[146,4,146,43],[147,4,147,43],[148,1,148,3],[148,4,148,43],[149,4,149,43],[154,0,154,5],[154,6,154,8],[154,9,154,10],[154,11,154,12],[154,13,154,14],[154,15,154,16],[154,17,154,18],[154,19,154,20],[154,21,154,32],[154,33,154,50],[154,51,154,58],[154,59,154,80],[155,0,155,1],[155,2,155,32],[155,33,155,50],[155,51,155,80],[156,2,156,32],[156,33,156,50],[156,51,156,62],[156,63,156,71],[156,72,156,80],[158,0,158,1],[158,2,158,70],[158,71,159,80],[159,2,159,5],[159,6,159,21],[159,22,159,32],[159,33,159,44],[159,45,159,56],[159,57,159,61],[159,62,159,70],[160,2,162,5],[160,6,162,21],[160,22,160,28],[160,29,160,30],[160,33,162,44],[160,45,162,56],[160,57,162,61],[160,62,162,70],[160,71,162,75],[160,76,162,76],[160,77,162,80],[161,22,161,28],[161,29,161,30],[162,22,162,28],[162,29,162,30],[163,2,165,5],[163,6,165,21],[163,22,163,28],[163,29,163,30],[163,33,165,44],[163,45,165,56],[163,57,165,61],[163,62,165,70],[163,71,165,75],[163,76,165,76],[163,77,165,80],[164,22,164,28],[164,29,164,30],[165,22,165,28],[165,29,165,30],[166,2,168,5],[166,6,168,21],[166,22,166,28],[166,29,166,30],[166,33,168,44],[166,45,168,56],[166,57,168,61],[166,62,168,70],[166,71,168,75],[166,76,168,76],[166,77,168,80],[167,22,167,28],[167,29,167,30],[168,22,168,28],[168,29,168,30],[169,2,171,5],[169,6,171,21],[169,22,169,28],[169,29,169,30],[169,33,171,44],[169,45,171,56],[169,57,171,61],[169,62,171,70],[169,71,171,75],[169,76,171,76],[169,77,171,80],[170,22,170,28],[170,29,170,30],[171,22,171,28],[171,29,171,30],[172,2,174,5],[172,6,174,21],[172,22,172,28],[172,29,172,30],[172,33,174,44],[172,45,174,56],[172,57,174,61],[172,62,174,70],[172,71,174,75],[172,76,174,76],[172,77,174,80],[173,22,173,28],[173,29,173,30],[174,22,174,28],[174,29,174,30],[176,0,176,1],[176,2,176,21],[176,22,176,42],[176,45,176,46],[176,47,176,80],[177,7,177,9],[177,13,177,15],[177,16,177,21],[177,26,177,30],[177,32,177,33],[177,35,177,38],[177,47,189,80],[179,1,179,3],[179,4,179,43],[180,1,180,3],[180,4,180,43],[181,1,181,3],[181,4,181,43],[182,4,182,43],[183,4,183,43],[184,4,184,43],[185,4,185,43],[186,1,186,3],[186,4,186,43],[187,4,187,43]]}
["別表３－３　排煙風量測定記録表（Ａ４）　加圧式（加圧防排煙設備）"]
[]
["測定年月日",{"$nulls":5},"令和",{"$nulls":4},"年",{"$nulls":3},"月",{"$nulls":3},"日",null,"測定機器　メーカー名",{"$nulls":29},"型式番号等"]
[1,null,"給気送風機系統（機器番号等）",{"$nulls":30},"給気送風機銘板表示",{"$nulls":17},"給気送風機の性能（風量）"]
[{"$nulls":72},"m3/min"]
[]
[2,null,"遮煙開口部・空気逃し口",{"$nulls":68},"判　定"]
[null,null,"階",{"$nulls":3},"室　　　　　名",{"$nulls":15},"空気逃し口の方式※注1)",{"$nulls":10},"測定排出風速※注2)(m/s)",{"$nulls":11},"規定排出風速※注3)(m/s)",{"$nulls":11},"算定式※注3)",{"$nulls":4},"遮煙開口部の高さ(m)"]
[{"$nulls":22},"1.自然方式",{"$nulls":22},{"$f":"IF(OR(ISBLANK(BF9),ISBLANK(BK9)),\"\",IF(BF9=\"①\",2.7*SQRT(BK9),IF(BF9=\"②\",3.3*SQRT(BK9),IF(BF9=\"③\",3.8*SQRT(BK9)))))","v":""},{"$nulls":25},"指摘なし",{"$nulls":4},"・","要是正"]
[{"$nulls":22},"2.機械方式"]
[{"$nulls":22},"3.併用方式"]
[{"$nulls":22},"1.自然方式",{"$nulls":22},{"$f":"IF(OR(ISBLANK(BF12),ISBLANK(BK12)),\"\",IF(BF12=\"①\",2.7*SQRT(BK12),IF(BF12=\"②\",3.3*SQRT(BK12),IF(BF12=\"③\",3.8*SQRT(BK12)))))","v":""},{"$nulls":25},"指摘なし",{"$nulls":4},"・","要是正"]
[{"$nulls":22},"2.機械方式"]
[{"$nulls":22},"3.併用方式"]
[{"$nulls":22},"1.自然方式",{"$nulls":22},{"$f":"IF(OR(ISBLANK(BF15),ISBLANK(BK15)),\"\",IF(BF15=\"①\",2.7*SQRT(BK15),IF(BF15=\"②\",3.3*SQRT(BK15),IF(BF15=\"③\",3.8*SQRT(BK15)))))","v":""},{"$nulls":25},"指摘なし",{"$nulls":4},"・","要是正"]
[{"$nulls":22},"2.機械方式"]
[{"$nulls":22},"3.併用方式"]
[{"$nulls":22},"1.自然方式",{"$nulls":22},{"$f":"IF(OR(ISBLANK(BF18),ISBLANK(BK18)),\"\",IF(BF18=\"①\",2.7*SQRT(BK18),IF(BF18=\"②\",3.3*SQRT(BK18),IF(BF18=\"③\",3.8*SQRT(BK18)))))","v":""},{"$nulls":25},"指摘なし",{"$nulls":4},"・","要是正"]
[{"$nulls":22},"2.機械方式"]
[{"$nulls":22},"3.併用方式"]
[{"$nulls":22},"1.自然方式",{"$nulls":22},{"$f":"IF(OR(ISBLANK(BF21),ISBLANK(BK21)),\"\",IF(BF21=\"①\",2.7*SQRT(BK21),IF(BF21=\"②\",3.3*SQRT(BK21),IF(BF21=\"③\",3.8*SQRT(BK21)))))","v":""},{"$nulls":25},"指摘なし",{"$nulls":4},"・","要是正"]
[{"$nulls":22},"2.機械方式"]
[{"$nulls":22},"3.併用方式"]
[]
[3,null,"直結エンジン（内燃エンジン）の有無",{"$nulls":19},"予備電源又は直結エンジン切り替え",{"$nulls":22},4,null,"排煙系統図（給気送風機と空気逃し口の対応関係がわかる図を記入すること）"]
[{"$nulls":7},"有",{"$nulls":3},"・",null,"無",{"$nulls":12},"指摘なし",{"$nulls":5},"・",null,null,"要是正"]
[]
[null,"注1）",null,null,"「空気逃し口の方式」欄には、該当するチェックボックスに「レ」マークを入れる。"]
[null,"注2）",null,null,"「測定排出風速」欄には、原則として測定した箇所の平均風速を記入する。"]
[null,"注3）",null,null,"隣接室を区画する当該区画の仕様及び隣接室の仕様に応じて、規定排出風速Ｖの算定式を以下"]
[{"$nulls":4},"の①から③のいずれかを選択し、「算定式」欄に記入する。また、当該算定式により排出風速"]
[{"$nulls":4},"を算出し、「規定排出風速」欄に記入する。この場合において、Ｖは排出風速、Ｈは遮煙開口"]
[{"$nulls":4},"部の高さを表す。"]
[]
[null,"注4）",null,null,"自主点検等による風速測定記録がある場合は、実施時期、測定方法、測定値等が適正であるか"]
[{"$nulls":4},"否かを判定すること。"]
[]
[]
["別表３－３　排煙風量測定記録表２（Ａ４）　加圧式（加圧防排煙設備）"]
[]
["測定年月日",{"$nulls":5},"令和",{"$nulls":4},"年",{"$nulls":3},"月",{"$nulls":3},"日",null,"測定機器　メーカー名",{"$nulls":29},"型式番号等"]
[1,null,"給気送風機系統（機器番号等）",{"$nulls":30},"給気送風機銘板表示",{"$nulls":17},"給気送風機の性能（風量）"]
[{"$nulls":72},"m3/min"]
[]
[2,null,"遮煙開口部・空気逃し口",{"$nulls":68},"判　定"]
[null,null,"階",{"$nulls":3},"室　　　　　名",{"$nulls":15},"空気逃し口の方式※注1)",{"$nulls":10},"測定排出風速※注2)(m/s)",{"$nulls":11},"規定排出風速※注3)(m/s)",{"$nulls":11},"算定式※注3)",{"$nulls":4},"遮煙開口部の高さ(m)"]
[{"$nulls":22},"1.自然方式",{"$nulls":22},{"$f":"IF(OR(ISBLANK(BF47),ISBLANK(BK47)),\"\",IF(BF47=\"①\",2.7*SQRT(BK47),IF(BF47=\"②\",3.3*SQRT(BK47),IF(BF47=\"③\",3.8*SQRT(BK47)))))","v":""},{"$nulls":25},"指摘なし",{"$nulls":4},"・","要是正"]
[{"$nulls":22},"2.機械方式"]
[{"$nulls":22},"3.併用方式"]
[{"$nulls":22},"1.自然方式",{"$nulls":22},{"$f":"IF(OR(ISBLANK(BF50),ISBLANK(BK50)),\"\",IF(BF50=\"①\",2.7*SQRT(BK50),IF(BF50=\"②\",3.3*SQRT(BK50),IF(BF50=\"③\",3.8*SQRT(BK50)))))","v":""},{"$nulls":25},"指摘なし",{"$nulls":4},"・","要是正"]
[{"$nulls":22},"2.機械方式"]
[{"$nulls":22},"3.併用方式"]
[{"$nulls":22},"1.自然方式",{"$nulls":22},{"$f":"IF(OR(ISBLANK(BF53),ISBLANK(BK53)),\"\",IF(BF53=\"①\",2.7*SQRT(BK53),IF(BF53=\"②\",3.3*SQRT(BK53),IF(BF53=\"③\",3.8*SQRT(BK53)))))","v":""},{"$nulls":25},"指摘なし",{"$nulls":4},"・","要是正"]
[{"$nulls":22},"2.機械方式"]
[{"$nulls":22},"3.併用方式"]
[{"$nulls":22},"1.自然方式",{"$nulls":22},{"$f":"IF(OR(ISBLANK(BF56),ISBLANK(BK56)),\"\",IF(BF56=\"①\",2.7*SQRT(BK56),IF(BF56=\"②\",3.3*SQRT(BK56),IF(BF56=\"③\",3.8*SQRT(BK56)))))","v":""},{"$nulls":25},"指摘なし",{"$nulls":4},"・","要是正"]
[{"$nulls":22},"2.機械方式"]
[{"$nulls":22},"3.併用方式"]
[{"$nulls":22},"1.自然方式",{"$nulls":22},{"$f":"IF(OR(ISBLANK(BF59),ISBLANK(BK59)),\"\",IF(BF59=\"①\",2.7*SQRT(BK59),IF(BF59=\"②\",3.3*SQRT(BK59),IF(BF59=\"③\",3.8*SQRT(BK59)))))","v":""},{"$nulls":25},"指摘なし",{"$nulls":4},"・","要是正"]
[{"$nulls":22},"2.機械方式"]
[{"$nulls":22},"3.併用方式"]
[]
[3,null,"直結エンジン（内燃エンジン）の有無",{"$nulls":19},"予備電源又は直結エンジン切り替え",{"$nulls":22},4,null,"排煙系統図（給気送風機と空気逃し口の対応関係がわかる図を記入すること）"]
[{"$nulls":7},"有",{"$nulls":3},"・",null,"無",{"$nulls":12},"指摘なし",{"$nulls":5},"・",null,null,"要是正"]
[]
[null,"注1）",null,null,"「空気逃し口の方式」欄には、該当するチェックボックスに「レ」マークを入れる。"]
[null,"注2）",null,null,"「測定排出風速」欄には、原則として測定した箇所の平均風速を記入する。"]
[null,"注3）",null,null,"隣接室を区画する当該区画の仕様及び隣接室の仕様に応じて、規定排出風速Ｖの算定式を以下"]
[{"$nulls":4},"の①から③のいずれかを選択し、「算定式」欄に記入する。また、当該算定式により排出風速"]
[{"$nulls":4},"を算出し、「規定排出風速」欄に記入する。この場合において、Ｖは排出風速、Ｈは遮煙開口"]
[{"$nulls":4},"部の高さを表す。"]
[]
[null,"注4）",null,null,"自主点検等による風速測定記録がある場合は、実施時期、測定方法、測定値等が適正であるか"]
[{"$nulls":4},"否かを判定すること。"]
[]
[]
["別表３－３　排煙風量測定記録表３（Ａ４）　加圧式（加圧防排煙設備）"]
[]
["測定年月日",{"$nulls":5},"令和",{"$nulls":4},"年",{"$nulls":3},"月",{"$nulls":3},"日",null,"測定機器　メーカー名",{"$nulls":29},"型式番号等"]
[1,null,"給気送風機系統（機器番号等）",{"$nulls":30},"給気送風機銘板表示",{"$nulls":17},"給気送風機の性能（風量）"]
[{"$nulls":72},"m3/min"]
[]
[2,null,"遮煙開口部・空気逃し口",{"$nulls":68},"判　定"]
[null,null,"階",{"$nulls":3},"室　　　　　名",{"$nulls":15},"空気逃し口の方式※注1)",{"$nulls":10},"測定排出風速※注2)(m/s)",{"$nulls":11},"規定排出風速※注3)(m/s)",{"$nulls":11},"算定式※注3)",{"$nulls":4},"遮煙開口部の高さ(m)"]
[{"$nulls":22},"1.自然方式",{"$nulls":22},{"$f":"IF(OR(ISBLANK(BF85),ISBLANK(BK85)),\"\",IF(BF85=\"①\",2.7*SQRT(BK85),IF(BF85=\"②\",3.3*SQRT(BK85),IF(BF85=\"③\",3.8*SQRT(BK85)))))","v":""},{"$nulls":25},"指摘なし",{"$nulls":4},"・","要是正"]
[{"$nulls":22},"2.機械方式"]
[{"$nulls":22},"3.併用方式"]
[{"$nulls":22},"1.自然方式",{"$nulls":22},{"$f":"IF(OR(ISBLANK(BF88),ISBLANK(BK88)),\"\",IF(BF88=\"①\",2.7*SQRT(BK88),IF(BF88=\"②\",3.3*SQRT(BK88),IF(BF88=\"③\",3.8*SQRT(BK88)))))","v":""},{"$nulls":25},"指摘なし",{"$nulls":4},"・","要是正"]
[{"$nulls":22},"2.機械方式"]
[{"$nulls":22},"3.併用方式"]
[{"$nulls":22},"1.自然方式",{"$nulls":22},{"$f":"IF(OR(ISBLANK(BF91),ISBLANK(BK91)),\"\",IF(BF91=\"①\",2.7*SQRT(BK91),IF(BF91=\"②\",3.3*SQRT(BK91),IF(BF91=\"③\",3.8*SQRT(BK91)))))","v":""},{"$nulls":25},"指摘なし",{"$nulls":4},"・","要是正"]
[{"$nulls":22},"2.機械方式"]
[{"$nulls":22},"3.併用方式"]
[{"$nulls":22},"1.自然方式",{"$nulls":22},{"$f":"IF(OR(ISBLANK(BF94),ISBLANK(BK94)),\"\",IF(BF94=\"①\",2.7*SQRT(BK94),IF(BF94=\"②\",3.3*SQRT(BK94),IF(BF94=\"③\",3.8*SQRT(BK94)))))","v":""},{"$nulls":25},"指摘なし",{"$nulls":4},"・","要是正"]
[{"$nulls":22},"2.機械方式"]
[{"$nulls":22},"3.併用方式"]
[{"$nulls":22},"1.自然方式",{"$nulls":22},{"$f":"IF(OR(ISBLANK(BF97),ISBLANK(BK97)),\"\",IF(BF97=\"①\",2.7*SQRT(BK97),IF(BF97=\"②\",3.3*SQRT(BK97),IF(BF97=\"③\",3.8*SQRT(BK97)))))","v":""},{"$nulls":25},"指摘なし",{"$nulls":4},"・","要是正"]
[{"$nulls":22},"2.機械方式"]
[{"$nulls":22},"3.併用方式"]
[]
[3,null,"直結エンジン（内燃エンジン）の有無",{"$nulls":19},"予備電源又は直結エンジン切り替え",{"$nulls":22},4,null,"排煙系統図（給気送風機と空気逃し口の対応関係がわかる図を記入すること）"]
[{"$nulls":7},"有",{"$nulls":3},"・",null,"無",{"$nulls":12},"指摘なし",{"$nulls":5},"・",null,null,"要是正"]
[]
[null,"注1）",null,null,"「空気逃し口の方式」欄には、該当するチェックボックスに「レ」マークを入れる。"]
[null,"注2）",null,null,"「測定排出風速」欄には、原則として測定した箇所の平均風速を記入する。"]
[null,"注3）",null,null,"隣接室を区画する当該区画の仕様及び隣接室の仕様に応じて、規定排出風速Ｖの算定式を以下"]
[{"$nulls":4},"の①から③のいずれかを選択し、「算定式」欄に記入する。また、当該算定式により排出風速"]
[{"$nulls":4},"を算出し、「規定排出風速」欄に記入する。この場合において、Ｖは排出風速、Ｈは遮煙開口"]
[{"$nulls":4},"部の高さを表す。"]
[]
[null,"注4）",null,null,"自主点検等による風速測定記録がある場合は、実施時期、測定方法、測定値等が適正であるか"]
[{"$nulls":4},"否かを判定すること。"]
[]
[]
["別表３－３　排煙風量測定記録表（Ａ４）４　加圧式（加圧防排煙設備）"]
[]
["測定年月日",{"$nulls":5},"令和",{"$nulls":4},"年",{"$nulls":3},"月",{"$nulls":3},"日",null,"測定機器　メーカー名",{"$nulls":29},"型式番号等"]
[1,null,"給気送風機系統（機器番号等）",{"$nulls":30},"給気送風機銘板表示",{"$nulls":17},"給気送風機の性能（風量）"]
[{"$nulls":72},"m3/min"]
[]
[2,null,"遮煙開口部・空気逃し口",{"$nulls":68},"判　定"]
[null,null,"階",{"$nulls":3},"室　　　　　名",{"$nulls":15},"空気逃し口の方式※注1)",{"$nulls":10},"測定排出風速※注2)(m/s)",{"$nulls":11},"規定排出風速※注3)(m/s)",{"$nulls":11},"算定式※注3)",{"$nulls":4},"遮煙開口部の高さ(m)"]
[{"$nulls":22},"1.自然方式",{"$nulls":22},{"$f":"IF(OR(ISBLANK(BF123),ISBLANK(BK123)),\"\",IF(BF123=\"①\",2.7*SQRT(BK123),IF(BF123=\"②\",3.3*SQRT(BK123),IF(BF123=\"③\",3.8*SQRT(BK123)))))","v":""},{"$nulls":25},"指摘なし",{"$nulls":4},"・","要是正"]
[{"$nulls":22},"2.機械方式"]
[{"$nulls":22},"3.併用方式"]
[{"$nulls":22},"1.自然方式",{"$nulls":22},{"$f":"IF(OR(ISBLANK(BF126),ISBLANK(BK126)),\"\",IF(BF126=\"①\",2.7*SQRT(BK126),IF(BF126=\"②\",3.3*SQRT(BK126),IF(BF126=\"③\",3.8*SQRT(BK126)))))","v":""},{"$nulls":25},"指摘なし",{"$nulls":4},"・","要是正"]
[{"$nulls":22},"2.機械方式"]
[{"$nulls":22},"3.併用方式"]
[{"$nulls":22},"1.自然方式",{"$nulls":22},{"$f":"IF(OR(ISBLANK(BF129),ISBLANK(BK129)),\"\",IF(BF129=\"①\",2.7*SQRT(BK129),IF(BF129=\"②\",3.3*SQRT(BK129),IF(BF129=\"③\",3.8*SQRT(BK129)))))","v":""},{"$nulls":25},"指摘なし",{"$nulls":4},"・","要是正"]
[{"$nulls":22},"2.機械方式"]
[{"$nulls":22},"3.併用方式"]
[{"$nulls":22},"1.自然方式",{"$nulls":22},{"$f":"IF(OR(ISBLANK(BF132),ISBLANK(BK132)),\"\",IF(BF132=\"①\",2.7*SQRT(BK132),IF(BF132=\"②\",3.3*SQRT(BK132),IF(BF132=\"③\",3.8*SQRT(BK132)))))","v":""},{"$nulls":25},"指摘なし",{"$nulls":4},"・","要是正"]
[{"$nulls":22},"2.機械方式"]
[{"$nulls":22},"3.併用方式"]
[{"$nulls":22},"1.自然方式",{"$nulls":22},{"$f":"IF(OR(ISBLANK(BF135),ISBLANK(BK135)),\"\",IF(BF135=\"①\",2.7*SQRT(BK135),IF(BF135=\"②\",3.3*SQRT(BK135),IF(BF135=\"③\",3.8*SQRT(BK135)))))","v":""},{"$nulls":25},"指摘なし",{"$nulls":4},"・","要是正"]
[{"$nulls":22},"2.機械方式"]
[{"$nulls":22},"3.併用方式"]
[]
[3,null,"直結エンジン（内燃エンジン）の有無",{"$nulls":19},"予備電源又は直結エンジン切り替え",{"$nulls":22},4,null,"排煙系統図（給気送風機と空気逃し口の対応関係がわかる図を記入すること）"]
[{"$nulls":7},"有",{"$nulls":3},"・",null,"無",{"$nulls":12},"指摘なし",{"$nulls":5},"・",null,null,"要是正"]
[]
[null,"注1）",null,null,"「空気逃し口の方式」欄には、該当するチェックボックスに「レ」マークを入れる。"]
[null,"注2）",null,null,"「測定排出風速」欄には、原則として測定した箇所の平均風速を記入する。"]
[null,"注3）",null,null,"隣接室を区画する当該区画の仕様及び隣接室の仕様に応じて、規定排出風速Ｖの算定式を以下"]
[{"$nulls":4},"の①から③のいずれかを選択し、「算定式」欄に記入する。また、当該算定式により排出風速"]
[{"$nulls":4},"を算出し、「規定排出風速」欄に記入する。この場合において、Ｖは排出風速、Ｈは遮煙開口"]
[{"$nulls":4},"部の高さを表す。"]
[]
[null,"注4）",null,null,"自主点検等による風速測定記録がある場合は、実施時期、測定方法、測定値等が適正であるか"]
[{"$nulls":4},"否かを判定すること。"]
[]
[]
["別表３－３　排煙風量測定記録表（Ａ４）５　加圧式（加圧防排煙設備）"]
[]
["測定年月日",{"$nulls":5},"令和",{"$nulls":4},"年",{"$nulls":3},"月",{"$nulls":3},"日",null,"測定機器　メーカー名",{"$nulls":29},"型式番号等"]
[1,null,"給気送風機系統（機器番号等）",{"$nulls":30},"給気送風機銘板表示",{"$nulls":17},"給気送風機の性能（風量）"]
[{"$nulls":72},"m3/min"]
[]
[2,null,"遮煙開口部・空気逃し口",{"$nulls":68},"判　定"]
[null,null,"階",{"$nulls":3},"室　　　　　名",{"$nulls":15},"空気逃し口の方式※注1)",{"$nulls":10},"測定排出風速※注2)(m/s)",{"$nulls":11},"規定排出風速※注3)(m/s)",{"$nulls":11},"算定式※注3)",{"$nulls":4},"遮煙開口部の高さ(m)"]
[{"$nulls":22},"1.自然方式",{"$nulls":22},{"$f":"IF(OR(ISBLANK(BF161),ISBLANK(BK161)),\"\",IF(BF161=\"①\",2.7*SQRT(BK161),IF(BF161=\"②\",3.3*SQRT(BK161),IF(BF161=\"③\",3.8*SQRT(BK161)))))","v":""},{"$nulls":25},"指摘なし",{"$nulls":4},"・","要是正"]
[{"$nulls":22},"2.機械方式"]
[{"$nulls":22},"3.併用方式"]
[{"$nulls":22},"1.自然方式",{"$nulls":22},{"$f":"IF(OR(ISBLANK(BF164),ISBLANK(BK164)),\"\",IF(BF164=\"①\",2.7*SQRT(BK164),IF(BF164=\"②\",3.3*SQRT(BK164),IF(BF164=\"③\",3.8*SQRT(BK164)))))","v":""},{"$nulls":25},"指摘なし",{"$nulls":4},"・","要是正"]
[{"$nulls":22},"2.機械方式"]
[{"$nulls":22},"3.併用方式"]
[{"$nulls":22},"1.自然方式",{"$nulls":22},{"$f":"IF(OR(ISBLANK(BF167),ISBLANK(BK167)),\"\",IF(BF167=\"①\",2.7*SQRT(BK167),IF(BF167=\"②\",3.3*SQRT(BK167),IF(BF167=\"③\",3.8*SQRT(BK167)))))","v":""},{"$nulls":25},"指摘なし",{"$nulls":4},"・","要是正"]
[{"$nulls":22},"2.機械方式"]
[{"$nulls":22},"3.併用方式"]
[{"$nulls":22},"1.自然方式",{"$nulls":22},{"$f":"IF(OR(ISBLANK(BF170),ISBLANK(BK170)),\"\",IF(BF170=\"①\",2.7*SQRT(BK170),IF(BF170=\"②\",3.3*SQRT(BK170),IF(BF170=\"③\",3.8*SQRT(BK170)))))","v":""},{"$nulls":25},"指摘なし",{"$nulls":4},"・","要是正"]
[{"$nulls":22},"2.機械方式"]
[{"$nulls":22},"3.併用方式"]
[{"$nulls":22},"1.自然方式",{"$nulls":22},{"$f":"IF(OR(ISBLANK(BF173),ISBLANK(BK173)),\"\",IF(BF173=\"①\",2.7*SQRT(BK173),IF(BF173=\"②\",3.3*SQRT(BK173),IF(BF173=\"③\",3.8*SQRT(BK173)))))","v":""},{"$nulls":25},"指摘なし",{"$nulls":4},"・","要是正"]
[{"$nulls":22},"2.機械方式"]
[{"$nulls":22},"3.併用方式"]
[]
[3,null,"直結エンジン（内燃エンジン）の有無",{"$nulls":19},"予備電源又は直結エンジン切り替え",{"$nulls":22},4,null,"排煙系統図（給気送風機と空気逃し口の対応関係がわかる図を記入すること）"]
[{"$nulls":7},"有",{"$nulls":3},"・",null,"無",{"$nulls":12},"指摘なし",{"$nulls":5},"・",null,null,"要是正"]
[]
[null,"注1）",null,null,"「空気逃し口の方式」欄には、該当するチェックボックスに「レ」マークを入れる。"]
[null,"注2）",null,null,"「測定排出風速」欄には、原則として測定した箇所の平均風速を記入する。"]
[null,"注3）",null,null,"隣接室を区画する当該区画の仕様及び隣接室の仕様に応じて、規定排出風速Ｖの算定式を以下"]
[{"$nulls":4},"の①から③のいずれかを選択し、「算定式」欄に記入する。また、当該算定式により排出風速"]
[{"$nulls":4},"を算出し、「規定排出風速」欄に記入する。この場合において、Ｖは排出風速、Ｈは遮煙開口"]
[{"$nulls":4},"部の高さを表す。"]
[]
[null,"注4）",null,null,"自主点検等による風速測定記録がある場合は、実施時期、測定方法、測定値等が適正であるか"]
[{"$nulls":4},"否かを判定すること。"]

{"sheet":"別表４（非照－測定表）","index":12,"n_rows":147,"n_cols":81,"rows_kept":147,"merged":[[2,0,2,6],[2,8,2,10],[2,11,2,12],[2,13,2,14],[2,15,2,16],[2,17,2,18],[2,19,2,20],[2,21,2,22],[2,24,2,36],[2,37,2,56],[2,57,2,64],[2,65,2,84],[3,0,4,11],[3,12,3,48],[3,49,4,72],[3,73,4,84],[4,12,4,23],[4,24,4,48],[5,0,5,11],[5,12,5,23],[5,24,5,48],[5,49,5,72],[5,74,5,78],[5,80,5,83],[6,0,6,11],[6,12,6,23],[6,24,6,48],[6,49,6,72],[6,74,6,78],[6,80,6,83],[7,0,7,11],[7,12,7,23],[7,24,7,48],[7,49,7,72],[7,74,7,78],[7,80,7,83],[12,0,12,6],[12,7,12,36],[12,37,12,56],[12,57,12,72],[12,73,12,84],[13,0,13,6],[13,7,13,36],[13,37,13,56],[13,57,13,72],[13,73,13,84],[14,0,14,6],[14,7,14,36],[14,37,14,56],[14,57,14,72],[14,73,14,84],[15,0,15,6],[15,7,15,36],[15,37,15,56],[15,57,15,72],[15,73,15,84],[16,0,16,6],[16,7,16,36],[16,37,16,56],[16,57,16,72],[16,73,16,84],[17,0,17,6],[17,7,17,36],[17,37,17,56],[17,57,17,72],[17,73,17,84],[18,0,18,6],[18,7,18,36],[18,37,18,56],[18,57,18,72],[18,73,18,84],[19,0,19,6],[19,7,19,36],[19,37,19,56],[19,57,19,72],[19,73,19,84],[20,0,20,6],[20,7,20,36],[20,37,20,56],[20,57,20,72],[20,73,20,84],[21,0,21,6],[21,7,21,36],[21,37,21,56],[21,57,21,72],[21,73,21,84],[22,0,22,6],[22,7,22,36],[22,37,22,56],[22,57,22,72],[22,73,22,84],[23,0,23,6],[23,7,23,36],[23,37,23,56],[23,57,23,72],[23,73,23,84],[24,0,24,6],[24,7,24,36],[24,37,24,56],[24,57,24,72],[24,73,24,84],[25,0,25,6],[25,7,25,36],[25,37,25,56],[25,57,25,72],[25,73,25,84],[26,0,26,6],[26,7,26,36],[26,37,26,56],[26,57,26,72],[26,73,26,84],[27,0,27,6],[27,7,27,36],[27,37,27,56],[27,57,27,72],[27,73,27,84],[29,0,29,84],[30,0,30,84],[36,0,36,6],[36,7,36,36],[36,37,36,56],[36,57,36,72],[36,73,36,84],[37,0,37,6],[37,7,37,36],[37,37,37,56],[37,57,37,72],[37,73,37,84],[38,0,38,6],[38,7,38,36],[38,37,38,56],[38,57,38,72],[38,73,38,84],[39,0,39,6],[39,7,39,36],[39,37,39,56],[39,57,39,72],[39,73,39,84],[40,0,40,6],[40,7,40,36],[40,37,40,56],[40,57,40,72],[40,73,40,84],[41,0,41,6],[41,7,41,36],[41,37,41,56],[41,57,41,72],[41,73,41,84],[42,0,42,6],[42,7,42,36],[42,37,42,56],[42,57,42,72],[42,73,42,84],[43,0,43,6],[43,7,43,36],[43,37,43,56],[43,57,43,72],[43,73,43,84],[44,0,44,6],[44,7,44,36],[44,37,44,56],[44,57,44,72],[44,73,44,84],[45,0,45,6],[45,7,45,36],[45,37,45,56],[45,57,45,72],[45,73,45,84],[46,0,46,6],[46,7,46,36],[46,37,46,56],[46,57,46,72],[46,73,46,84],[47,0,47,6],[47,7,47,36],[47,37,47,56],[47,57,47,72],[47,73,47,84],[48,0,48,6],[48,7,48,36],[48,37,48,56],[48,57,48,72],[48,73,48,84],[49,0,49,6],[49,7,49,36],[49,37,49,56],[49,57,49,72],[49,73,49,84],[50,0,50,6],[50,7,50,36],[50,37,50,56],[50,57,50,72],[50,73,50,84],[51,0,51,6],[51,7,51,36],[51,37,51,56],[51,57,51,72],[51,73,51,84],[52,0,52,6],[52,7,52,36],[52,37,52,56],[52,57,52,72],[52,73,52,84],[53,0,53,6],[53,7,53,36],[53,37,53,56],[53,57,53,72],[53,73,53,84],[54,0,54,6],[54,7,54,36],[54,37,54,56],[54,57,54,72],[54,73,54,84],[55,0,55,6],[55,7,55,36],[55,37,55,56],[55,57,55,72],[55,73,55,84],[56,0,56,6],[56,7,56,36],[56,37,56,56],[56,57,56,72],[56,73,56,84],[58,0,58,84],[59,0,59,84],[65,0,65,6],[65,7,65,36],[65,37,65,56],[65,57,65,72],[65,73,65,84],[66,0,66,6],[66,7,66,36],[66,37,66,56],[66,57,66,72],[66,73,66,84],[67,0,67,6],[67,7,67,36],[67,37,67,56],[67,57,67,72],[67,73,67,84],[68,0,68,6],[68,7,68,36],[68,37,68,56],[68,57,68,72],[68,73,68,84],[69,0,69,6],[69,7,69,36],[69,37,69,56],[69,57,69,72],[69,73,69,84],[70,0,70,6],[70,7,70,36],[70,37,70,56],[70,57,70,72],[70,73,70,84],[71,0,71,6],[71,7,71,36],[71,37,71,56],[71,57,71,72],[71,73,71,84],[72,0,72,6],[72,7,72,36],[72,37,72,56],[72,57,72,72],[72,73,72,84],[73,0,73,6],[73,7,73,36],[73,37,73,56],[73,57,73,72],[73,73,73,84],[74,0,74,6],[74,7,74,36],[74,37,74,56],[74,57,74,72],[74,73,74,84],[75,0,75,6],[75,7,75,36],[75,37,75,56],[75,57,75,72],[75,73,75,84],[76,0,76,6],[76,7,76,36],[76,37,76,56],[76,57,76,72],[76,73,76,84],[77,0,77,6],[77,7,77,36],[77,37,77,56],[77,57,77,72],[77,73,77,84],[78,0,78,6],[78,7,78,36],[78,37,78,56],[78,57,78,72],[78,73,78,84],[79,0,79,6],[79,7,79,36],[79,37,79,56],[79,57,79,72],[79,73,79,84],[80,0,80,6],[80,7,80,36],[80,37,80,56],[80,57,80,72],[80,73,80,84],[81,0,81,6],[81,7,81,36],[81,37,81,56],[81,57,81,72],[81,73,81,84],[82,0,82,6],[82,7,82,36],[82,37,82,56],[82,57,82,72],[82,73,82,84],[83,0,83,6],[83,7,83,36],[83,37,83,56],[83,57,83,72],[83,73,83,84],[84,0,84,6],[84,7,84,36],[84,37,84,56],[84,57,84,72],[84,73,84,84],[85,0,85,6],[85,7,85,36],[85,37,85,56],[85,57,85,72],[85,73,85,84],[87,0,87,84],[88,0,88,84],[94,0,94,6],[94,7,94,36],[94,37,94,56],[94,57,94,72],[94,73,94,84],[95,0,95,6],[95,7,95,36],[95,37,95,56],[95,57,95,72],[95,73,95,84],[96,0,96,6],[96,7,96,36],[96,37,96,56],[96,57,96,72],[96,73,96,84],[97,0,97,6],[97,7,97,36],[97,37,97,56],[97,57,97,72],[97,73,97,84],[98,0,98,6],[98,7,98,36],[98,37,98,56],[98,57,98,72],[98,73,98,84],[99,0,99,6],[99,7,99,36],[99,37,99,56],[99,57,99,72],[99,73,99,84],[100,0,100,6],[100,7,100,36],[100,37,100,56],[100,57,100,72],[100,73,100,84],[101,0,101,6],[101,7,101,36],[101,37,101,56],[101,57,101,72],[101,73,101,84],[102,0,102,6],[102,7,102,36],[102,37,102,56],[102,57,102,72],[102,73,102,84],[103,0,103,6],[103,7,103,36],[103,37,103,56],[103,57,103,72],[103,73,103,84],[104,0,104,6],[104,7,104,36],[104,37,104,56],[104,57,104,72],[104,73,104,84],[105,0,105,6],[105,7,105,36],[105,37,105,56],[105,57,105,72],[105,73,105,84],[106,0,106,6],[106,7,106,36],[106,37,106,56],[106,57,106,72],[106,73,106,84],[107,0,107,6],[107,7,107,36],[107,37,107,56],[107,57,107,72],[107,73,107,84],[108,0,108,6],[108,7,108,36],[108,37,108,56],[108,57,108,72],[108,73,108,84],[109,0,109,6],[109,7,109,36],[109,37,109,56],[109,57,109,72],[109,73,109,84],[110,0,110,6],[110,7,110,36],[110,37,110,56],[110,57,110,72],[110,73,110,84],[111,0,111,6],[111,7,111,36],[111,37,111,56],[111,57,111,72],[111,73,111,84],[112,0,112,6],[112,7,112,36],[112,37,112,56],[112,57,112,72],[112,73,112,84],[113,0,113,6],[113,7,113,36],[113,37,113,56],[113,57,113,72],[113,73,113,84],[114,0,114,6],[114,7,114,36],[114,37,114,56],[114,57,114,72],[114,73,114,84],[116,0,116,84],[117,0,117,84],[123,0,123,6],[123,7,123,36],[123,37,123,56],[123,57,123,72],[123,73,123,84],[124,0,124,6],[124,7,124,36],[124,37,124,56],[124,57,124,72],[124,73,124,84],[125,0,125,6],[125,7,125,36],[125,37,125,56],[125,57,125,72],[125,73,125,84],[126,0,126,6],[126,7,126,36],[126,37,126,56],[126,57,126,72],[126,73,126,84],[127,0,127,6],[127,7,127,36],[127,37,127,56],[127,57,127,72],[127,73,127,84],[128,0,128,6],[128,7,128,36],[128,37,128,56],[128,57,128,72],[128,73,128,84],[129,0,129,6],[129,7,129,36],[129,37,129,56],[129,57,129,72],[129,73,129,84],[130,0,130,6],[130,7,130,36],[130,37,130,56],[130,57,130,72],[130,73,130,84],[131,0,131,6],[131,7,131,36],[131,37,131,56],[131,57,131,72],[131,73,131,84],[132,0,132,6],[132,7,132,36],[132,37,132,56],[132,57,132,72],[132,73,132,84],[133,0,133,6],[133,7,133,36],[133,37,133,56],[133,57,133,72],[133,73,133,84],[134,0,134,6],[134,7,134,36],[134,37,134,56],[134,57,134,72],[134,73,134,84],[135,0,135,6],[135,7,135,36],[135,37,135,56],[135,57,135,72],[135,73,135,84],[136,0,136,6],[136,7,136,36],[136,37,136,56],[136,57,136,72],[136,73,136,84],[137,0,137,6],[137,7,137,36],[137,37,137,56],[137,57,137,72],[137,73,137,84],[138,0,138,6],[138,7,138,36],[138,37,138,56],[138,57,138,72],[138,73,138,84],[139,0,139,6],[139,7,139,36],[139,37,139,56],[139,57,139,72],[139,73,139,84],[140,0,140,6],[140,7,140,36],[140,37,140,56],[140,57,140,72],[140,73,140,84],[141,0,141,6],[141,7,141,36],[141,37,141,56],[141,57,141,72],[141,73,141,84],[142,0,142,6],[142,7,142,36],[142,37,142,56],[142,57,142,72],[142,73,142,84],[143,0,143,6],[143,7,143,36],[143,37,143,56],[143,57,143,72],[143,73,143,84],[145,0,145,84],[146,0,146,84]]}
["別表４　非常用の照明装置の照度測定表（Ａ４）"]
[]
["測定年月日",{"$nulls":7},"令和",{"$nulls":4},"年",{"$nulls":3},"月",{"$nulls":3},"日",null,null,"測定機器　メーカー名",{"$nulls":32},"型式番号等"]
["光 源 の 種 類",{"$nulls":11},"最低照度の測定場所",{"$nulls":36},"最　低　照　度 （ｌｘ）",{"$nulls":23},"判　　定"]
[{"$nulls":12},"階",{"$nulls":11},"部屋・廊下等"]
["白　　　熱　　　灯",{"$nulls":73},"指摘なし",{"$nulls":4},"・","要是正"]
["蛍　　　光　　　灯",{"$nulls":73},"指摘なし",{"$nulls":4},"・","要是正"]
["その他（LEDランプ）",{"$nulls":73},"指摘なし",{"$nulls":4},"・","要是正"]
[]
[]
["(別紙)"]
[]
["階　別",{"$nulls":6},"測　定　場　所",{"$nulls":29},"測 定 位 置＊注1)",{"$nulls":19},"光源の種類＊注2)",{"$nulls":15},"照　度 （ｌｘ）"]
[{"$nulls":57},"　"]
[{"$nulls":57},"　"]
[{"$nulls":57},"　"]
[{"$nulls":57},"　"]
[{"$nulls":57},"　"]
[{"$nulls":57},"　"]
[{"$nulls":57},"　"]
[{"$nulls":57},"　"]
[{"$nulls":57},"　"]
[{"$nulls":57},"　"]
[{"$nulls":57},"　"]
[{"$nulls":57},"　"]
[{"$nulls":57},"　"]
[{"$nulls":57},"　"]
[{"$nulls":57},"　"]
[]
["　注 1）「測定位置」欄には、「出入口付近」、「右壁中央付近」のように明記する。"]
["　注 2）「光源の種類」欄には、白熱灯、蛍光灯、LEDランプの別及び電池内蔵のものにあっては、（内）と付す。"]
["別表４　非常用の照明装置の照度測定表２（Ａ４）"]
[]
[]
["(別紙２)"]
[]
["階　別",{"$nulls":6},"測　定　場　所",{"$nulls":29},"測 定 位 置＊注1)",{"$nulls":19},"光源の種類＊注2)",{"$nulls":15},"照　度 （ｌｘ）"]
[{"$nulls":57},"　"]
[{"$nulls":57},"　"]
[{"$nulls":57},"　"]
[{"$nulls":57},"　"]
[{"$nulls":57},"　"]
[{"$nulls":57},"　"]
[{"$nulls":57},"　"]
[{"$nulls":57},"　"]
[{"$nulls":57},"　"]
[{"$nulls":57},"　"]
[{"$nulls":57},"　"]
[{"$nulls":57},"　"]
[{"$nulls":57},"　"]
[{"$nulls":57},"　"]
[{"$nulls":57},"　"]
[{"$nulls":57},"　"]
[{"$nulls":57},"　"]
[{"$nulls":57},"　"]
[{"$nulls":57},"　"]
[{"$nulls":57},"　"]
[]
["　注 1）「測定位置」欄には、「出入口付近」、「右壁中央付近」のように明記する。"]
["　注 2）「光源の種類」欄には、白熱灯、蛍光灯、LEDランプの別及び電池内蔵のものにあっては、（内）と付す。"]
["別表４　非常用の照明装置の照度測定表３（Ａ４）"]
[]
[]
["(別紙３)"]
[]
["階　別",{"$nulls":6},"測　定　場　所",{"$nulls":29},"測 定 位 置＊注1)",{"$nulls":19},"光源の種類＊注2)",{"$nulls":15},"照　度 （ｌｘ）"]
[{"$nulls":57},"　"]
[{"$nulls":57},"　"]
[{"$nulls":57},"　"]
[{"$nulls":57},"　"]
[{"$nulls":57},"　"]
[{"$nulls":57},"　"]
[{"$nulls":57},"　"]
[{"$nulls":57},"　"]
[{"$nulls":57},"　"]
[{"$nulls":57},"　"]
[{"$nulls":57},"　"]
[{"$nulls":57},"　"]
[{"$nulls":57},"　"]
[{"$nulls":57},"　"]
[{"$nulls":57},"　"]
[{"$nulls":57},"　"]
[{"$nulls":57},"　"]
[{"$nulls":57},"　"]
[{"$nulls":57},"　"]
[{"$nulls":57},"　"]
[]
["　注 1）「測定位置」欄には、「出入口付近」、「右壁中央付近」のように明記する。"]
["　注 2）「光源の種類」欄には、白熱灯、蛍光灯、LEDランプの別及び電池内蔵のものにあっては、（内）と付す。"]
["別表４　非常用の照明装置の照度測定表４（Ａ４）"]
[]
[]
["(別紙４)"]
[]
["階　別",{"$nulls":6},"測　定　場　所",{"$nulls":29},"測 定 位 置＊注1)",{"$nulls":19},"光源の種類＊注2)",{"$nulls":15},"照　度 （ｌｘ）"]
[{"$nulls":57},"　"]
[{"$nulls":57},"　"]
[{"$nulls":57},"　"]
[{"$nulls":57},"　"]
[{"$nulls":57},"　"]
[{"$nulls":57},"　"]
[{"$nulls":57},"　"]
[{"$nulls":57},"　"]
[{"$nulls":57},"　"]
[{"$nulls":57},"　"]
[{"$nulls":57},"　"]
[{"$nulls":57},"　"]
[{"$nulls":57},"　"]
[{"$nulls":57},"　"]
[{"$nulls":57},"　"]
[{"$nulls":57},"　"]
[{"$nulls":57},"　"]
[{"$nulls":57},"　"]
[{"$nulls":57},"　"]
[{"$nulls":57},"　"]
[]
["　注 1）「測定位置」欄には、「出入口付近」、「右壁中央付近」のように明記する。"]
["　注 2）「光源の種類」欄には、白熱灯、蛍光灯、LEDランプの別及び電池内蔵のものにあっては、（内）と付す。"]
["別表４　非常用の照明装置の照度測定表５（Ａ４）"]
[]
[]
["(別紙５)"]
[]
["階　別",{"$nulls":6},"測　定　場　所",{"$nulls":29},"測 定 位 置＊注1)",{"$nulls":19},"光源の種類＊注2)",{"$nulls":15},"照　度 （ｌｘ）"]
[{"$nulls":57},"　"]
[{"$nulls":57},"　"]
[{"$nulls":57},"　"]
[{"$nulls":57},"　"]
[{"$nulls":57},"　"]
[{"$nulls":57},"　"]
[{"$nulls":57},"　"]
[{"$nulls":57},"　"]
[{"$nulls":57},"　"]
[{"$nulls":57},"　"]
[{"$nulls":57},"　"]
[{"$nulls":57},"　"]
[{"$nulls":57},"　"]
[{"$nulls":57},"　"]
[{"$nulls":57},"　"]
[{"$nulls":57},"　"]
[{"$nulls":57},"　"]
[{"$nulls":57},"　"]
[{"$nulls":57},"　"]
[{"$nulls":57},"　"]
[]
["　注 1）「測定位置」欄には、「出入口付近」、「右壁中央付近」のように明記する。"]
["　注 2）「光源の種類」欄には、白熱灯、蛍光灯、LEDランプの別及び電池内蔵のものにあっては、（内）と付す。"]

{"sheet":"関係写真","index":13,"n_rows":253,"n_cols":57,"rows_kept":253,"merged":[[2,1,3,2],[2,3,2,7],[2,8,2,21],[2,22,2,32],[3,3,3,5],[3,6,3,7],[3,8,3,21],[3,25,3,26],[3,29,3,30],[4,1,18,16],[4,17,4,19],[4,20,4,32],[5,17,5,32],[6,17,6,32],[7,17,7,32],[8,17,8,32],[9,17,9,32],[10,17,10,32],[11,17,11,32],[12,17,12,32],[13,17,13,32],[14,17,14,32],[15,17,15,32],[16,17,16,32],[17,17,17,32],[18,17,18,32],[20,1,21,2],[20,3,20,7],[20,8,20,21],[20,22,20,32],[21,3,21,5],[21,6,21,7],[21,8,21,21],[21,25,21,26],[21,29,21,30],[22,1,36,16],[22,17,22,19],[22,20,22,32],[23,17,23,32],[24,17,24,32],[25,17,25,32],[26,17,26,32],[27,17,27,32],[28,17,28,32],[29,17,29,32],[30,17,30,32],[31,17,31,32],[32,17,32,32],[33,17,33,32],[34,17,34,32],[35,17,35,32],[36,17,36,32],[49,1,50,2],[49,3,49,7],[49,8,49,21],[49,22,49,32],[50,3,50,5],[50,6,50,7],[50,8,50,21],[50,25,50,26],[50,29,50,30],[51,1,65,16],[51,17,51,19],[51,20,51,32],[52,17,52,32],[53,17,53,32],[54,17,54,32],[55,17,55,32],[56,17,56,32],[57,17,57,32],[58,17,58,32],[59,17,59,32],[60,17,60,32],[61,17,61,32],[62,17,62,32],[63,17,63,32],[64,17,64,32],[65,17,65,32],[67,1,68,2],[67,3,67,7],[67,8,67,21],[67,22,67,32],[68,3,68,5],[68,6,68,7],[68,8,68,21],[68,25,68,26],[68,29,68,30],[69,1,83,16],[69,17,69,19],[69,20,69,32],[70,17,70,32],[71,17,71,32],[72,17,72,32],[73,17,73,32],[74,17,74,32],[75,17,75,32],[76,17,76,32],[77,17,77,32],[78,17,78,32],[79,17,79,32],[80,17,80,32],[81,17,81,32],[82,17,82,32],[83,17,83,32],[96,1,97,2],[96,3,96,7],[96,8,96,21],[96,22,96,32],[97,3,97,5],[97,6,97,7],[97,8,97,21],[97,25,97,26],[97,29,97,30],[98,1,112,16],[98,17,98,19],[98,20,98,32],[99,17,99,32],[100,17,100,32],[101,17,101,32],[102,17,102,32],[103,17,103,32],[104,17,104,32],[105,17,105,32],[106,17,106,32],[107,17,107,32],[108,17,108,32],[109,17,109,32],[110,17,110,32],[111,17,111,32],[112,17,112,32],[114,1,115,2],[114,3,114,7],[114,8,114,21],[114,22,114,32],[115,3,115,5],[115,6,115,7],[115,8,115,21],[115,25,115,26],[115,29,115,30],[116,1,130,16],[116,17,116,19],[116,20,116,32],[117,17,117,32],[118,17,118,32],[119,17,119,32],[120,17,120,32],[121,17,121,32],[122,17,122,32],[123,17,123,32],[124,17,124,32],[125,17,125,32],[126,17,126,32],[127,17,127,32],[128,17,128,32],[129,17,129,32],[130,17,130,32],[143,1,144,2],[143,3,143,7],[143,8,143,21],[143,22,143,32],[144,3,144,5],[144,6,144,7],[144,8,144,21],[144,25,144,26],[144,29,144,30],[145,1,159,16],[145,17,145,19],[145,20,145,32],[146,17,146,32],[147,17,147,32],[148,17,148,32],[149,17,149,32],[150,17,150,32],[151,17,151,32],[152,17,152,32],[153,17,153,32],[154,17,154,32],[155,17,155,32],[156,17,156,32],[157,17,157,32],[158,17,158,32],[159,17,159,32],[161,1,162,2],[161,3,161,7],[161,8,161,21],[161,22,161,32],[162,3,162,5],[162,6,162,7],[162,8,162,21],[162,25,162,26],[162,29,162,30],[163,1,177,16],[163,17,163,19],[163,20,163,32],[164,17,164,32],[165,17,165,32],[166,17,166,32],[167,17,167,32],[168,17,168,32],[169,17,169,32],[170,17,170,32],[171,17,171,32],[172,17,172,32],[173,17,173,32],[174,17,174,32],[175,17,175,32],[176,17,176,32],[177,17,177,32],[190,1,191,2],[190,3,190,7],[190,8,190,21],[190,22,190,32],[191,3,191,5],[191,6,191,7],[191,8,191,21],[191,25,191,26],[191,29,191,30],[192,1,206,16],[192,17,192,19],[192,20,192,32],[193,17,193,32],[194,17,194,32],[195,17,195,32],[196,17,196,32],[197,17,197,32],[198,17,198,32],[199,17,199,32],[200,17,200,32],[201,17,201,32],[202,17,202,32],[203,17,203,32],[204,17,204,32],[205,17,205,32],[206,17,206,32],[208,1,209,2],[208,3,208,7],[208,8,208,21],[208,22,208,32],[209,3,209,5],[209,6,209,7],[209,8,209,21],[209,25,209,26],[209,29,209,30],[210,1,224,16],[210,17,210,19],[210,20,210,32],[211,17,211,32],[212,17,212,32],[213,17,213,32],[214,17,214,32],[215,17,215,32],[216,17,216,32],[217,17,217,32],[218,17,218,32],[219,17,219,32],[220,17,220,32],[221,17,221,32],[222,17,222,32],[223,17,223,32],[224,17,224,32]]}
[null,"別添様式　関係写真（Ａ４）",{"$nulls":49},1,{"$f":"ValueToAreaName(D4,1)","v":""},{"$f":"ValueToAreaName(D4,2)","v":""},"第一号　（換気）1(1)","給気機の外気取り入れ口並びに直接外気に開放された給気口及び排気口への雨水等の防止措置の状況","1(1)"]
[{"$nulls":51},2,{"$f":"ValueToAreaName(D22,1)","v":""},{"$f":"ValueToAreaName(D22,2)","v":""},"第一号　（換気）1(2)","給気機の外気取り入れ口及び排気機の排気口の取付けの状況","1(2)"]
[null,"部位",null,"番号",{"$nulls":4},"検査項目等",{"$nulls":13},"検査結果",{"$nulls":28},3,{"$f":"ValueToAreaName(D51,1)","v":""},{"$f":"ValueToAreaName(D51,2)","v":""},"第一号　（換気）1(3)","各室の給気口及び排気口の設置位置","1(3)"]
[{"$nulls":3},"　",{"$nulls":4},{"$f":"IF(OR(D4=\"\",G4=\"\"),\"\",IF(BB1=\"\",\"\",VLOOKUP(G4,INDIRECT(BB1),2,0)))","v":""},{"$nulls":15},"レ","要是正",{"$nulls":3},"その他",{"$nulls":21},4,{"$f":"ValueToAreaName(D69,1)","v":""},{"$f":"ValueToAreaName(D69,2)","v":""},"第一号　（換気）1(4)","各室の給気口及び排気口の取付けの状況","1(4)"]
[null,"写真貼付",{"$nulls":15},"特記事項",{"$nulls":33},5,{"$f":"ValueToAreaName(D98,1)","v":""},{"$f":"ValueToAreaName(D98,2)","v":""},"第一号　（換気）1(5)","風道の取付けの状況","1(5)"]
[{"$nulls":51},6,{"$f":"ValueToAreaName(D116,1)","v":""},{"$f":"ValueToAreaName(D116,2)","v":""},"第一号　（換気）1(6)","風道の材質","1(6)"]
[{"$nulls":51},7,{"$f":"ValueToAreaName(D145,1)","v":""},{"$f":"ValueToAreaName(D145,2)","v":""},"第一号　（換気）1(7)","給気機又は排気機の設置の状況","1(7)"]
[{"$nulls":51},8,{"$f":"ValueToAreaName(D163,1)","v":""},{"$f":"ValueToAreaName(D163,2)","v":""},"第一号　（換気）1(8)","換気扇による換気の状況","1(8)"]
[{"$nulls":35},"写真は校閲より",{"$nulls":15},9,{"$f":"ValueToAreaName(D192,1)","v":""},{"$f":"ValueToAreaName(D192,2)","v":""},"第一号　（換気）1(9)","各系統の換気量","1(9)"]
[{"$nulls":35},"シート保護を解除すれば",{"$nulls":15},10,{"$f":"ValueToAreaName(D210,1)","v":""},{"$f":"ValueToAreaName(D210,2)","v":""},"第一号　（換気）1(10)","各室の換気量","1(10)"]
[{"$nulls":35},"挿入できます。",{"$nulls":18},"第一号　（換気）1(11)","中央管理室における制御及び作動状態の監視の状況","1(11)"]
[{"$nulls":54},"第一号　（換気）1(12)","空気調和設備の設置の状況","1(12)"]
[{"$nulls":54},"第一号　（換気）1(13)","空気調和設備及び配管の劣化及び損傷の状況","1(13)"]
[{"$nulls":54},"第一号　（換気）1(14)","空気調和設備の運転の状況","1(14)"]
[{"$nulls":54},"第一号　（換気）1(15)","空気ろ過器の点検口","1(15)"]
[{"$nulls":54},"第一号　（換気）1(16)","冷却塔と建築物の他の部分との離隔距離","1(16)"]
[{"$nulls":54},"第一号　（換気）1(17)","各室の温度","1(17)"]
[{"$nulls":54},"第一号　（換気）1(18)","各室の相対湿度","1(18)"]
[{"$nulls":54},"第一号　（換気）1(19)","各室の浮遊粉じん量","1(19)"]
[{"$nulls":54},"第一号　（換気）1(20)","各室の一酸化炭素含有率","1(20)"]
[null,"部位",null,"番号",{"$nulls":4},"検査項目等",{"$nulls":13},"検査結果",{"$nulls":31},"第一号　（換気）1(21)","各室の二酸化炭素含有率","1(21)"]
[{"$nulls":8},{"$f":"IF(OR(D22=\"\",G22=\"\"),\"\",IF(BB2=\"\",\"\",VLOOKUP(G22,INDIRECT(BB2),2,0)))","v":""},{"$nulls":16},"要是正",{"$nulls":3},"その他",{"$nulls":24},"第一号　（換気）1(22)","各室の気流","1(22)"]
[null,"写真貼付",{"$nulls":15},"特記事項",{"$nulls":36},"第一号　（換気）2(1)","排気筒、排気フード及び煙突の材質","2(1)"]
[{"$nulls":54},"第一号　（換気）2(2)","排気筒、排気フード及び煙突の取付けの状況","2(2)"]
[{"$nulls":54},"第一号　（換気）2(3)","給気口、給気筒、排気口、排気筒、排気フード及び煙突の大きさ","2(3)"]
[{"$nulls":54},"第一号　（換気）2(4)","給気口、排気口及び排気フードの位置","2(4)"]
[{"$nulls":54},"第一号　（換気）2(5)","給気口、給気筒、排気口、排気筒、排気フード及び煙突の設置の状況","2(5)"]
[{"$nulls":54},"第一号　（換気）2(6)","排気筒及び煙突の断熱の状況","2(6)"]
[{"$nulls":54},"第一号　（換気）2(7)","排気筒及び煙突と可燃物、電線等との離隔距離","2(7)"]
[{"$nulls":54},"第一号　（換気）2(8)","煙突等への防火ダンパー、風道等の設置の状況","2(8)"]
[{"$nulls":54},"第一号　（換気）2(9)","煙突の先端の立ち上がりの状況（密閉型燃焼器具の煙突を除く。）","2(9)"]
[{"$nulls":54},"第一号　（換気）2(10)","煙突に連結した排気筒及び半密閉式瞬間湯沸器等の設置の状況","2(10)"]
[{"$nulls":54},"第一号　（換気）2(11)","換気扇による換気の状況","2(11)"]
[{"$nulls":54},"第一号　（換気）2(12)","給気機又は排気機の設置の状況","2(12)"]
[{"$nulls":54},"第一号　（換気）2(13)","機械換気設備の換気量","2(13)"]
[{"$nulls":54},"第一号　（換気）3(1)","防火ダンパーの設置の状況","3(1)"]
[{"$nulls":54},"第一号　（換気）3(2)","防火ダンパーの取付けの状況","3(2)"]
[null," (注意）",{"$nulls":52},"第一号　（換気）3(3)","防火ダンパーの作動の状況","3(3)"]
[null,"①　この書類は、検査の結果「要是正」かつ「既存不適格」ではない項目等について作成してください。また、「既存不適格」及び",{"$nulls":52},"第一号　（換気）3(4)","防火ダンパーの劣化及び損傷の状況","3(4)"]
[null,"　「指摘なし」の項目等についても、特記すべき事項があれば、必要に応じて作成してください。「要是正」の項目等がない場合は、",{"$nulls":52},"第一号　（換気）3(5)","防火ダンパーの点検口の有無及び大きさ並びに検査口の有無","3(5)"]
[null,"　この書類は省略しても構いません。",{"$nulls":52},"第一号　（換気）3(6)","防火ダンパーの温度ヒューズ","3(6)"]
[null,"②　記入欄が不足する場合は、枠を拡大、行を追加して記入するか、別紙に必要な事項を記入して添えてください。",{"$nulls":52},"第一号　（換気）3(7)","壁及び床の防火区画貫通部の措置の状況","3(7)"]
[null,"③　「部位」欄の「番号」、「検査項目等」は、それぞれ別記第一号様式から第四号様式の番号、検査項目等に対応したものを記入し",{"$nulls":52},"第一号　（換気）3(8)","連動型防火ダンパーの煙感知器、熱煙複合式感知器及び熱感知器の位置","3(8)"]
[null,"　てください。",{"$nulls":52},"第一号　（換気）3(9)","連動型防火ダンパーの煙感知器、熱煙複合式感知器及び熱感知器との連動の状況","3(9)"]
[null,"④　「検査結果」欄は、検査の結果、要是正の指摘があった場合は「要是正」のチェックボックスに「レ」マークを入れ、それ以外の",{"$nulls":52},"第二号　（排煙）1(1)","排煙機の設置の状況","1(1)"]
[null,"　場合で特記すべき事項がある場合は「その他」のチェックボックスに「レ」マークを入れてください。",{"$nulls":52},"第二号　（排煙）1(2)","排煙風道との接続の状況","1(2)"]
[null,"⑤　写真は、当該部位の外観の状況が確認できるように撮影したものを貼付してください。",{"$nulls":52},"第二号　（排煙）1(3)","煙排出口の設置の状況","1(3)"]
[null,"別添様式　関係写真２（Ａ４）",{"$nulls":52},"第二号　（排煙）1(4)","煙排出口の周囲の状況","1(4)"]
[{"$nulls":54},"第二号　（排煙）1(5)","屋外に設置された煙排出口への雨水等の防止措置の状況","1(5)"]
[null,"部位",null,"番号",{"$nulls":4},"検査項目等",{"$nulls":13},"検査結果",{"$nulls":31},"第二号　（排煙）1(6)","排煙口の開放と連動起動の状況","1(6)"]
[{"$nulls":8},{"$f":"IF(OR(D51=\"\",G51=\"\"),\"\",IF(BB3=\"\",\"\",VLOOKUP(G51,INDIRECT(BB3),2,0)))","v":""},{"$nulls":16},"要是正",{"$nulls":3},"その他",{"$nulls":24},"第二号　（排煙）1(7)","作動の状況","1(7)"]
[null,"写真貼付",{"$nulls":15},"特記事項",{"$nulls":36},"第二号　（排煙）1(8)","電源を必要とする排煙機の予備電源による作動の状況","1(8)"]
[{"$nulls":54},"第二号　（排煙）1(9)","排煙機の排煙風量　　　　　　　　　　　　　　　　　　　　　　　　","1(9)"]
[{"$nulls":54},"第二号　（排煙）1(10)","中央管理室における制御及び作動状態の監視の状況","1(10)"]
[{"$nulls":54},"第二号　（排煙）1(11)","排煙口の位置","1(11)"]
[{"$nulls":54},"第二号　（排煙）1(12)","排煙口の周囲の状況","1(12)"]
[{"$nulls":54},"第二号　（排煙）1(13)","排煙口の取付けの状況","1(13)"]
[{"$nulls":54},"第二号　（排煙）1(14)","手動開放装置の設置の状況","1(14)"]
[{"$nulls":54},"第二号　（排煙）1(15)","手動開放装置の操作方法の表示の状況","1(15)"]
[{"$nulls":54},"第二号　（排煙）1(16)","手動開放装置による開放の状況","1(16)"]
[{"$nulls":54},"第二号　（排煙）1(17)","排煙口の開放の状況","1(17)"]
[{"$nulls":54},"第二号　（排煙）1(18)","排煙口の排煙風量　　　　　　　　　　　　　　　　　　　　","1(18)"]
[{"$nulls":54},"第二号　（排煙）1(19)","中央管理室における制御及び作動状態の監視の状況","1(19)"]
[{"$nulls":54},"第二号　（排煙）1(20)","煙感知器による作動の状況","1(20)"]
[{"$nulls":54},"第二号　（排煙）1(21)","排煙風道の劣化及び損傷の状況","1(21)"]
[{"$nulls":54},"第二号　（排煙）1(22)","排煙風道の取付けの状況","1(22)"]
[{"$nulls":54},"第二号　（排煙）1(23)","排煙風道の材質","1(23)"]
[null,"部位",null,"番号",{"$nulls":4},"検査項目等",{"$nulls":13},"検査結果",{"$nulls":31},"第二号　（排煙）1(24)","防煙壁の貫通措置の状況","1(24)"]
[{"$nulls":8},{"$f":"IF(OR(D69=\"\",G69=\"\"),\"\",IF(BB4=\"\",\"\",VLOOKUP(G69,INDIRECT(BB4),2,0)))","v":""},{"$nulls":16},"要是正",{"$nulls":3},"その他",{"$nulls":24},"第二号　（排煙）1(25)","排煙風道と可燃物、電線等との離隔距離及び断熱の状況","1(25)"]
[null,"写真貼付",{"$nulls":15},"特記事項",{"$nulls":36},"第二号　（排煙）1(26)","防火ダンパーの取付けの状況","1(26)"]
[{"$nulls":54},"第二号　（排煙）1(27)","防火ダンパーの作動の状況","1(27)"]
[{"$nulls":54},"第二号　（排煙）1(28)","防火ダンパーの劣化及び損傷の状況","1(28)"]
[{"$nulls":54},"第二号　（排煙）1(29)","防火ダンパーの点検口の有無及び大きさ並びに検査口の有無","1(29)"]
[{"$nulls":54},"第二号　（排煙）1(30)","防火ダンパーの温度ヒューズ","1(30)"]
[{"$nulls":54},"第二号　（排煙）1(31)","壁及び床の防火区画貫通部の措置の状況","1(31)"]
[{"$nulls":54},"第二号　（排煙）1(32)","排煙口及び給気口の大きさ及び位置","1(32)"]
[{"$nulls":54},"第二号　（排煙）1(33)","排煙口及び給気口の周囲の状況","1(33)"]
[{"$nulls":54},"第二号　（排煙）1(34)","排煙口及び給気口の取付けの状況","1(34)"]
[{"$nulls":54},"第二号　（排煙）1(35)","手動開放装置の設置の状況","1(35)"]
[{"$nulls":54},"第二号　（排煙）1(36)","手動開放装置の操作方法の表示の状況","1(36)"]
[{"$nulls":54},"第二号　（排煙）1(37)","排煙口の排煙風量","1(37)"]
[{"$nulls":54},"第二号　（排煙）1(38)","中央管理室における制御及び作動状態の監視の状況","1(38)"]
[{"$nulls":54},"第二号　（排煙）1(39)","煙感知器による作動の状況","1(39)"]
[{"$nulls":54},"第二号　（排煙）1(40)","給気風道の劣化及び損傷の状況","1(40)"]
[null," (注意）",{"$nulls":52},"第二号　（排煙）1(41)","給気風道の材質","1(41)"]
[null,"①　この書類は、検査の結果「要是正」かつ「既存不適格」ではない項目等について作成してください。また、「既存不適格」及び",{"$nulls":52},"第二号　（排煙）1(42)","給気風道の取付けの状況","1(42)"]
[null,"　「指摘なし」の項目等についても、特記すべき事項があれば、必要に応じて作成してください。「要是正」の項目等がない場合は、",{"$nulls":52},"第二号　（排煙）1(43)","防煙壁の貫通措置の状況","1(43)"]
[null,"　この書類は省略しても構いません。",{"$nulls":52},"第二号　（排煙）1(44)","給気送風機の設置の状況","1(44)"]
[null,"②　記入欄が不足する場合は、枠を拡大、行を追加して記入するか、別紙に必要な事項を記入して添えてください。",{"$nulls":52},"第二号　（排煙）1(45)","給気風道との接続の状況","1(45)"]
[null,"③　「部位」欄の「番号」、「検査項目等」は、それぞれ別記第一号様式から第四号様式の番号、検査項目等に対応したものを記入し",{"$nulls":52},"第二号　（排煙）1(46)","排煙口の開放と連動起動の状況","1(46)"]
[null,"　てください。",{"$nulls":52},"第二号　（排煙）1(47)","作動の状況","1(47)"]
[null,"④　「検査結果」欄は、検査の結果、要是正の指摘があった場合は「要是正」のチェックボックスに「レ」マークを入れ、それ以外の",{"$nulls":52},"第二号　（排煙）1(48)","電源を必要とする給気送風機の予備電源による作動の状況","1(48)"]
[null,"　場合で特記すべき事項がある場合は「その他」のチェックボックスに「レ」マークを入れてください。",{"$nulls":52},"第二号　（排煙）1(49)","中央管理室における制御及び作動状態の監視の状況","1(49)"]
[null,"⑤　写真は、当該部位の外観の状況が確認できるように撮影したものを貼付してください。",{"$nulls":52},"第二号　（排煙）1(50)","吸込口の設置位置","1(50)"]
[null,"別添様式　関係写真３（Ａ４）",{"$nulls":52},"第二号　（排煙）1(51)","吸込口の周囲の状況","1(51)"]
[{"$nulls":54},"第二号　（排煙）1(52)","屋外に設置された吸込口への雨水等の防止措置の状況","1(52)"]
[null,"部位",null,"番号",{"$nulls":4},"検査項目等",{"$nulls":13},"検査結果",{"$nulls":31},"第二号　（排煙）2(1)","排煙機、排煙口及び給気口の作動の状況","2(1)"]
[{"$nulls":8},{"$f":"IF(OR(D98=\"\",G98=\"\"),\"\",IF(BB5=\"\",\"\",VLOOKUP(G98,INDIRECT(BB5),2,0)))","v":""},{"$nulls":16},"要是正",{"$nulls":3},"その他",{"$nulls":24},"第二号　（排煙）2(2)","給気口の周囲の状況","2(2)"]
[null,"写真貼付",{"$nulls":15},"特記事項",{"$nulls":36},"第二号　（排煙）2(3)","排煙風道の劣化及び損傷の状況","2(3)"]
[{"$nulls":54},"第二号　（排煙）2(4)","排煙風道の取付けの状況","2(4)"]
[{"$nulls":54},"第二号　（排煙）2(5)","排煙風道の材質","2(5)"]
[{"$nulls":54},"第二号　（排煙）2(6)","給気口の周囲の状況","2(6)"]
[{"$nulls":54},"第二号　（排煙）2(7)","給気口の取付けの状況","2(7)"]
[{"$nulls":54},"第二号　（排煙）2(8)","給気口の手動開放装置の設置の状況","2(8)"]
[{"$nulls":54},"第二号　（排煙）2(9)","給気口の手動開放装置の操作方法の表示の状況","2(9)"]
[{"$nulls":54},"第二号　（排煙）2(10)","給気口の手動開放装置による開放の状況","2(10)"]
[{"$nulls":54},"第二号　（排煙）2(11)","給気口の開放の状況","2(11)"]
[{"$nulls":54},"第二号　（排煙）2(12)","給気風道の劣化及び損傷の状況","2(12)"]
[{"$nulls":54},"第二号　（排煙）2(13)","給気風道の取付けの状況","2(13)"]
[{"$nulls":54},"第二号　（排煙）2(14)","給気風道の材質","2(14)"]
[{"$nulls":54},"第二号　（排煙）2(15)","給気送風機の設置の状況","2(15)"]
[{"$nulls":54},"第二号　（排煙）2(16)","給気風道との接続の状況","2(16)"]
[{"$nulls":54},"第二号　（排煙）2(17)","給気口の開放と連動起動の状況","2(17)"]
[{"$nulls":54},"第二号　（排煙）2(18)","給気送風機の作動の状況","2(18)"]
[null,"部位",null,"番号",{"$nulls":4},"検査項目等",{"$nulls":13},"検査結果",{"$nulls":31},"第二号　（排煙）2(19)","電源を必要とする給気送風機の予備電源による作動の状況","2(19)"]
[{"$nulls":8},{"$f":"IF(OR(D116=\"\",G116=\"\"),\"\",IF(BB6=\"\",\"\",VLOOKUP(G116,INDIRECT(BB6),2,0)))","v":""},{"$nulls":16},"要是正",{"$nulls":3},"その他",{"$nulls":24},"第二号　（排煙）2(20)","中央管理室における制御及び作動状態の監視の状況","2(20)"]
[null,"写真貼付",{"$nulls":15},"特記事項",{"$nulls":36},"第二号　（排煙）2(21)","吸込口の設置位置","2(21)"]
[{"$nulls":54},"第二号　（排煙）2(22)","吸込口の周囲の状況","2(22)"]
[{"$nulls":54},"第二号　（排煙）2(23)","屋外に設置された吸込口への雨水等の防止措置の状況","2(23)"]
[{"$nulls":54},"第二号　（排煙）2(24)","遮煙開口部の排出風速","2(24)"]
[{"$nulls":54},"第二号　（排煙）2(25)","空気逃し口の大きさ及び位置","2(25)"]
[{"$nulls":54},"第二号　（排煙）2(26)","空気逃し口の周囲の状況","2(26)"]
[{"$nulls":54},"第二号　（排煙）2(27)","空気逃し口の取付けの状況","2(27)"]
[{"$nulls":54},"第二号　（排煙）2(28)","空気逃し口の作動の状況","2(28)"]
[{"$nulls":54},"第二号　（排煙）2(29)","圧力調整装置の大きさ及び位置","2(29)"]
[{"$nulls":54},"第二号　（排煙）2(30)","圧力調整装置の周囲の状況","2(30)"]
[{"$nulls":54},"第二号　（排煙）2(31)","圧力調整装置の取付けの状況","2(31)"]
[{"$nulls":54},"第二号　（排煙）2(32)","圧力調整装置の作動の状況","2(32)"]
[{"$nulls":54},"第二号　（排煙）3(1)","手動降下装置の作動の状況","3(1)"]
[{"$nulls":54},"第二号　（排煙）3(2)","手動降下装置による連動の状況","3(2)"]
[{"$nulls":54},"第二号　（排煙）3(3)","煙感知器による連動の状況","3(3)"]
[null," (注意）",{"$nulls":52},"第二号　（排煙）3(4)","可動防煙壁の材質","3(4)"]
[null,"①　この書類は、検査の結果「要是正」かつ「既存不適格」ではない項目等について作成してください。また、「既存不適格」及び",{"$nulls":52},"第二号　（排煙）3(5)","可動防煙壁の防煙区画","3(5)"]
[null,"　「指摘なし」の項目等についても、特記すべき事項があれば、必要に応じて作成してください。「要是正」の項目等がない場合は、",{"$nulls":52},"第二号　（排煙）3(6)","中央管理室における制御及び作動状態の監視の状況","3(6)"]
[null,"　この書類は省略しても構いません。",{"$nulls":52},"第二号　（排煙）4(1)","自家用発電機室の防火区画貫通措置の状況","4(1)"]
[null,"②　記入欄が不足する場合は、枠を拡大、行を追加して記入するか、別紙に必要な事項を記入して添えてください。",{"$nulls":52},"第二号　（排煙）4(2)","発電機の発電容量","4(2)"]
[null,"③　「部位」欄の「番号」、「検査項目等」は、それぞれ別記第一号様式から第四号様式の番号、検査項目等に対応したものを記入し",{"$nulls":52},"第二号　（排煙）4(3)","発電機及び原動機の状況","4(3)"]
[null,"　てください。",{"$nulls":52},"第二号　（排煙）4(4)","燃料油、潤滑油及び冷却水の状況","4(4)"]
[null,"④　「検査結果」欄は、検査の結果、要是正の指摘があった場合は「要是正」のチェックボックスに「レ」マークを入れ、それ以外の",{"$nulls":52},"第二号　（排煙）4(5)","始動用の空気槽の圧力","4(5)"]
[null,"　場合で特記すべき事項がある場合は「その他」のチェックボックスに「レ」マークを入れてください。",{"$nulls":52},"第二号　（排煙）4(6)","セル始動用蓄電池及び電気ケーブルの接続の状況","4(6)"]
[null,"⑤　写真は、当該部位の外観の状況が確認できるように撮影したものを貼付してください。",{"$nulls":52},"第二号　（排煙）4(7)","燃料及び冷却水の漏洩の状況","4(7)"]
[null,"別添様式　関係写真４（Ａ４）",{"$nulls":52},"第二号　（排煙）4(8)","計器類及びランプ類の指示及び点灯の状況","4(8)"]
[{"$nulls":54},"第二号　（排煙）4(9)","自家用発電装置の取付けの状況","4(9)"]
[null,"部位",null,"番号",{"$nulls":4},"検査項目等",{"$nulls":13},"検査結果",{"$nulls":31},"第二号　（排煙）4(10)","自家用発電機室の給排気の状況（屋内に設置されている場合に限る。）","4(10)"]
[{"$nulls":8},{"$f":"IF(OR(D145=\"\",G145=\"\"),\"\",IF(BB7=\"\",\"\",VLOOKUP(G145,INDIRECT(BB7),2,0)))","v":""},{"$nulls":16},"要是正",{"$nulls":3},"その他",{"$nulls":24},"第二号　（排煙）4(11)","接地線の接続の状況","4(11)"]
[null,"写真貼付",{"$nulls":15},"特記事項",{"$nulls":36},"第二号　（排煙）4(12)","絶縁抵抗","4(12)"]
[{"$nulls":54},"第二号　（排煙）4(13)","電源の切替えの状況","4(13)"]
[{"$nulls":54},"第二号　（排煙）4(14)","始動の状況","4(14)"]
[{"$nulls":54},"第二号　（排煙）4(15)","運転の状況","4(15)"]
[{"$nulls":54},"第二号　（排煙）4(16)","排気の状況","4(16)"]
[{"$nulls":54},"第二号　（排煙）4(17)","コンプレッサー、燃料ポンプ、冷却水ポンプ等の補機類の作動の状況","4(17)"]
[{"$nulls":54},"第二号　（排煙）4(18)","直結エンジンの設置の状況","4(18)"]
[{"$nulls":54},"第二号　（排煙）4(19)","燃料油、潤滑油及び冷却水の状況","4(19)"]
[{"$nulls":54},"第二号　（排煙）4(20)","セル始動用蓄電池及び電気ケーブルの接続の状況","4(20)"]
[{"$nulls":54},"第二号　（排煙）4(21)","計器類及びランプ類の指示及び点灯の状況","4(21)"]
[{"$nulls":54},"第二号　（排煙）4(22)","給気部及び排気管の取付けの状況","4(22)"]
[{"$nulls":54},"第二号　（排煙）4(23)","Ｖベルト","4(23)"]
[{"$nulls":54},"第二号　（排煙）4(24)","接地線の接続の状況","4(24)"]
[{"$nulls":54},"第二号　（排煙）4(25)","絶縁抵抗","4(25)"]
[{"$nulls":54},"第二号　（排煙）4(26)","始動及び停止の状況","4(26)"]
[{"$nulls":54},"第二号　（排煙）4(27)","運転の状況","4(27)"]
[null,"部位",null,"番号",{"$nulls":4},"検査項目等",{"$nulls":13},"検査結果",{"$nulls":31},"第三号　（非照）1(1)","使用電球、ランプ等 ","1(1)"]
[{"$nulls":8},{"$f":"IF(OR(D163=\"\",G163=\"\"),\"\",IF(BB8=\"\",\"\",VLOOKUP(G163,INDIRECT(BB8),2,0)))","v":""},{"$nulls":16},"要是正",{"$nulls":3},"その他",{"$nulls":24},"第三号　（非照）1(2)","照明器具の取付けの状況","1(2)"]
[null,"写真貼付",{"$nulls":15},"特記事項",{"$nulls":36},"第三号　（非照）2(1)","予備電源への切替え及び器具の点灯の状況","2(1)"]
[{"$nulls":54},"第三号　（非照）2(2)","予備電源の性能","2(2)"]
[{"$nulls":54},"第三号　（非照）2(3)","照度の状況","2(3)"]
[{"$nulls":54},"第三号　（非照）2(4)","非常用電源分岐回路の表示の状況","2(4)"]
[{"$nulls":54},"第三号　（非照）2(5)","配電管等の防火区画の貫通措置の状況（隠蔽部分及び埋設部分を除く。）","2(5)"]
[{"$nulls":54},"第三号　（非照）3(1)","照明器具の取付けの状況及び配線の接続の状況（隠蔽部分及び埋設部分を除く。）","3(1)"]
[{"$nulls":54},"第三号　（非照）3(2)","電気回路の接続の状況","3(2)"]
[{"$nulls":54},"第三号　（非照）3(3)","接続部（幹線分岐及びボックス内に限る。）の耐熱処理の状況","3(3)"]
[{"$nulls":54},"第三号　（非照）3(4)","予備電源から非常用の照明器具間の配線の耐熱処理の状況（隠蔽部分及び埋設部分を除く。）","3(4)"]
[{"$nulls":54},"第三号　（非照）3(5)","常用の電源から蓄電池設備への切替えの状況","3(5)"]
[{"$nulls":54},"第三号　（非照）3(6)","蓄電池設備と自家用発電装置併用の場合の切替えの状況","3(6)"]
[{"$nulls":54},"第三号　（非照）4(1)","充電ランプの点灯の状況","4(1)"]
[{"$nulls":54},"第三号　（非照）4(2)","誘導灯及び非常用照明兼用器具の専用回路の確保の状況","4(2)"]
[{"$nulls":54},"第三号　（非照）5(1)","蓄電池室の防火区画等の貫通措置の状況","5(1)"]
[{"$nulls":54},"第三号　（非照）5(2)","蓄電池室の換気の状況","5(2)"]
[null," (注意）",{"$nulls":52},"第三号　（非照）5(3)","蓄電池の設置の状況","5(3)"]
[null,"①　この書類は、検査の結果「要是正」かつ「既存不適格」ではない項目等について作成してください。また、「既存不適格」及び",{"$nulls":52},"第三号　（非照）5(4)","電圧 ","5(4)"]
[null,"　「指摘なし」の項目等についても、特記すべき事項があれば、必要に応じて作成してください。「要是正」の項目等がない場合は、",{"$nulls":52},"第三号　（非照）5(5)","電解液比重 ","5(5)"]
[null,"　この書類は省略しても構いません。",{"$nulls":52},"第三号　（非照）5(6)","電解液の温度","5(6)"]
[null,"②　記入欄が不足する場合は、枠を拡大、行を追加して記入するか、別紙に必要な事項を記入して添えてください。",{"$nulls":52},"第三号　（非照）5(7)","充電器室の防火区画等の貫通措置の状況","5(7)"]
[null,"③　「部位」欄の「番号」、「検査項目等」は、それぞれ別記第一号様式から第四号様式の番号、検査項目等に対応したものを記入し",{"$nulls":52},"第三号　（非照）5(8)","キュービクルの取付けの状況","5(8)"]
[null,"　てください。",{"$nulls":52},"第三号　（非照）6(1)","自家用発電機室の防火区画等の貫通措置の状況","6(1)"]
[null,"④　「検査結果」欄は、検査の結果、要是正の指摘があった場合は「要是正」のチェックボックスに「レ」マークを入れ、それ以外の",{"$nulls":52},"第三号　（非照）6(2)","発電機の発電容量","6(2)"]
[null,"　場合で特記すべき事項がある場合は「その他」のチェックボックスに「レ」マークを入れてください。",{"$nulls":52},"第三号　（非照）6(3)","発電機及び原動機の状況","6(3)"]
[null,"⑤　写真は、当該部位の外観の状況が確認できるように撮影したものを貼付してください。",{"$nulls":52},"第三号　（非照）6(4)","燃料油、潤滑油及び冷却水の状況","6(4)"]
[null,"別添様式　関係写真５（Ａ４）",{"$nulls":52},"第三号　（非照）6(5)","始動用の空気槽の圧力","6(5)"]
[{"$nulls":54},"第三号　（非照）6(6)","セル始動用蓄電池及び電気ケーブルの接続の状況","6(6)"]
[null,"部位",null,"番号",{"$nulls":4},"検査項目等",{"$nulls":13},"検査結果",{"$nulls":31},"第三号　（非照）6(7)","燃料及び冷却水の漏洩の状況","6(7)"]
[{"$nulls":8},{"$f":"IF(OR(D192=\"\",G192=\"\"),\"\",IF(BB9=\"\",\"\",VLOOKUP(G192,INDIRECT(BB9),2,0)))","v":""},{"$nulls":16},"要是正",{"$nulls":3},"その他",{"$nulls":24},"第三号　（非照）6(8)","計器類及びランプ類の指示及び点灯の状況","6(8)"]
[null,"写真貼付",{"$nulls":15},"特記事項",{"$nulls":36},"第三号　（非照）6(9)","自家用発電装置の取付けの状況","6(9)"]
[{"$nulls":54},"第三号　（非照）6(10)","自家用発電機室の給排気の状況（屋内に設置されている場合に限る。）","6(10)"]
[{"$nulls":54},"第三号　（非照）6(11)","接地線の接続の状況","6(11)"]
[{"$nulls":54},"第三号　（非照）6(12)","絶縁抵抗","6(12)"]
[{"$nulls":54},"第三号　（非照）6(13)","電源の切替えの状況","6(13)"]
[{"$nulls":54},"第三号　（非照）6(14)","始動の状況","6(14)"]
[{"$nulls":54},"第三号　（非照）6(15)","音、振動等の状況","6(15)"]
[{"$nulls":54},"第三号　（非照）6(16)","排気の状況","6(16)"]
[{"$nulls":54},"第三号　（非照）6(17)","コンプレッサー、燃料ポンプ、冷却水ポンプ等の補機類の作動の状況","6(17)"]
[{"$nulls":54},"第四号　（水）1(1)","配管の取付けの状況","1(1)"]
[{"$nulls":54},"第四号　（水）1(2)","配管の腐食及び漏水の状況","1(2)"]
[{"$nulls":54},"第四号　（水）1(3)","配管が貫通する箇所の損傷防止措置の状況","1(3)"]
[{"$nulls":54},"第四号　（水）1(4)","継手類の取付けの状況","1(4)"]
[{"$nulls":54},"第四号　（水）1(5)","保温措置の状況","1(5)"]
[{"$nulls":54},"第四号　（水）1(6)","防火区画等の貫通措置の状況","1(6)"]
[{"$nulls":54},"第四号　（水）1(7)","配管の支持金物","1(7)"]
[null,"部位",null,"番号",{"$nulls":4},"検査項目等",{"$nulls":13},"検査結果",{"$nulls":31},"第四号　（水）1(8)","飲料水系統配管の汚染防止措置の状況","1(8)"]
[{"$nulls":8},{"$f":"IF(OR(D210=\"\",G210=\"\"),\"\",IF(BB10=\"\",\"\",VLOOKUP(G210,INDIRECT(BB10),2,0)))","v":""},{"$nulls":16},"要是正",{"$nulls":3},"その他",{"$nulls":24},"第四号　（水）1(9)","止水弁の設置の状況","1(9)"]
[null,"写真貼付",{"$nulls":15},"特記事項",{"$nulls":36},"第四号　（水）1(10)","ウォーターハンマーの防止措置の状況","1(10)"]
[{"$nulls":54},"第四号　（水）1(11)","給湯管及び膨張管の設置の状況","1(11)"]
[{"$nulls":54},"第四号　（水）2(1)","給水タンク等の設置の状況","2(1)"]
[{"$nulls":54},"第四号　（水）2(2)","給水タンク等の通気管、水抜き管、オーバーフロー管等の設置の状況","2(2)"]
[{"$nulls":54},"第四号　（水）2(3)","給水タンク等の腐食及び漏水の状況","2(3)"]
[{"$nulls":54},"第四号　（水）2(4)","給水用圧力タンクの安全装置の状況","2(4)"]
[{"$nulls":54},"第四号　（水）2(5)","給水ポンプの運転の状況","2(5)"]
[{"$nulls":54},"第四号　（水）2(6)","給水タンク及びポンプ等の取付けの状況","2(6)"]
[{"$nulls":54},"第四号　（水）2(7)","給水タンク等の内部の状況","2(7)"]
[{"$nulls":54},"第四号　（水）2(8)","給湯設備（ガス湯沸器を除く。）の取付けの状況","2(8)"]
[{"$nulls":54},"第四号　（水）2(9)","ガス湯沸器の取付けの状況","2(9)"]
[{"$nulls":54},"第四号　（水）2(10)","給湯設備の腐食及び漏水の状況","2(10)"]
[{"$nulls":54},"第四号　（水）2(11)","ガス湯沸器の煙突及び給排気部の構造","2(11)"]
[{"$nulls":54},"第四号　（水）3(1)","排水槽のマンホールの大きさ","3(1)"]
[{"$nulls":54},"第四号　（水）3(2)","排水槽の通気の状況","3(2)"]
[null," (注意）",{"$nulls":52},"第四号　（水）3(3)","排水漏れの状況","3(3)"]
[null,"①　この書類は、検査の結果「要是正」かつ「既存不適格」ではない項目等について作成してください。また、「既存不適格」及び",{"$nulls":52},"第四号　（水）3(4)","排水ポンプの設置の状況","3(4)"]
[null,"　「指摘なし」の項目等についても、特記すべき事項があれば、必要に応じて作成してください。「要是正」の項目等がない場合は、",{"$nulls":52},"第四号　（水）3(5)","排水ポンプの運転の状況","3(5)"]
[null,"　この書類は省略しても構いません。",{"$nulls":52},"第四号　（水）3(6)","地下街の非常用の排水設備の処理能力及び予備電源の状況","3(6)"]
[null,"②　記入欄が不足する場合は、枠を拡大、行を追加して記入するか、別紙に必要な事項を記入して添えてください。",{"$nulls":52},"第四号　（水）3(7)","雑用水の用途","3(7)"]
[null,"③　「部位」欄の「番号」、「検査項目等」は、それぞれ別記第一号様式から第四号様式の番号、検査項目等に対応したものを記入し",{"$nulls":52},"第四号　（水）3(8)","雑用水給水栓の表示の状況","3(8)"]
[null,"　てください。",{"$nulls":52},"第四号　（水）3(9)","配管の標識等","3(9)"]
[null,"④　「検査結果」欄は、検査の結果、要是正の指摘があった場合は「要是正」のチェックボックスに「レ」マークを入れ、それ以外の",{"$nulls":52},"第四号　（水）3(10)","雑用水タンク、ポンプ等の設置の状況","3(10)"]
[null,"　場合で特記すべき事項がある場合は「その他」のチェックボックスに「レ」マークを入れてください。",{"$nulls":52},"第四号　（水）3(11)","消毒装置","3(11)"]
[null,"⑤　写真は、当該部位の外観の状況が確認できるように撮影したものを貼付してください。",{"$nulls":52},"第四号　（水）3(12)","衛生器具の取付けの状況","3(12)"]
[{"$nulls":54},"第四号　（水）3(13)","排水トラップの取付けの状況","3(13)"]
[{"$nulls":54},"第四号　（水）3(14)","阻集器の構造、機能及び設置の状況","3(14)"]
[{"$nulls":54},"第四号　（水）3(15)","公共下水道等への接続の状況","3(15)"]
[{"$nulls":54},"第四号　（水）3(16)","雨水排水立て管の接続の状況","3(16)"]
[{"$nulls":54},"第四号　（水）3(17)","排水の状況","3(17)"]
[{"$nulls":54},"第四号　（水）3(18)","掃除口の取付けの状況","3(18)"]
[{"$nulls":54},"第四号　（水）3(19)","雨水系統との接続の状況","3(19)"]
[{"$nulls":54},"第四号　（水）3(20)","間接排水の状況","3(20)"]
[{"$nulls":54},"第四号　（水）3(21)","通気開口部の状況","3(21)"]
[{"$nulls":54},"第四号　（水）3(22)","通気管の状況","3(22)"]
[{"$nulls":54},{"$f":"IF(BD246=\"\",\"\",\"第四号　（水）4(4)\")","v":""},{"$f":"IF(水検査結果表!D87=\"\",\"\",水検査結果表!D87)","v":""}]
[{"$nulls":54},{"$f":"IF(BD247=\"\",\"\",\"第四号　（水）4(5)\")","v":""},{"$f":"IF(水検査結果表!D88=\"\",\"\",水検査結果表!D88)","v":""}]
[{"$nulls":54},{"$f":"IF(BD248=\"\",\"\",\"第四号　（水）4(6)\")","v":""},{"$f":"IF(水検査結果表!D89=\"\",\"\",水検査結果表!D89)","v":""}]
[{"$nulls":54},{"$f":"IF(BD249=\"\",\"\",\"第四号　（水）4(7)\")","v":""},{"$f":"IF(水検査結果表!D90=\"\",\"\",水検査結果表!D90)","v":""}]
[{"$nulls":54},{"$f":"IF(BD250=\"\",\"\",\"第四号　（水）4(8)\")","v":""},{"$f":"IF(水検査結果表!D91=\"\",\"\",水検査結果表!D91)","v":""}]
[{"$nulls":54},{"$f":"IF(BD251=\"\",\"\",\"第四号　（水）4(9)\")","v":""},{"$f":"IF(水検査結果表!D92=\"\",\"\",水検査結果表!D92)","v":""}]
[{"$nulls":54},{"$f":"IF(BD252=\"\",\"\",\"第四号　（水）4(10)\")","v":""},{"$f":"IF(水検査結果表!D93=\"\",\"\",水検査結果表!D93)","v":""}]
[{"$nulls":54},"*****","*****"]

{"sheet":"実施状況表","index":14,"n_rows":47,"n_cols":64,"rows_kept":47,"merged":[[3,0,4,1],[3,2,4,16],[3,17,3,33],[3,41,3,42],[3,44,3,45],[3,58,3,59],[3,61,3,62],[4,21,4,22],[4,23,4,24],[4,26,4,27],[4,38,4,39],[4,40,4,41],[4,43,4,44],[4,55,4,56],[4,57,4,58],[4,60,4,61],[4,74,4,75],[4,77,4,78],[5,0,18,1],[5,2,11,3],[6,4,6,11],[7,4,7,5],[7,6,7,16],[7,22,7,26],[7,39,7,43],[7,45,7,49],[7,56,7,61],[9,4,9,15],[9,17,11,33],[9,34,11,50],[9,51,11,67],[10,6,10,15],[12,2,18,3],[12,4,12,5],[13,4,13,5],[14,4,14,5],[14,6,14,16],[14,22,14,26],[14,39,14,43],[14,45,14,49],[14,56,14,61],[15,4,15,5],[15,6,15,16],[16,4,16,5],[16,6,16,16],[16,17,18,33],[16,34,18,50],[16,51,18,67],[17,4,17,5],[17,6,17,16],[18,4,18,5],[18,6,18,16],[19,0,39,0],[19,1,25,1],[19,2,39,3],[20,4,20,13],[21,22,21,26],[21,39,21,43],[21,45,21,49],[21,56,21,61],[22,4,22,15],[23,6,23,15],[23,17,25,33],[23,34,25,50],[23,51,25,67],[26,1,32,1],[27,4,27,15],[28,22,28,26],[28,39,28,43],[28,45,28,49],[28,56,28,61],[29,4,29,15],[30,6,30,15],[30,17,32,33],[30,34,32,50],[30,51,32,67],[33,1,39,1],[35,4,36,5],[35,6,36,16],[35,22,35,26],[35,39,35,43],[35,45,35,49],[35,56,35,61],[37,6,37,15],[37,17,39,33],[37,34,39,50],[37,51,39,67],[40,0,45,1],[40,2,45,3],[42,4,43,5],[42,6,43,16],[42,22,42,26],[42,39,42,43],[42,45,42,49],[42,56,42,61],[44,17,45,33],[44,34,45,50],[44,51,45,67],[46,7,46,8],[46,9,46,10],[46,18,46,19],[46,20,46,21],[46,34,46,51],[46,60,46,67]]}
[]
["３年までの間に１回行う検査項目の年度別実施状況表",{"$nulls":25},"※　１年目から３年目までの検査（実施･予定）箇所で該当する枠内のチェックボックスに「レ」マークを入れてください。"]
[]
["種類",null,"各建築設備検査結果表における\n検査項目番号及び検査項目",{"$nulls":14},"１年目検査実施箇所",{"$nulls":22},"２年目検査（",null,null,"・",null,null,"）箇所",{"$nulls":10},"３年目検査（",null,null,"・",null,null,"）箇所"]
[{"$nulls":20},"（","令和",{"$nulls":3},"年",null,null,"月実施）",{"$nulls":8},"（","令和",{"$nulls":3},"年",null,null,"月実施）",{"$nulls":8},"（","令和",{"$nulls":3},"年",null,null,"月実施）"]
["換気設備",null,"評価表（別表１）",{"$nulls":11},"該当無",{"$nulls":3},"全数を実施",{"$nulls":16},"全数を実施",{"$nulls":16},"全数を実施"]
[{"$nulls":15},"　",null,null,"実施せず",{"$nulls":16},"実施せず",{"$nulls":16},"実施せず"]
[{"$nulls":4},"1(9)",null,"各居室の換気量",{"$nulls":11},"一部実施 （",{"$nulls":3},"次年に繰越し",{"$nulls":4},"）",{"$nulls":7},"一部実施 （",{"$nulls":8},"・",{"$nulls":5},"）",null,"一部実施 （",{"$nulls":3},"当年で全数実施",{"$nulls":5},"）"]
[{"$nulls":17},"＜一部実施は実施箇所を下欄に記入＞",{"$nulls":16},"＜一部実施は実施・予定箇所を下欄に記入＞",{"$nulls":16},"＜一部実施は実施・予定箇所を下欄に記入＞"]
[]
[{"$nulls":6},"及び作動状態の監視の状況"]
[]
[null,null,"室内環境測定記録",null,"1(16)",null,"各居室の温度",{"$nulls":7},"該当無",{"$nulls":3},"全数を実施",{"$nulls":16},"全数を実施",{"$nulls":16},"全数を実施"]
[{"$nulls":4},"1(17)",null,"各居室の相対湿度",{"$nulls":11},"実施せず",{"$nulls":16},"実施せず",{"$nulls":16},"実施せず"]
[{"$nulls":4},"1(18)",null,"各居室の浮遊粉じん量",{"$nulls":11},"一部実施 （",{"$nulls":3},"次年に繰越し",{"$nulls":4},"）",{"$nulls":7},"一部実施 （",{"$nulls":8},"・",{"$nulls":5},"）",null,"一部実施 （",{"$nulls":3},"当年で全数実施",{"$nulls":5},"）"]
[{"$nulls":4},"1(19)",null,"各居室の一酸化炭素含有率",{"$nulls":10},"＜一部実施は実施箇所を下欄に記入＞",{"$nulls":16},"＜一部実施は実施・予定箇所を下欄に記入＞",{"$nulls":16},"＜一部実施は実施・予定箇所を下欄に記入＞"]
[{"$nulls":4},"1(20)",null,"各居室の二酸化炭素含有率"]
[{"$nulls":4},"1(21)",null,"各居室の気流"]
[]
["排煙設備","機械排煙","風量測定記録表（別表３）",{"$nulls":11},"該当無",{"$nulls":3},"全数を実施",{"$nulls":16},"全数を実施",{"$nulls":16},"全数を実施"]
[{"$nulls":18},"実施せず",{"$nulls":16},"実施せず",{"$nulls":16},"実施せず"]
[{"$nulls":18},"一部実施 （",{"$nulls":3},"次年に繰越し",{"$nulls":4},"）",{"$nulls":7},"一部実施 （",{"$nulls":8},"・",{"$nulls":5},"）",null,"一部実施 （",{"$nulls":3},"当年で全数実施",{"$nulls":5},"）"]
[{"$nulls":17},"＜一部実施は実施箇所を下欄に記入＞",{"$nulls":16},"＜一部実施は実施・予定箇所を下欄に記入＞",{"$nulls":16},"＜一部実施は実施・予定箇所を下欄に記入＞"]
[{"$nulls":6},"及び作動状態の監視の状況"]
[]
[]
[null,"特殊な構造の排煙",{"$nulls":12},"該当無",{"$nulls":3},"全数を実施",{"$nulls":16},"全数を実施",{"$nulls":16},"全数を実施"]
[{"$nulls":18},"実施せず",{"$nulls":16},"実施せず",{"$nulls":16},"実施せず"]
[{"$nulls":18},"一部実施 （",{"$nulls":3},"次年に繰越し",{"$nulls":4},"）",{"$nulls":7},"一部実施 （",{"$nulls":8},"・",{"$nulls":5},"）",null,"一部実施 （",{"$nulls":3},"当年で全数実施",{"$nulls":5},"）"]
[{"$nulls":17},"＜一部実施は実施箇所を下欄に記入＞",{"$nulls":16},"＜一部実施は実施・予定箇所を下欄に記入＞",{"$nulls":16},"＜一部実施は実施・予定箇所を下欄に記入＞"]
[{"$nulls":6},"及び作動状態の監視の状況"]
[]
[]
[null,"加圧防排煙",{"$nulls":12},"該当無",{"$nulls":3},"全数を実施",{"$nulls":16},"全数を実施",{"$nulls":16},"全数を実施"]
[{"$nulls":18},"実施せず",{"$nulls":16},"実施せず",{"$nulls":16},"実施せず"]
[{"$nulls":4},"2(24)",null,"遮煙開口部の排出風速",{"$nulls":11},"一部実施 （",{"$nulls":3},"次年に繰越し",{"$nulls":4},"）",{"$nulls":7},"一部実施 （",{"$nulls":8},"・",{"$nulls":5},"）",null,"一部実施 （",{"$nulls":3},"当年で全数実施",{"$nulls":5},"）"]
[{"$nulls":17},"＜一部実施は実施箇所を下欄に記入＞",{"$nulls":16},"＜一部実施は実施・予定箇所を下欄に記入＞",{"$nulls":16},"＜一部実施は実施・予定箇所を下欄に記入＞"]
[]
[]
[]
["給水設備及び\n排水設備",null,"再利用・中水",{"$nulls":11},"該当無",{"$nulls":3},"全数を実施",{"$nulls":16},"全数を実施",{"$nulls":16},"全数を実施"]
[{"$nulls":18},"実施せず",{"$nulls":16},"実施せず",{"$nulls":16},"実施せず"]
[{"$nulls":4},"3(7)",null,"雑用水の用途",{"$nulls":11},"一部実施 （",{"$nulls":3},"次年に繰越し",{"$nulls":4},"）",{"$nulls":7},"一部実施 （",{"$nulls":8},"・",{"$nulls":5},"）",null,"一部実施 （",{"$nulls":3},"当年で全数実施",{"$nulls":5},"）"]
[{"$nulls":17},"＜一部実施は実施箇所を下欄に記入＞",{"$nulls":16},"＜一部実施は実施・予定箇所を下欄に記入＞",{"$nulls":16},"＜一部実施は実施・予定箇所を下欄に記入＞"]
[]
[]
[{"$nulls":6},"初年度（","令和",{"$nulls":3},"年度）　～ ",{"$nulls":5},"終年度（","令和",{"$nulls":3},"年度）",{"$nulls":10},"建築物名称",{"$f":"IF(報告書!W451=\"\",\"\",IF(報告書!N55=\"\",\"\",報告書!N55))","v":""},{"$nulls":24},"センター受付番号",{"$f":"IF(報告書!W451=\"\",\"\",IF(報告書!AL2=\"\",\"\",報告書!AL2))","v":""}]

{"sheet":"報告概要書","index":15,"n_rows":563,"n_cols":65,"rows_kept":563,"merged":[[1,34,1,45],[5,1,5,46],[6,1,6,46],[8,1,8,46],[13,2,13,13],[15,35,15,36],[15,38,15,39],[15,41,15,42],[17,30,17,42],[18,30,18,42],[21,30,21,42],[30,13,30,45],[31,13,31,45],[32,13,32,21],[33,13,33,45],[41,13,41,45],[42,13,42,45],[43,13,43,21],[44,13,44,45],[52,13,52,45],[53,13,53,45],[54,13,54,45],[55,13,55,45],[63,13,63,45],[64,13,64,45],[65,13,65,45],[66,13,66,45],[67,13,67,45],[68,18,68,19],[68,21,68,22],[69,13,69,45],[70,13,70,45],[71,13,71,45],[72,13,72,45],[73,13,73,45],[79,13,79,45],[80,13,80,45],[81,13,81,45],[82,13,82,45],[83,13,83,45],[84,13,84,45],[85,13,85,45],[86,13,86,45],[87,13,87,45],[88,13,88,45],[89,24,89,25],[89,27,89,28],[90,20,90,43],[95,1,95,46],[100,15,100,16],[100,23,100,24],[101,12,101,19],[102,12,102,19],[102,23,102,30],[111,16,111,17],[111,19,111,20],[111,21,111,22],[111,24,111,25],[111,27,111,28],[111,32,111,39],[112,32,112,42],[113,16,113,17],[113,19,113,20],[113,21,113,22],[113,24,113,25],[113,27,113,28],[113,32,113,39],[114,32,114,42],[121,17,121,18],[121,20,121,21],[121,23,121,24],[122,15,122,16],[122,17,122,18],[122,20,122,21],[122,23,122,24],[131,10,131,11],[131,23,131,28],[131,29,131,32],[131,33,131,39],[132,33,132,39],[133,33,133,39],[134,13,134,45],[135,13,135,45],[136,13,136,45],[137,10,137,11],[137,23,137,26],[137,27,137,32],[137,33,137,39],[138,13,138,21],[139,13,139,45],[140,13,140,29],[142,10,142,11],[142,23,142,28],[142,29,142,32],[142,33,142,39],[143,33,143,39],[144,33,144,39],[145,13,145,45],[146,13,146,45],[147,13,147,45],[148,10,148,11],[148,23,148,26],[148,27,148,32],[148,33,148,39],[149,13,149,21],[150,13,150,45],[151,13,151,29],[153,10,153,11],[153,23,153,28],[153,33,153,39],[154,33,154,39],[155,33,155,39],[156,13,156,45],[157,13,157,45],[158,13,158,45],[159,10,159,11],[159,23,159,26],[159,33,159,39],[160,13,160,21],[161,13,161,45],[162,13,162,29],[169,19,169,20],[169,21,169,22],[169,23,169,24],[169,36,169,37],[169,38,169,39],[169,40,169,41],[170,26,170,27],[170,28,170,29],[170,30,170,31],[171,16,171,17],[171,18,171,19],[171,20,171,21],[172,19,172,20],[172,21,172,22],[172,23,172,24],[172,36,172,37],[172,38,172,39],[172,40,172,41],[173,16,173,17],[173,18,173,19],[173,20,173,21],[174,19,174,20],[174,21,174,22],[174,23,174,24],[174,36,174,37],[174,38,174,39],[174,40,174,41],[175,26,175,27],[175,28,175,29],[175,30,175,31],[176,16,176,17],[176,18,176,19],[176,20,176,21],[178,39,178,44],[186,13,186,45],[187,13,187,45],[188,13,188,45],[189,13,189,45],[190,13,190,45],[191,18,191,19],[191,21,191,22],[213,10,213,11],[213,23,213,28],[213,29,213,32],[213,33,213,39],[214,33,214,39],[215,33,215,39],[216,13,216,45],[217,13,217,45],[218,13,218,45],[219,10,219,11],[219,23,219,26],[219,27,219,32],[219,33,219,39],[220,13,220,21],[221,13,221,45],[222,13,222,29],[224,10,224,11],[224,23,224,28],[224,29,224,32],[224,33,224,39],[225,33,225,39],[226,33,226,39],[227,13,227,45],[228,13,228,45],[229,13,229,45],[230,10,230,11],[230,23,230,26],[230,27,230,32],[230,33,230,39],[231,13,231,21],[232,13,232,45],[233,13,233,29],[235,10,235,11],[235,23,235,28],[235,33,235,39],[236,33,236,39],[237,33,237,39],[238,13,238,45],[239,13,239,45],[240,13,240,45],[241,10,241,11],[241,23,241,26],[241,33,241,39],[242,13,242,21],[243,13,243,45],[244,13,244,29],[249,28,249,29],[249,42,249,43],[250,26,250,43],[252,15,252,16],[252,26,252,27],[252,37,252,38],[254,15,254,16],[254,26,254,27],[254,37,254,38],[256,15,256,16],[256,26,256,27],[256,37,256,38],[257,15,257,16],[257,26,257,27],[258,37,258,43],[263,13,263,45],[264,13,264,45],[265,13,265,45],[266,13,266,45],[267,13,267,45],[268,18,268,19],[268,21,268,22],[277,24,277,25],[277,27,277,28],[290,10,290,11],[290,23,290,28],[290,29,290,32],[290,33,290,39],[291,33,291,39],[292,33,292,39],[293,13,293,45],[294,13,294,45],[295,13,295,45],[296,10,296,11],[296,23,296,26],[296,27,296,32],[296,33,296,39],[297,13,297,21],[298,13,298,45],[299,13,299,29],[301,10,301,11],[301,23,301,28],[301,29,301,32],[301,33,301,39],[302,33,302,39],[303,33,303,39],[304,13,304,45],[305,13,305,45],[306,13,306,45],[307,10,307,11],[307,23,307,26],[307,27,307,32],[307,33,307,39],[308,13,308,21],[309,13,309,45],[310,13,310,29],[312,10,312,11],[312,23,312,28],[312,33,312,39],[313,33,313,39],[314,33,314,39],[315,13,315,45],[316,13,316,45],[317,13,317,45],[318,10,318,11],[318,23,318,26],[318,33,318,39],[319,13,319,21],[320,13,320,45],[321,13,321,29],[328,15,328,16],[328,25,328,26],[328,37,328,38],[329,15,329,16],[332,22,332,23],[332,28,332,29],[332,34,332,35],[333,22,333,23],[333,28,333,29],[333,34,333,35],[334,22,334,23],[334,28,334,29],[334,34,334,35],[335,31,335,32],[335,37,335,38],[335,43,335,44],[336,15,336,21],[344,13,344,45],[345,13,345,45],[346,13,346,45],[347,13,347,45],[348,13,348,45],[349,18,349,19],[349,21,349,22],[358,24,358,25],[358,27,358,28],[371,10,371,11],[371,23,371,28],[371,29,371,32],[371,33,371,39],[372,33,372,39],[373,33,373,39],[374,13,374,45],[375,13,375,45],[376,13,376,45],[377,10,377,11],[377,23,377,26],[377,27,377,32],[377,33,377,39],[378,13,378,21],[379,13,379,45],[380,13,380,29],[382,10,382,11],[382,23,382,28],[382,29,382,32],[382,33,382,39],[383,33,383,39],[384,33,384,39],[385,13,385,45],[386,13,386,45],[387,13,387,45],[388,10,388,11],[388,23,388,26],[388,27,388,32],[388,33,388,39],[389,13,389,21],[390,13,390,45],[391,13,391,29],[393,10,393,11],[393,23,393,28],[393,33,393,39],[394,33,394,39],[395,33,395,39],[396,13,396,45],[397,13,397,45],[398,13,398,45],[399,10,399,11],[399,23,399,26],[399,33,399,39],[400,13,400,21],[401,13,401,45],[402,13,402,29],[409,21,409,22],[409,24,409,25],[409,37,409,38],[409,40,409,41],[410,19,410,33],[412,31,412,45],[416,16,416,35],[424,13,424,45],[425,13,425,45],[426,13,426,45],[427,13,427,45],[428,13,428,45],[429,18,429,19],[429,21,429,22],[438,24,438,25],[438,27,438,28],[450,2,450,20],[450,25,450,26],[450,28,450,29],[450,31,450,33],[451,2,451,45],[452,2,452,45],[453,2,453,45],[454,2,454,45],[455,2,455,45],[456,2,456,45],[457,2,457,45],[458,2,458,45],[459,2,459,45],[460,2,460,45],[461,2,461,45],[462,2,462,45],[463,2,463,45],[464,2,464,45],[465,2,465,45],[466,2,466,45],[467,2,467,45],[468,2,468,45],[469,2,469,45],[480,1,480,6],[480,7,480,16],[480,17,480,26],[480,27,480,32],[480,33,480,45],[481,1,481,6],[481,7,481,16],[481,17,481,26],[481,27,481,32],[481,33,481,45],[482,1,482,6],[482,17,482,26],[482,27,482,32],[482,33,482,45],[483,1,483,6],[483,17,483,26],[483,27,483,32],[483,33,483,45],[484,1,484,6],[484,17,484,26],[484,27,484,32],[484,33,484,45],[485,1,485,6],[485,17,485,26],[485,27,485,32],[485,33,485,45],[486,1,486,6],[486,17,486,26],[486,27,486,32],[486,33,486,45],[487,1,487,6],[487,17,487,26],[487,27,487,32],[487,33,487,45],[488,1,488,6],[488,17,488,26],[488,27,488,32],[488,33,488,45],[489,1,489,6],[489,17,489,26],[489,27,489,32],[489,33,489,45],[490,1,490,6],[490,17,490,26],[490,27,490,32],[490,33,490,45],[491,1,491,6],[491,17,491,26],[491,27,491,32],[491,33,491,45],[492,1,492,6],[492,17,492,26],[492,27,492,32],[492,33,492,45],[493,1,493,6],[493,17,493,26],[493,27,493,32],[493,33,493,45],[494,1,494,6],[494,17,494,26],[494,27,494,32],[494,33,494,45],[495,1,495,6],[495,17,495,26],[495,27,495,32],[495,33,495,45],[496,1,496,6],[496,17,496,26],[496,27,496,32],[496,33,496,45],[497,1,497,6],[497,17,497,26],[497,27,497,32],[497,33,497,45],[498,1,498,6],[498,17,498,26],[498,27,498,32],[498,33,498,45],[499,1,499,6],[499,17,499,26],[499,27,499,32],[499,33,499,45],[500,1,500,6],[500,17,500,26],[500,27,500,32],[500,33,500,45],[501,1,501,6],[501,17,501,26],[501,27,501,32],[501,33,501,45],[502,1,502,6],[502,17,502,26],[502,27,502,32],[502,33,502,45],[503,1,503,6],[503,17,503,26],[503,27,503,32],[503,33,503,45],[504,1,504,6],[504,17,504,26],[504,27,504,32],[504,33,504,45],[505,1,505,6],[505,17,505,26],[505,27,505,32],[505,33,505,45],[506,1,506,6],[506,17,506,26],[506,27,506,32],[506,33,506,45],[507,1,507,6],[507,17,507,26],[507,27,507,32],[507,33,507,45],[508,1,508,6],[508,17,508,26],[508,27,508,32],[508,33,508,45],[509,1,509,6],[509,17,509,26],[509,27,509,32],[509,33,509,45],[510,1,510,6],[510,17,510,26],[510,27,510,32],[510,33,510,45],[511,1,511,6],[511,17,511,26],[511,27,511,32],[511,33,511,45],[512,1,512,6],[512,17,512,26],[512,27,512,32],[512,33,512,45],[513,1,513,6],[513,17,513,26],[513,27,513,32],[513,33,513,45],[514,1,514,6],[514,17,514,26],[514,27,514,32],[514,33,514,45],[515,1,515,6],[515,17,515,26],[515,27,515,32],[515,33,515,45],[516,1,516,6],[516,17,516,26],[516,27,516,32],[516,33,516,45],[517,1,517,6],[517,17,517,26],[517,27,517,32],[517,33,517,45],[518,1,518,6],[518,17,518,26],[518,27,518,32],[518,33,518,45],[519,1,519,6],[519,17,519,26],[519,27,519,32],[519,33,519,45],[520,1,520,6],[520,17,520,26],[520,27,520,32],[520,33,520,45],[521,1,521,6],[521,17,521,26],[521,27,521,32],[521,33,521,45],[522,0,522,46]]}
[{"$nulls":28},"建築物基本番号",{"$f":"IF(報告書!AD1=\"\",\"\",報告書!AD1)","v":""},"－",{"$f":"IF(報告書!AF1=\"\",\"\",報告書!AF1)","v":""},{"$f":"IF(報告書!AG1=\"\",\"\",報告書!AG1)","v":""},"－",{"$f":"IF(報告書!AI1=\"\",\"\",報告書!AI1)","v":""},{"$f":"IF(報告書!AJ1=\"\",\"\",報告書!AJ1)","v":""},"－",{"$f":"IF(報告書!AL1=\"\",\"\",報告書!AL1)","v":""},{"$f":"IF(報告書!AM1=\"\",\"\",報告書!AM1)","v":""},"－",{"$f":"IF(報告書!AO1=\"\",\"\",報告書!AO1)","v":""},{"$f":"IF(報告書!AP1=\"\",\"\",報告書!AP1)","v":""},{"$f":"IF(報告書!AQ1=\"\",\"\",報告書!AQ1)","v":""},{"$f":"IF(報告書!AR1=\"\",\"\",報告書!AR1)","v":""},"－",{"$f":"IF(報告書!AT1=\"\",\"\",報告書!AT1)","v":""}]
[{"$nulls":33},"行政庁",{"$f":"IF(報告書!C14=\"\",\"\",LEFT(AY2,LEN(AY2)-2))","v":""},{"$nulls":15},{"$f":"報告書!C14","v":0}]
[]
[null,"第三十六号の七様式（第六条、第六条の二の二、第六条の三、第十一条の三関係）（Ａ４）"]
[]
[null,"定期検査報告概要書"]
[null,"（建築設備（昇降機を除く。））"]
[]
[null,"（第一面）"]
[]
[null,"　建築基準法第12条第３項の規定により、定期検査の結果を報告します。この報告書に記載の事項は"]
[null,"事実に相違ありません。"]
[]
[{"$nulls":14},"様"]
[]
[{"$nulls":34},"平成",null,null,"年",null,null,"月",null,null,"日"]
[]
[]
[{"$nulls":24},"報告者氏名",{"$nulls":18},"印"]
[]
[]
[{"$nulls":24},"検査者氏名",{"$nulls":18},"印"]
{"$rows_empty":7}
[null,"【1．所有者】"]
[null,null,"【イ．氏名のフリガナ】",{"$nulls":10},{"$f":"IF(報告書!N31=\"\",\"\",報告書!N31)","v":""},{"$f":"IF(報告書!O31=\"\",\"\",報告書!O31)","v":""},{"$f":"IF(報告書!P31=\"\",\"\",報告書!P31)","v":""},{"$f":"IF(報告書!Q31=\"\",\"\",報告書!Q31)","v":""},{"$f":"IF(報告書!R31=\"\",\"\",報告書!R31)","v":""},{"$f":"IF(報告書!S31=\"\",\"\",報告書!S31)","v":""},{"$f":"IF(報告書!T31=\"\",\"\",報告書!T31)","v":""},{"$f":"IF(報告書!U31=\"\",\"\",報告書!U31)","v":""},{"$f":"IF(報告書!V31=\"\",\"\",報告書!V31)","v":""},{"$f":"IF(報告書!W31=\"\",\"\",報告書!W31)","v":""},{"$f":"IF(報告書!X31=\"\",\"\",報告書!X31)","v":""},{"$f":"IF(報告書!Y31=\"\",\"\",報告書!Y31)","v":""},{"$f":"IF(報告書!Z31=\"\",\"\",報告書!Z31)","v":""},{"$f":"IF(報告書!AA31=\"\",\"\",報告書!AA31)","v":""},{"$f":"IF(報告書!AB31=\"\",\"\",報告書!AB31)","v":""},{"$f":"IF(報告書!AC31=\"\",\"\",報告書!AC31)","v":""},{"$f":"IF(報告書!AD31=\"\",\"\",報告書!AD31)","v":""},{"$f":"IF(報告書!AE31=\"\",\"\",報告書!AE31)","v":""},{"$f":"IF(報告書!AF31=\"\",\"\",報告書!AF31)","v":""},{"$f":"IF(報告書!AG31=\"\",\"\",報告書!AG31)","v":""},{"$f":"IF(報告書!AH31=\"\",\"\",報告書!AH31)","v":""},{"$f":"IF(報告書!AI31=\"\",\"\",報告書!AI31)","v":""},{"$f":"IF(報告書!AJ31=\"\",\"\",報告書!AJ31)","v":""},{"$f":"IF(報告書!AK31=\"\",\"\",報告書!AK31)","v":""},{"$f":"IF(報告書!AL31=\"\",\"\",報告書!AL31)","v":""},{"$f":"IF(報告書!AM31=\"\",\"\",報告書!AM31)","v":""},{"$f":"IF(報告書!AN31=\"\",\"\",報告書!AN31)","v":""},{"$f":"IF(報告書!AO31=\"\",\"\",報告書!AO31)","v":""},{"$f":"IF(報告書!AP31=\"\",\"\",報告書!AP31)","v":""},{"$f":"IF(報告書!AQ31=\"\",\"\",報告書!AQ31)","v":""},{"$f":"IF(報告書!AR31=\"\",\"\",報告書!AR31)","v":""},{"$f":"IF(報告書!AS31=\"\",\"\",報告書!AS31)","v":""},{"$f":"IF(報告書!AT31=\"\",\"\",報告書!AT31)","v":""}]
[null,null,"【ロ．氏名】",{"$nulls":10},{"$f":"IF(報告書!N32=\"\",\"\",報告書!N32)","v":""},{"$f":"IF(報告書!O32=\"\",\"\",報告書!O32)","v":""},{"$f":"IF(報告書!P32=\"\",\"\",報告書!P32)","v":""},{"$f":"IF(報告書!Q32=\"\",\"\",報告書!Q32)","v":""},{"$f":"IF(報告書!R32=\"\",\"\",報告書!R32)","v":""},{"$f":"IF(報告書!S32=\"\",\"\",報告書!S32)","v":""},{"$f":"IF(報告書!T32=\"\",\"\",報告書!T32)","v":""},{"$f":"IF(報告書!U32=\"\",\"\",報告書!U32)","v":""},{"$f":"IF(報告書!V32=\"\",\"\",報告書!V32)","v":""},{"$f":"IF(報告書!W32=\"\",\"\",報告書!W32)","v":""},{"$f":"IF(報告書!X32=\"\",\"\",報告書!X32)","v":""},{"$f":"IF(報告書!Y32=\"\",\"\",報告書!Y32)","v":""},{"$f":"IF(報告書!Z32=\"\",\"\",報告書!Z32)","v":""},{"$f":"IF(報告書!AA32=\"\",\"\",報告書!AA32)","v":""},{"$f":"IF(報告書!AB32=\"\",\"\",報告書!AB32)","v":""},{"$f":"IF(報告書!AC32=\"\",\"\",報告書!AC32)","v":""},{"$f":"IF(報告書!AD32=\"\",\"\",報告書!AD32)","v":""},{"$f":"IF(報告書!AE32=\"\",\"\",報告書!AE32)","v":""},{"$f":"IF(報告書!AF32=\"\",\"\",報告書!AF32)","v":""},{"$f":"IF(報告書!AG32=\"\",\"\",報告書!AG32)","v":""},{"$f":"IF(報告書!AH32=\"\",\"\",報告書!AH32)","v":""},{"$f":"IF(報告書!AI32=\"\",\"\",報告書!AI32)","v":""},{"$f":"IF(報告書!AJ32=\"\",\"\",報告書!AJ32)","v":""},{"$f":"IF(報告書!AK32=\"\",\"\",報告書!AK32)","v":""},{"$f":"IF(報告書!AL32=\"\",\"\",報告書!AL32)","v":""},{"$f":"IF(報告書!AM32=\"\",\"\",報告書!AM32)","v":""},{"$f":"IF(報告書!AN32=\"\",\"\",報告書!AN32)","v":""},{"$f":"IF(報告書!AO32=\"\",\"\",報告書!AO32)","v":""},{"$f":"IF(報告書!AP32=\"\",\"\",報告書!AP32)","v":""},{"$f":"IF(報告書!AQ32=\"\",\"\",報告書!AQ32)","v":""},{"$f":"IF(報告書!AR32=\"\",\"\",報告書!AR32)","v":""},{"$f":"IF(報告書!AS32=\"\",\"\",報告書!AS32)","v":""},{"$f":"IF(報告書!AT32=\"\",\"\",報告書!AT32)","v":""}]
[null,null,"【ハ．郵便番号】",{"$nulls":10},{"$f":"IF(報告書!N33=\"\",\"\",報告書!N33)","v":""},{"$f":"IF(報告書!O33=\"\",\"\",報告書!O33)","v":""},{"$f":"IF(報告書!P33=\"\",\"\",報告書!P33)","v":""},{"$f":"IF(報告書!Q33=\"\",\"\",報告書!Q33)","v":""},{"$f":"IF(報告書!R33=\"\",\"\",報告書!R33)","v":""},{"$f":"IF(報告書!S33=\"\",\"\",報告書!S33)","v":""},{"$f":"IF(報告書!T33=\"\",\"\",報告書!T33)","v":""},{"$f":"IF(報告書!U33=\"\",\"\",報告書!U33)","v":""},{"$f":"IF(報告書!V33=\"\",\"\",報告書!V33)","v":""}]
[null,null,"【ニ．住所】",{"$nulls":10},{"$f":"IF(報告書!N34=\"\",\"\",報告書!N34)","v":""},{"$f":"IF(報告書!O34=\"\",\"\",報告書!O34)","v":""},{"$f":"IF(報告書!P34=\"\",\"\",報告書!P34)","v":""},{"$f":"IF(報告書!Q34=\"\",\"\",報告書!Q34)","v":""},{"$f":"IF(報告書!R34=\"\",\"\",報告書!R34)","v":""},{"$f":"IF(報告書!S34=\"\",\"\",報告書!S34)","v":""},{"$f":"IF(報告書!T34=\"\",\"\",報告書!T34)","v":""},{"$f":"IF(報告書!U34=\"\",\"\",報告書!U34)","v":""},{"$f":"IF(報告書!V34=\"\",\"\",報告書!V34)","v":""},{"$f":"IF(報告書!W34=\"\",\"\",報告書!W34)","v":""},{"$f":"IF(報告書!X34=\"\",\"\",報告書!X34)","v":""},{"$f":"IF(報告書!Y34=\"\",\"\",報告書!Y34)","v":""},{"$f":"IF(報告書!Z34=\"\",\"\",報告書!Z34)","v":""},{"$f":"IF(報告書!AA34=\"\",\"\",報告書!AA34)","v":""},{"$f":"IF(報告書!AB34=\"\",\"\",報告書!AB34)","v":""},{"$f":"IF(報告書!AC34=\"\",\"\",報告書!AC34)","v":""},{"$f":"IF(報告書!AD34=\"\",\"\",報告書!AD34)","v":""},{"$f":"IF(報告書!AE34=\"\",\"\",報告書!AE34)","v":""},{"$f":"IF(報告書!AF34=\"\",\"\",報告書!AF34)","v":""},{"$f":"IF(報告書!AG34=\"\",\"\",報告書!AG34)","v":""},{"$f":"IF(報告書!AH34=\"\",\"\",報告書!AH34)","v":""},{"$f":"IF(報告書!AI34=\"\",\"\",報告書!AI34)","v":""},{"$f":"IF(報告書!AJ34=\"\",\"\",報告書!AJ34)","v":""},{"$f":"IF(報告書!AK34=\"\",\"\",報告書!AK34)","v":""},{"$f":"IF(報告書!AL34=\"\",\"\",報告書!AL34)","v":""},{"$f":"IF(報告書!AM34=\"\",\"\",報告書!AM34)","v":""},{"$f":"IF(報告書!AN34=\"\",\"\",報告書!AN34)","v":""},{"$f":"IF(報告書!AO34=\"\",\"\",報告書!AO34)","v":""},{"$f":"IF(報告書!AP34=\"\",\"\",報告書!AP34)","v":""},{"$f":"IF(報告書!AQ34=\"\",\"\",報告書!AQ34)","v":""},{"$f":"IF(報告書!AR34=\"\",\"\",報告書!AR34)","v":""},{"$f":"IF(報告書!AS34=\"\",\"\",報告書!AS34)","v":""},{"$f":"IF(報告書!AT34=\"\",\"\",報告書!AT34)","v":""}]
[]
[{"$nulls":53},"立川市長　"]
[{"$nulls":53},"立川市長　"]
[{"$nulls":53},"立川市長　"]
[]
[]
[null,"【2．管理者】"]
[null,null,"【イ．氏名のフリガナ】",{"$nulls":10},{"$f":"IF(報告書!N42=\"\",\"\",報告書!N42)","v":""},{"$f":"IF(報告書!O42=\"\",\"\",報告書!O42)","v":""},{"$f":"IF(報告書!P42=\"\",\"\",報告書!P42)","v":""},{"$f":"IF(報告書!Q42=\"\",\"\",報告書!Q42)","v":""},{"$f":"IF(報告書!R42=\"\",\"\",報告書!R42)","v":""},{"$f":"IF(報告書!S42=\"\",\"\",報告書!S42)","v":""},{"$f":"IF(報告書!T42=\"\",\"\",報告書!T42)","v":""},{"$f":"IF(報告書!U42=\"\",\"\",報告書!U42)","v":""},{"$f":"IF(報告書!V42=\"\",\"\",報告書!V42)","v":""},{"$f":"IF(報告書!W42=\"\",\"\",報告書!W42)","v":""},{"$f":"IF(報告書!X42=\"\",\"\",報告書!X42)","v":""},{"$f":"IF(報告書!Y42=\"\",\"\",報告書!Y42)","v":""},{"$f":"IF(報告書!Z42=\"\",\"\",報告書!Z42)","v":""},{"$f":"IF(報告書!AA42=\"\",\"\",報告書!AA42)","v":""},{"$f":"IF(報告書!AB42=\"\",\"\",報告書!AB42)","v":""},{"$f":"IF(報告書!AC42=\"\",\"\",報告書!AC42)","v":""},{"$f":"IF(報告書!AD42=\"\",\"\",報告書!AD42)","v":""},{"$f":"IF(報告書!AE42=\"\",\"\",報告書!AE42)","v":""},{"$f":"IF(報告書!AF42=\"\",\"\",報告書!AF42)","v":""},{"$f":"IF(報告書!AG42=\"\",\"\",報告書!AG42)","v":""},{"$f":"IF(報告書!AH42=\"\",\"\",報告書!AH42)","v":""},{"$f":"IF(報告書!AI42=\"\",\"\",報告書!AI42)","v":""},{"$f":"IF(報告書!AJ42=\"\",\"\",報告書!AJ42)","v":""},{"$f":"IF(報告書!AK42=\"\",\"\",報告書!AK42)","v":""},{"$f":"IF(報告書!AL42=\"\",\"\",報告書!AL42)","v":""},{"$f":"IF(報告書!AM42=\"\",\"\",報告書!AM42)","v":""},{"$f":"IF(報告書!AN42=\"\",\"\",報告書!AN42)","v":""},{"$f":"IF(報告書!AO42=\"\",\"\",報告書!AO42)","v":""},{"$f":"IF(報告書!AP42=\"\",\"\",報告書!AP42)","v":""},{"$f":"IF(報告書!AQ42=\"\",\"\",報告書!AQ42)","v":""},{"$f":"IF(報告書!AR42=\"\",\"\",報告書!AR42)","v":""},{"$f":"IF(報告書!AS42=\"\",\"\",報告書!AS42)","v":""},{"$f":"IF(報告書!AT42=\"\",\"\",報告書!AT42)","v":""}]
[null,null,"【ロ．氏名】",{"$nulls":10},{"$f":"IF(報告書!N43=\"\",\"\",報告書!N43)","v":""},{"$f":"IF(報告書!O43=\"\",\"\",報告書!O43)","v":""},{"$f":"IF(報告書!P43=\"\",\"\",報告書!P43)","v":""},{"$f":"IF(報告書!Q43=\"\",\"\",報告書!Q43)","v":""},{"$f":"IF(報告書!R43=\"\",\"\",報告書!R43)","v":""},{"$f":"IF(報告書!S43=\"\",\"\",報告書!S43)","v":""},{"$f":"IF(報告書!T43=\"\",\"\",報告書!T43)","v":""},{"$f":"IF(報告書!U43=\"\",\"\",報告書!U43)","v":""},{"$f":"IF(報告書!V43=\"\",\"\",報告書!V43)","v":""},{"$f":"IF(報告書!W43=\"\",\"\",報告書!W43)","v":""},{"$f":"IF(報告書!X43=\"\",\"\",報告書!X43)","v":""},{"$f":"IF(報告書!Y43=\"\",\"\",報告書!Y43)","v":""},{"$f":"IF(報告書!Z43=\"\",\"\",報告書!Z43)","v":""},{"$f":"IF(報告書!AA43=\"\",\"\",報告書!AA43)","v":""},{"$f":"IF(報告書!AB43=\"\",\"\",報告書!AB43)","v":""},{"$f":"IF(報告書!AC43=\"\",\"\",報告書!AC43)","v":""},{"$f":"IF(報告書!AD43=\"\",\"\",報告書!AD43)","v":""},{"$f":"IF(報告書!AE43=\"\",\"\",報告書!AE43)","v":""},{"$f":"IF(報告書!AF43=\"\",\"\",報告書!AF43)","v":""},{"$f":"IF(報告書!AG43=\"\",\"\",報告書!AG43)","v":""},{"$f":"IF(報告書!AH43=\"\",\"\",報告書!AH43)","v":""},{"$f":"IF(報告書!AI43=\"\",\"\",報告書!AI43)","v":""},{"$f":"IF(報告書!AJ43=\"\",\"\",報告書!AJ43)","v":""},{"$f":"IF(報告書!AK43=\"\",\"\",報告書!AK43)","v":""},{"$f":"IF(報告書!AL43=\"\",\"\",報告書!AL43)","v":""},{"$f":"IF(報告書!AM43=\"\",\"\",報告書!AM43)","v":""},{"$f":"IF(報告書!AN43=\"\",\"\",報告書!AN43)","v":""},{"$f":"IF(報告書!AO43=\"\",\"\",報告書!AO43)","v":""},{"$f":"IF(報告書!AP43=\"\",\"\",報告書!AP43)","v":""},{"$f":"IF(報告書!AQ43=\"\",\"\",報告書!AQ43)","v":""},{"$f":"IF(報告書!AR43=\"\",\"\",報告書!AR43)","v":""},{"$f":"IF(報告書!AS43=\"\",\"\",報告書!AS43)","v":""},{"$f":"IF(報告書!AT43=\"\",\"\",報告書!AT43)","v":""}]
[null,null,"【ハ．郵便番号】",{"$nulls":10},{"$f":"IF(報告書!N44=\"\",\"\",報告書!N44)","v":""},{"$f":"IF(報告書!O44=\"\",\"\",報告書!O44)","v":""},{"$f":"IF(報告書!P44=\"\",\"\",報告書!P44)","v":""},{"$f":"IF(報告書!Q44=\"\",\"\",報告書!Q44)","v":""},{"$f":"IF(報告書!R44=\"\",\"\",報告書!R44)","v":""},{"$f":"IF(報告書!S44=\"\",\"\",報告書!S44)","v":""},{"$f":"IF(報告書!T44=\"\",\"\",報告書!T44)","v":""},{"$f":"IF(報告書!U44=\"\",\"\",報告書!U44)","v":""},{"$f":"IF(報告書!V44=\"\",\"\",報告書!V44)","v":""}]
[null,null,"【ニ．住所】",{"$nulls":10},{"$f":"IF(報告書!N45=\"\",\"\",報告書!N45)","v":""},{"$f":"IF(報告書!O45=\"\",\"\",報告書!O45)","v":""},{"$f":"IF(報告書!P45=\"\",\"\",報告書!P45)","v":""},{"$f":"IF(報告書!Q45=\"\",\"\",報告書!Q45)","v":""},{"$f":"IF(報告書!R45=\"\",\"\",報告書!R45)","v":""},{"$f":"IF(報告書!S45=\"\",\"\",報告書!S45)","v":""},{"$f":"IF(報告書!T45=\"\",\"\",報告書!T45)","v":""},{"$f":"IF(報告書!U45=\"\",\"\",報告書!U45)","v":""},{"$f":"IF(報告書!V45=\"\",\"\",報告書!V45)","v":""},{"$f":"IF(報告書!W45=\"\",\"\",報告書!W45)","v":""},{"$f":"IF(報告書!X45=\"\",\"\",報告書!X45)","v":""},{"$f":"IF(報告書!Y45=\"\",\"\",報告書!Y45)","v":""},{"$f":"IF(報告書!Z45=\"\",\"\",報告書!Z45)","v":""},{"$f":"IF(報告書!AA45=\"\",\"\",報告書!AA45)","v":""},{"$f":"IF(報告書!AB45=\"\",\"\",報告書!AB45)","v":""},{"$f":"IF(報告書!AC45=\"\",\"\",報告書!AC45)","v":""},{"$f":"IF(報告書!AD45=\"\",\"\",報告書!AD45)","v":""},{"$f":"IF(報告書!AE45=\"\",\"\",報告書!AE45)","v":""},{"$f":"IF(報告書!AF45=\"\",\"\",報告書!AF45)","v":""},{"$f":"IF(報告書!AG45=\"\",\"\",報告書!AG45)","v":""},{"$f":"IF(報告書!AH45=\"\",\"\",報告書!AH45)","v":""},{"$f":"IF(報告書!AI45=\"\",\"\",報告書!AI45)","v":""},{"$f":"IF(報告書!AJ45=\"\",\"\",報告書!AJ45)","v":""},{"$f":"IF(報告書!AK45=\"\",\"\",報告書!AK45)","v":""},{"$f":"IF(報告書!AL45=\"\",\"\",報告書!AL45)","v":""},{"$f":"IF(報告書!AM45=\"\",\"\",報告書!AM45)","v":""},{"$f":"IF(報告書!AN45=\"\",\"\",報告書!AN45)","v":""},{"$f":"IF(報告書!AO45=\"\",\"\",報告書!AO45)","v":""},{"$f":"IF(報告書!AP45=\"\",\"\",報告書!AP45)","v":""},{"$f":"IF(報告書!AQ45=\"\",\"\",報告書!AQ45)","v":""},{"$f":"IF(報告書!AR45=\"\",\"\",報告書!AR45)","v":""},{"$f":"IF(報告書!AS45=\"\",\"\",報告書!AS45)","v":""},{"$f":"IF(報告書!AT45=\"\",\"\",報告書!AT45)","v":""}]
[]
[]
[]
[]
[]
[]
[null,"【3．報告対象建築物】"]
[null,null,"【イ．所在地】",{"$nulls":10},{"$f":"IF(報告書!N53=\"\",\"\",報告書!N53)","v":""},{"$f":"IF(報告書!O53=\"\",\"\",報告書!O53)","v":""},{"$f":"IF(報告書!P53=\"\",\"\",報告書!P53)","v":""},{"$f":"IF(報告書!Q53=\"\",\"\",報告書!Q53)","v":""},{"$f":"IF(報告書!R53=\"\",\"\",報告書!R53)","v":""},{"$f":"IF(報告書!S53=\"\",\"\",報告書!S53)","v":""},{"$f":"IF(報告書!T53=\"\",\"\",報告書!T53)","v":""},{"$f":"IF(報告書!U53=\"\",\"\",報告書!U53)","v":""},{"$f":"IF(報告書!V53=\"\",\"\",報告書!V53)","v":""},{"$f":"IF(報告書!W53=\"\",\"\",報告書!W53)","v":""},{"$f":"IF(報告書!X53=\"\",\"\",報告書!X53)","v":""},{"$f":"IF(報告書!Y53=\"\",\"\",報告書!Y53)","v":""},{"$f":"IF(報告書!Z53=\"\",\"\",報告書!Z53)","v":""},{"$f":"IF(報告書!AA53=\"\",\"\",報告書!AA53)","v":""},{"$f":"IF(報告書!AB53=\"\",\"\",報告書!AB53)","v":""},{"$f":"IF(報告書!AC53=\"\",\"\",報告書!AC53)","v":""},{"$f":"IF(報告書!AD53=\"\",\"\",報告書!AD53)","v":""},{"$f":"IF(報告書!AE53=\"\",\"\",報告書!AE53)","v":""},{"$f":"IF(報告書!AF53=\"\",\"\",報告書!AF53)","v":""},{"$f":"IF(報告書!AG53=\"\",\"\",報告書!AG53)","v":""},{"$f":"IF(報告書!AH53=\"\",\"\",報告書!AH53)","v":""},{"$f":"IF(報告書!AI53=\"\",\"\",報告書!AI53)","v":""},{"$f":"IF(報告書!AJ53=\"\",\"\",報告書!AJ53)","v":""},{"$f":"IF(報告書!AK53=\"\",\"\",報告書!AK53)","v":""},{"$f":"IF(報告書!AL53=\"\",\"\",報告書!AL53)","v":""},{"$f":"IF(報告書!AM53=\"\",\"\",報告書!AM53)","v":""},{"$f":"IF(報告書!AN53=\"\",\"\",報告書!AN53)","v":""},{"$f":"IF(報告書!AO53=\"\",\"\",報告書!AO53)","v":""},{"$f":"IF(報告書!AP53=\"\",\"\",報告書!AP53)","v":""},{"$f":"IF(報告書!AQ53=\"\",\"\",報告書!AQ53)","v":""},{"$f":"IF(報告書!AR53=\"\",\"\",報告書!AR53)","v":""},{"$f":"IF(報告書!AS53=\"\",\"\",報告書!AS53)","v":""},{"$f":"IF(報告書!AT53=\"\",\"\",報告書!AT53)","v":""}]
[null,null,"【ロ．名称のフリガナ】",{"$nulls":10},{"$f":"IF(報告書!N54=\"\",\"\",報告書!N54)","v":""},{"$f":"IF(報告書!O54=\"\",\"\",報告書!O54)","v":""},{"$f":"IF(報告書!P54=\"\",\"\",報告書!P54)","v":""},{"$f":"IF(報告書!Q54=\"\",\"\",報告書!Q54)","v":""},{"$f":"IF(報告書!R54=\"\",\"\",報告書!R54)","v":""},{"$f":"IF(報告書!S54=\"\",\"\",報告書!S54)","v":""},{"$f":"IF(報告書!T54=\"\",\"\",報告書!T54)","v":""},{"$f":"IF(報告書!U54=\"\",\"\",報告書!U54)","v":""},{"$f":"IF(報告書!V54=\"\",\"\",報告書!V54)","v":""},{"$f":"IF(報告書!W54=\"\",\"\",報告書!W54)","v":""},{"$f":"IF(報告書!X54=\"\",\"\",報告書!X54)","v":""},{"$f":"IF(報告書!Y54=\"\",\"\",報告書!Y54)","v":""},{"$f":"IF(報告書!Z54=\"\",\"\",報告書!Z54)","v":""},{"$f":"IF(報告書!AA54=\"\",\"\",報告書!AA54)","v":""},{"$f":"IF(報告書!AB54=\"\",\"\",報告書!AB54)","v":""},{"$f":"IF(報告書!AC54=\"\",\"\",報告書!AC54)","v":""},{"$f":"IF(報告書!AD54=\"\",\"\",報告書!AD54)","v":""},{"$f":"IF(報告書!AE54=\"\",\"\",報告書!AE54)","v":""},{"$f":"IF(報告書!AF54=\"\",\"\",報告書!AF54)","v":""},{"$f":"IF(報告書!AG54=\"\",\"\",報告書!AG54)","v":""},{"$f":"IF(報告書!AH54=\"\",\"\",報告書!AH54)","v":""},{"$f":"IF(報告書!AI54=\"\",\"\",報告書!AI54)","v":""},{"$f":"IF(報告書!AJ54=\"\",\"\",報告書!AJ54)","v":""},{"$f":"IF(報告書!AK54=\"\",\"\",報告書!AK54)","v":""},{"$f":"IF(報告書!AL54=\"\",\"\",報告書!AL54)","v":""},{"$f":"IF(報告書!AM54=\"\",\"\",報告書!AM54)","v":""},{"$f":"IF(報告書!AN54=\"\",\"\",報告書!AN54)","v":""},{"$f":"IF(報告書!AO54=\"\",\"\",報告書!AO54)","v":""},{"$f":"IF(報告書!AP54=\"\",\"\",報告書!AP54)","v":""},{"$f":"IF(報告書!AQ54=\"\",\"\",報告書!AQ54)","v":""},{"$f":"IF(報告書!AR54=\"\",\"\",報告書!AR54)","v":""},{"$f":"IF(報告書!AS54=\"\",\"\",報告書!AS54)","v":""},{"$f":"IF(報告書!AT54=\"\",\"\",報告書!AT54)","v":""}]
[null,null,"【ハ．名称】",{"$nulls":10},{"$f":"IF(報告書!N55=\"\",\"\",報告書!N55)","v":""},{"$f":"IF(報告書!O55=\"\",\"\",報告書!O55)","v":""},{"$f":"IF(報告書!P55=\"\",\"\",報告書!P55)","v":""},{"$f":"IF(報告書!Q55=\"\",\"\",報告書!Q55)","v":""},{"$f":"IF(報告書!R55=\"\",\"\",報告書!R55)","v":""},{"$f":"IF(報告書!S55=\"\",\"\",報告書!S55)","v":""},{"$f":"IF(報告書!T55=\"\",\"\",報告書!T55)","v":""},{"$f":"IF(報告書!U55=\"\",\"\",報告書!U55)","v":""},{"$f":"IF(報告書!V55=\"\",\"\",報告書!V55)","v":""},{"$f":"IF(報告書!W55=\"\",\"\",報告書!W55)","v":""},{"$f":"IF(報告書!X55=\"\",\"\",報告書!X55)","v":""},{"$f":"IF(報告書!Y55=\"\",\"\",報告書!Y55)","v":""},{"$f":"IF(報告書!Z55=\"\",\"\",報告書!Z55)","v":""},{"$f":"IF(報告書!AA55=\"\",\"\",報告書!AA55)","v":""},{"$f":"IF(報告書!AB55=\"\",\"\",報告書!AB55)","v":""},{"$f":"IF(報告書!AC55=\"\",\"\",報告書!AC55)","v":""},{"$f":"IF(報告書!AD55=\"\",\"\",報告書!AD55)","v":""},{"$f":"IF(報告書!AE55=\"\",\"\",報告書!AE55)","v":""},{"$f":"IF(報告書!AF55=\"\",\"\",報告書!AF55)","v":""},{"$f":"IF(報告書!AG55=\"\",\"\",報告書!AG55)","v":""},{"$f":"IF(報告書!AH55=\"\",\"\",報告書!AH55)","v":""},{"$f":"IF(報告書!AI55=\"\",\"\",報告書!AI55)","v":""},{"$f":"IF(報告書!AJ55=\"\",\"\",報告書!AJ55)","v":""},{"$f":"IF(報告書!AK55=\"\",\"\",報告書!AK55)","v":""},{"$f":"IF(報告書!AL55=\"\",\"\",報告書!AL55)","v":""},{"$f":"IF(報告書!AM55=\"\",\"\",報告書!AM55)","v":""},{"$f":"IF(報告書!AN55=\"\",\"\",報告書!AN55)","v":""},{"$f":"IF(報告書!AO55=\"\",\"\",報告書!AO55)","v":""},{"$f":"IF(報告書!AP55=\"\",\"\",報告書!AP55)","v":""},{"$f":"IF(報告書!AQ55=\"\",\"\",報告書!AQ55)","v":""},{"$f":"IF(報告書!AR55=\"\",\"\",報告書!AR55)","v":""},{"$f":"IF(報告書!AS55=\"\",\"\",報告書!AS55)","v":""},{"$f":"IF(報告書!AT55=\"\",\"\",報告書!AT55)","v":""}]
[null,null,"【ニ．用途】",{"$nulls":10},{"$f":"IF(報告書!N56=\"\",\"\",報告書!N56)","v":""},{"$f":"IF(報告書!O56=\"\",\"\",報告書!O56)","v":""},{"$f":"IF(報告書!P56=\"\",\"\",報告書!P56)","v":""},{"$f":"IF(報告書!Q56=\"\",\"\",報告書!Q56)","v":""},{"$f":"IF(報告書!R56=\"\",\"\",報告書!R56)","v":""},{"$f":"IF(報告書!S56=\"\",\"\",報告書!S56)","v":""},{"$f":"IF(報告書!T56=\"\",\"\",報告書!T56)","v":""},{"$f":"IF(報告書!U56=\"\",\"\",報告書!U56)","v":""},{"$f":"IF(報告書!V56=\"\",\"\",報告書!V56)","v":""},{"$f":"IF(報告書!W56=\"\",\"\",報告書!W56)","v":""},{"$f":"IF(報告書!X56=\"\",\"\",報告書!X56)","v":""},{"$f":"IF(報告書!Y56=\"\",\"\",報告書!Y56)","v":""},{"$f":"IF(報告書!Z56=\"\",\"\",報告書!Z56)","v":""},{"$f":"IF(報告書!AA56=\"\",\"\",報告書!AA56)","v":""},{"$f":"IF(報告書!AB56=\"\",\"\",報告書!AB56)","v":""},{"$f":"IF(報告書!AC56=\"\",\"\",報告書!AC56)","v":""},{"$f":"IF(報告書!AD56=\"\",\"\",報告書!AD56)","v":""},{"$f":"IF(報告書!AE56=\"\",\"\",報告書!AE56)","v":""},{"$f":"IF(報告書!AF56=\"\",\"\",報告書!AF56)","v":""},{"$f":"IF(報告書!AG56=\"\",\"\",報告書!AG56)","v":""},{"$f":"IF(報告書!AH56=\"\",\"\",報告書!AH56)","v":""},{"$f":"IF(報告書!AI56=\"\",\"\",報告書!AI56)","v":""},{"$f":"IF(報告書!AJ56=\"\",\"\",報告書!AJ56)","v":""},{"$f":"IF(報告書!AK56=\"\",\"\",報告書!AK56)","v":""},{"$f":"IF(報告書!AL56=\"\",\"\",報告書!AL56)","v":""},{"$f":"IF(報告書!AM56=\"\",\"\",報告書!AM56)","v":""},{"$f":"IF(報告書!AN56=\"\",\"\",報告書!AN56)","v":""},{"$f":"IF(報告書!AO56=\"\",\"\",報告書!AO56)","v":""},{"$f":"IF(報告書!AP56=\"\",\"\",報告書!AP56)","v":""},{"$f":"IF(報告書!AQ56=\"\",\"\",報告書!AQ56)","v":""},{"$f":"IF(報告書!AR56=\"\",\"\",報告書!AR56)","v":""},{"$f":"IF(報告書!AS56=\"\",\"\",報告書!AS56)","v":""},{"$f":"IF(報告書!AT56=\"\",\"\",報告書!AT56)","v":""}]
[]
[]
[]
[]
[]
[null,"【4．検査による指摘の概要】"]
[null,null,"【イ．指摘の内容】",{"$nulls":10},{"$f":"報告書!N63","v":0},"要是正の指摘あり",{"$nulls":7},"(",{"$f":"報告書!X63","v":0},"既存不適格）",{"$nulls":7},{"$f":"報告書!AG63","v":0},"指摘なし"]
[null,null,"【ロ．指摘の概要】",{"$nulls":10},{"$f":"IF(報告書!N64=\"\",\"\",報告書!N64)","v":""},{"$f":"IF(報告書!O64=\"\",\"\",報告書!O64)","v":""},{"$f":"IF(報告書!P64=\"\",\"\",報告書!P64)","v":""},{"$f":"IF(報告書!Q64=\"\",\"\",報告書!Q64)","v":""},{"$f":"IF(報告書!R64=\"\",\"\",報告書!R64)","v":""},{"$f":"IF(報告書!S64=\"\",\"\",報告書!S64)","v":""},{"$f":"IF(報告書!T64=\"\",\"\",報告書!T64)","v":""},{"$f":"IF(報告書!U64=\"\",\"\",報告書!U64)","v":""},{"$f":"IF(報告書!V64=\"\",\"\",報告書!V64)","v":""},{"$f":"IF(報告書!W64=\"\",\"\",報告書!W64)","v":""},{"$f":"IF(報告書!X64=\"\",\"\",報告書!X64)","v":""},{"$f":"IF(報告書!Y64=\"\",\"\",報告書!Y64)","v":""},{"$f":"IF(報告書!Z64=\"\",\"\",報告書!Z64)","v":""},{"$f":"IF(報告書!AA64=\"\",\"\",報告書!AA64)","v":""},{"$f":"IF(報告書!AB64=\"\",\"\",報告書!AB64)","v":""},{"$f":"IF(報告書!AC64=\"\",\"\",報告書!AC64)","v":""},{"$f":"IF(報告書!AD64=\"\",\"\",報告書!AD64)","v":""},{"$f":"IF(報告書!AE64=\"\",\"\",報告書!AE64)","v":""},{"$f":"IF(報告書!AF64=\"\",\"\",報告書!AF64)","v":""},{"$f":"IF(報告書!AG64=\"\",\"\",報告書!AG64)","v":""},{"$f":"IF(報告書!AH64=\"\",\"\",報告書!AH64)","v":""},{"$f":"IF(報告書!AI64=\"\",\"\",報告書!AI64)","v":""},{"$f":"IF(報告書!AJ64=\"\",\"\",報告書!AJ64)","v":""},{"$f":"IF(報告書!AK64=\"\",\"\",報告書!AK64)","v":""},{"$f":"IF(報告書!AL64=\"\",\"\",報告書!AL64)","v":""},{"$f":"IF(報告書!AM64=\"\",\"\",報告書!AM64)","v":""},{"$f":"IF(報告書!AN64=\"\",\"\",報告書!AN64)","v":""},{"$f":"IF(報告書!AO64=\"\",\"\",報告書!AO64)","v":""},{"$f":"IF(報告書!AP64=\"\",\"\",報告書!AP64)","v":""},{"$f":"IF(報告書!AQ64=\"\",\"\",報告書!AQ64)","v":""},{"$f":"IF(報告書!AR64=\"\",\"\",報告書!AR64)","v":""},{"$f":"IF(報告書!AS64=\"\",\"\",報告書!AS64)","v":""},{"$f":"IF(報告書!AT64=\"\",\"\",報告書!AT64)","v":""}]
[{"$nulls":13},{"$f":"IF(報告書!N65=\"\",\"\",報告書!N65)","v":""},{"$f":"IF(報告書!O65=\"\",\"\",報告書!O65)","v":""},{"$f":"IF(報告書!P65=\"\",\"\",報告書!P65)","v":""},{"$f":"IF(報告書!Q65=\"\",\"\",報告書!Q65)","v":""},{"$f":"IF(報告書!R65=\"\",\"\",報告書!R65)","v":""},{"$f":"IF(報告書!S65=\"\",\"\",報告書!S65)","v":""},{"$f":"IF(報告書!T65=\"\",\"\",報告書!T65)","v":""},{"$f":"IF(報告書!U65=\"\",\"\",報告書!U65)","v":""},{"$f":"IF(報告書!V65=\"\",\"\",報告書!V65)","v":""},{"$f":"IF(報告書!W65=\"\",\"\",報告書!W65)","v":""},{"$f":"IF(報告書!X65=\"\",\"\",報告書!X65)","v":""},{"$f":"IF(報告書!Y65=\"\",\"\",報告書!Y65)","v":""},{"$f":"IF(報告書!Z65=\"\",\"\",報告書!Z65)","v":""},{"$f":"IF(報告書!AA65=\"\",\"\",報告書!AA65)","v":""},{"$f":"IF(報告書!AB65=\"\",\"\",報告書!AB65)","v":""},{"$f":"IF(報告書!AC65=\"\",\"\",報告書!AC65)","v":""},{"$f":"IF(報告書!AD65=\"\",\"\",報告書!AD65)","v":""},{"$f":"IF(報告書!AE65=\"\",\"\",報告書!AE65)","v":""},{"$f":"IF(報告書!AF65=\"\",\"\",報告書!AF65)","v":""},{"$f":"IF(報告書!AG65=\"\",\"\",報告書!AG65)","v":""},{"$f":"IF(報告書!AH65=\"\",\"\",報告書!AH65)","v":""},{"$f":"IF(報告書!AI65=\"\",\"\",報告書!AI65)","v":""},{"$f":"IF(報告書!AJ65=\"\",\"\",報告書!AJ65)","v":""},{"$f":"IF(報告書!AK65=\"\",\"\",報告書!AK65)","v":""},{"$f":"IF(報告書!AL65=\"\",\"\",報告書!AL65)","v":""},{"$f":"IF(報告書!AM65=\"\",\"\",報告書!AM65)","v":""},{"$f":"IF(報告書!AN65=\"\",\"\",報告書!AN65)","v":""},{"$f":"IF(報告書!AO65=\"\",\"\",報告書!AO65)","v":""},{"$f":"IF(報告書!AP65=\"\",\"\",報告書!AP65)","v":""},{"$f":"IF(報告書!AQ65=\"\",\"\",報告書!AQ65)","v":""},{"$f":"IF(報告書!AR65=\"\",\"\",報告書!AR65)","v":""},{"$f":"IF(報告書!AS65=\"\",\"\",報告書!AS65)","v":""},{"$f":"IF(報告書!AT65=\"\",\"\",報告書!AT65)","v":""}]
[{"$nulls":13},{"$f":"IF(報告書!N66=\"\",\"\",報告書!N66)","v":""},{"$f":"IF(報告書!O66=\"\",\"\",報告書!O66)","v":""},{"$f":"IF(報告書!P66=\"\",\"\",報告書!P66)","v":""},{"$f":"IF(報告書!Q66=\"\",\"\",報告書!Q66)","v":""},{"$f":"IF(報告書!R66=\"\",\"\",報告書!R66)","v":""},{"$f":"IF(報告書!S66=\"\",\"\",報告書!S66)","v":""},{"$f":"IF(報告書!T66=\"\",\"\",報告書!T66)","v":""},{"$f":"IF(報告書!U66=\"\",\"\",報告書!U66)","v":""},{"$f":"IF(報告書!V66=\"\",\"\",報告書!V66)","v":""},{"$f":"IF(報告書!W66=\"\",\"\",報告書!W66)","v":""},{"$f":"IF(報告書!X66=\"\",\"\",報告書!X66)","v":""},{"$f":"IF(報告書!Y66=\"\",\"\",報告書!Y66)","v":""},{"$f":"IF(報告書!Z66=\"\",\"\",報告書!Z66)","v":""},{"$f":"IF(報告書!AA66=\"\",\"\",報告書!AA66)","v":""},{"$f":"IF(報告書!AB66=\"\",\"\",報告書!AB66)","v":""},{"$f":"IF(報告書!AC66=\"\",\"\",報告書!AC66)","v":""},{"$f":"IF(報告書!AD66=\"\",\"\",報告書!AD66)","v":""},{"$f":"IF(報告書!AE66=\"\",\"\",報告書!AE66)","v":""},{"$f":"IF(報告書!AF66=\"\",\"\",報告書!AF66)","v":""},{"$f":"IF(報告書!AG66=\"\",\"\",報告書!AG66)","v":""},{"$f":"IF(報告書!AH66=\"\",\"\",報告書!AH66)","v":""},{"$f":"IF(報告書!AI66=\"\",\"\",報告書!AI66)","v":""},{"$f":"IF(報告書!AJ66=\"\",\"\",報告書!AJ66)","v":""},{"$f":"IF(報告書!AK66=\"\",\"\",報告書!AK66)","v":""},{"$f":"IF(報告書!AL66=\"\",\"\",報告書!AL66)","v":""},{"$f":"IF(報告書!AM66=\"\",\"\",報告書!AM66)","v":""},{"$f":"IF(報告書!AN66=\"\",\"\",報告書!AN66)","v":""},{"$f":"IF(報告書!AO66=\"\",\"\",報告書!AO66)","v":""},{"$f":"IF(報告書!AP66=\"\",\"\",報告書!AP66)","v":""},{"$f":"IF(報告書!AQ66=\"\",\"\",報告書!AQ66)","v":""},{"$f":"IF(報告書!AR66=\"\",\"\",報告書!AR66)","v":""},{"$f":"IF(報告書!AS66=\"\",\"\",報告書!AS66)","v":""},{"$f":"IF(報告書!AT66=\"\",\"\",報告書!AT66)","v":""}]
[{"$nulls":13},{"$f":"IF(報告書!N67=\"\",\"\",報告書!N67)","v":""},{"$f":"IF(報告書!O67=\"\",\"\",報告書!O67)","v":""},{"$f":"IF(報告書!P67=\"\",\"\",報告書!P67)","v":""},{"$f":"IF(報告書!Q67=\"\",\"\",報告書!Q67)","v":""},{"$f":"IF(報告書!R67=\"\",\"\",報告書!R67)","v":""},{"$f":"IF(報告書!S67=\"\",\"\",報告書!S67)","v":""},{"$f":"IF(報告書!T67=\"\",\"\",報告書!T67)","v":""},{"$f":"IF(報告書!U67=\"\",\"\",報告書!U67)","v":""},{"$f":"IF(報告書!V67=\"\",\"\",報告書!V67)","v":""},{"$f":"IF(報告書!W67=\"\",\"\",報告書!W67)","v":""},{"$f":"IF(報告書!X67=\"\",\"\",報告書!X67)","v":""},{"$f":"IF(報告書!Y67=\"\",\"\",報告書!Y67)","v":""},{"$f":"IF(報告書!Z67=\"\",\"\",報告書!Z67)","v":""},{"$f":"IF(報告書!AA67=\"\",\"\",報告書!AA67)","v":""},{"$f":"IF(報告書!AB67=\"\",\"\",報告書!AB67)","v":""},{"$f":"IF(報告書!AC67=\"\",\"\",報告書!AC67)","v":""},{"$f":"IF(報告書!AD67=\"\",\"\",報告書!AD67)","v":""},{"$f":"IF(報告書!AE67=\"\",\"\",報告書!AE67)","v":""},{"$f":"IF(報告書!AF67=\"\",\"\",報告書!AF67)","v":""},{"$f":"IF(報告書!AG67=\"\",\"\",報告書!AG67)","v":""},{"$f":"IF(報告書!AH67=\"\",\"\",報告書!AH67)","v":""},{"$f":"IF(報告書!AI67=\"\",\"\",報告書!AI67)","v":""},{"$f":"IF(報告書!AJ67=\"\",\"\",報告書!AJ67)","v":""},{"$f":"IF(報告書!AK67=\"\",\"\",報告書!AK67)","v":""},{"$f":"IF(報告書!AL67=\"\",\"\",報告書!AL67)","v":""},{"$f":"IF(報告書!AM67=\"\",\"\",報告書!AM67)","v":""},{"$f":"IF(報告書!AN67=\"\",\"\",報告書!AN67)","v":""},{"$f":"IF(報告書!AO67=\"\",\"\",報告書!AO67)","v":""},{"$f":"IF(報告書!AP67=\"\",\"\",報告書!AP67)","v":""},{"$f":"IF(報告書!AQ67=\"\",\"\",報告書!AQ67)","v":""},{"$f":"IF(報告書!AR67=\"\",\"\",報告書!AR67)","v":""},{"$f":"IF(報告書!AS67=\"\",\"\",報告書!AS67)","v":""},{"$f":"IF(報告書!AT67=\"\",\"\",報告書!AT67)","v":""}]
[{"$nulls":13},{"$f":"IF(報告書!N68=\"\",\"\",報告書!N68)","v":""},{"$f":"IF(報告書!O68=\"\",\"\",報告書!O68)","v":""},{"$f":"IF(報告書!P68=\"\",\"\",報告書!P68)","v":""},{"$f":"IF(報告書!Q68=\"\",\"\",報告書!Q68)","v":""},{"$f":"IF(報告書!R68=\"\",\"\",報告書!R68)","v":""},{"$f":"IF(報告書!S68=\"\",\"\",報告書!S68)","v":""},{"$f":"IF(報告書!T68=\"\",\"\",報告書!T68)","v":""},{"$f":"IF(報告書!U68=\"\",\"\",報告書!U68)","v":""},{"$f":"IF(報告書!V68=\"\",\"\",報告書!V68)","v":""},{"$f":"IF(報告書!W68=\"\",\"\",報告書!W68)","v":""},{"$f":"IF(報告書!X68=\"\",\"\",報告書!X68)","v":""},{"$f":"IF(報告書!Y68=\"\",\"\",報告書!Y68)","v":""},{"$f":"IF(報告書!Z68=\"\",\"\",報告書!Z68)","v":""},{"$f":"IF(報告書!AA68=\"\",\"\",報告書!AA68)","v":""},{"$f":"IF(報告書!AB68=\"\",\"\",報告書!AB68)","v":""},{"$f":"IF(報告書!AC68=\"\",\"\",報告書!AC68)","v":""},{"$f":"IF(報告書!AD68=\"\",\"\",報告書!AD68)","v":""},{"$f":"IF(報告書!AE68=\"\",\"\",報告書!AE68)","v":""},{"$f":"IF(報告書!AF68=\"\",\"\",報告書!AF68)","v":""},{"$f":"IF(報告書!AG68=\"\",\"\",報告書!AG68)","v":""},{"$f":"IF(報告書!AH68=\"\",\"\",報告書!AH68)","v":""},{"$f":"IF(報告書!AI68=\"\",\"\",報告書!AI68)","v":""},{"$f":"IF(報告書!AJ68=\"\",\"\",報告書!AJ68)","v":""},{"$f":"IF(報告書!AK68=\"\",\"\",報告書!AK68)","v":""},{"$f":"IF(報告書!AL68=\"\",\"\",報告書!AL68)","v":""},{"$f":"IF(報告書!AM68=\"\",\"\",報告書!AM68)","v":""},{"$f":"IF(報告書!AN68=\"\",\"\",報告書!AN68)","v":""},{"$f":"IF(報告書!AO68=\"\",\"\",報告書!AO68)","v":""},{"$f":"IF(報告書!AP68=\"\",\"\",報告書!AP68)","v":""},{"$f":"IF(報告書!AQ68=\"\",\"\",報告書!AQ68)","v":""},{"$f":"IF(報告書!AR68=\"\",\"\",報告書!AR68)","v":""},{"$f":"IF(報告書!AS68=\"\",\"\",報告書!AS68)","v":""},{"$f":"IF(報告書!AT68=\"\",\"\",報告書!AT68)","v":""}]
[null,null,"【ハ．改善予定の有無】",{"$nulls":10},{"$f":"報告書!N69","v":0},"有",null,null,"（令和",{"$f":"IF(報告書!S69=\"\",\"\",報告書!S69)","v":""},null,"年",{"$f":"IF(報告書!V69=\"\",\"\",報告書!V69)","v":""},null,"月に改善予定）",{"$nulls":8},{"$f":"報告書!AG69","v":0},"無"]
[null,null,"【ニ．その他特記事項】",{"$nulls":10},{"$f":"IF(報告書!N70=\"\",\"\",報告書!N70)","v":""},{"$f":"IF(報告書!O70=\"\",\"\",報告書!O70)","v":""},{"$f":"IF(報告書!P70=\"\",\"\",報告書!P70)","v":""},{"$f":"IF(報告書!Q70=\"\",\"\",報告書!Q70)","v":""},{"$f":"IF(報告書!R70=\"\",\"\",報告書!R70)","v":""},{"$f":"IF(報告書!S70=\"\",\"\",報告書!S70)","v":""},{"$f":"IF(報告書!T70=\"\",\"\",報告書!T70)","v":""},{"$f":"IF(報告書!U70=\"\",\"\",報告書!U70)","v":""},{"$f":"IF(報告書!V70=\"\",\"\",報告書!V70)","v":""},{"$f":"IF(報告書!W70=\"\",\"\",報告書!W70)","v":""},{"$f":"IF(報告書!X70=\"\",\"\",報告書!X70)","v":""},{"$f":"IF(報告書!Y70=\"\",\"\",報告書!Y70)","v":""},{"$f":"IF(報告書!Z70=\"\",\"\",報告書!Z70)","v":""},{"$f":"IF(報告書!AA70=\"\",\"\",報告書!AA70)","v":""},{"$f":"IF(報告書!AB70=\"\",\"\",報告書!AB70)","v":""},{"$f":"IF(報告書!AC70=\"\",\"\",報告書!AC70)","v":""},{"$f":"IF(報告書!AD70=\"\",\"\",報告書!AD70)","v":""},{"$f":"IF(報告書!AE70=\"\",\"\",報告書!AE70)","v":""},{"$f":"IF(報告書!AF70=\"\",\"\",報告書!AF70)","v":""},{"$f":"IF(報告書!AG70=\"\",\"\",報告書!AG70)","v":""},{"$f":"IF(報告書!AH70=\"\",\"\",報告書!AH70)","v":""},{"$f":"IF(報告書!AI70=\"\",\"\",報告書!AI70)","v":""},{"$f":"IF(報告書!AJ70=\"\",\"\",報告書!AJ70)","v":""},{"$f":"IF(報告書!AK70=\"\",\"\",報告書!AK70)","v":""},{"$f":"IF(報告書!AL70=\"\",\"\",報告書!AL70)","v":""},{"$f":"IF(報告書!AM70=\"\",\"\",報告書!AM70)","v":""},{"$f":"IF(報告書!AN70=\"\",\"\",報告書!AN70)","v":""},{"$f":"IF(報告書!AO70=\"\",\"\",報告書!AO70)","v":""},{"$f":"IF(報告書!AP70=\"\",\"\",報告書!AP70)","v":""},{"$f":"IF(報告書!AQ70=\"\",\"\",報告書!AQ70)","v":""},{"$f":"IF(報告書!AR70=\"\",\"\",報告書!AR70)","v":""},{"$f":"IF(報告書!AS70=\"\",\"\",報告書!AS70)","v":""},{"$f":"IF(報告書!AT70=\"\",\"\",報告書!AT70)","v":""}]
[{"$nulls":13},{"$f":"IF(報告書!N71=\"\",\"\",報告書!N71)","v":""},{"$f":"IF(報告書!O71=\"\",\"\",報告書!O71)","v":""},{"$f":"IF(報告書!P71=\"\",\"\",報告書!P71)","v":""},{"$f":"IF(報告書!Q71=\"\",\"\",報告書!Q71)","v":""},{"$f":"IF(報告書!R71=\"\",\"\",報告書!R71)","v":""},{"$f":"IF(報告書!S71=\"\",\"\",報告書!S71)","v":""},{"$f":"IF(報告書!T71=\"\",\"\",報告書!T71)","v":""},{"$f":"IF(報告書!U71=\"\",\"\",報告書!U71)","v":""},{"$f":"IF(報告書!V71=\"\",\"\",報告書!V71)","v":""},{"$f":"IF(報告書!W71=\"\",\"\",報告書!W71)","v":""},{"$f":"IF(報告書!X71=\"\",\"\",報告書!X71)","v":""},{"$f":"IF(報告書!Y71=\"\",\"\",報告書!Y71)","v":""},{"$f":"IF(報告書!Z71=\"\",\"\",報告書!Z71)","v":""},{"$f":"IF(報告書!AA71=\"\",\"\",報告書!AA71)","v":""},{"$f":"IF(報告書!AB71=\"\",\"\",報告書!AB71)","v":""},{"$f":"IF(報告書!AC71=\"\",\"\",報告書!AC71)","v":""},{"$f":"IF(報告書!AD71=\"\",\"\",報告書!AD71)","v":""},{"$f":"IF(報告書!AE71=\"\",\"\",報告書!AE71)","v":""},{"$f":"IF(報告書!AF71=\"\",\"\",報告書!AF71)","v":""},{"$f":"IF(報告書!AG71=\"\",\"\",報告書!AG71)","v":""},{"$f":"IF(報告書!AH71=\"\",\"\",報告書!AH71)","v":""},{"$f":"IF(報告書!AI71=\"\",\"\",報告書!AI71)","v":""},{"$f":"IF(報告書!AJ71=\"\",\"\",報告書!AJ71)","v":""},{"$f":"IF(報告書!AK71=\"\",\"\",報告書!AK71)","v":""},{"$f":"IF(報告書!AL71=\"\",\"\",報告書!AL71)","v":""},{"$f":"IF(報告書!AM71=\"\",\"\",報告書!AM71)","v":""},{"$f":"IF(報告書!AN71=\"\",\"\",報告書!AN71)","v":""},{"$f":"IF(報告書!AO71=\"\",\"\",報告書!AO71)","v":""},{"$f":"IF(報告書!AP71=\"\",\"\",報告書!AP71)","v":""},{"$f":"IF(報告書!AQ71=\"\",\"\",報告書!AQ71)","v":""},{"$f":"IF(報告書!AR71=\"\",\"\",報告書!AR71)","v":""},{"$f":"IF(報告書!AS71=\"\",\"\",報告書!AS71)","v":""},{"$f":"IF(報告書!AT71=\"\",\"\",報告書!AT71)","v":""}]
[{"$nulls":13},{"$f":"IF(報告書!N72=\"\",\"\",報告書!N72)","v":""},{"$f":"IF(報告書!O72=\"\",\"\",報告書!O72)","v":""},{"$f":"IF(報告書!P72=\"\",\"\",報告書!P72)","v":""},{"$f":"IF(報告書!Q72=\"\",\"\",報告書!Q72)","v":""},{"$f":"IF(報告書!R72=\"\",\"\",報告書!R72)","v":""},{"$f":"IF(報告書!S72=\"\",\"\",報告書!S72)","v":""},{"$f":"IF(報告書!T72=\"\",\"\",報告書!T72)","v":""},{"$f":"IF(報告書!U72=\"\",\"\",報告書!U72)","v":""},{"$f":"IF(報告書!V72=\"\",\"\",報告書!V72)","v":""},{"$f":"IF(報告書!W72=\"\",\"\",報告書!W72)","v":""},{"$f":"IF(報告書!X72=\"\",\"\",報告書!X72)","v":""},{"$f":"IF(報告書!Y72=\"\",\"\",報告書!Y72)","v":""},{"$f":"IF(報告書!Z72=\"\",\"\",報告書!Z72)","v":""},{"$f":"IF(報告書!AA72=\"\",\"\",報告書!AA72)","v":""},{"$f":"IF(報告書!AB72=\"\",\"\",報告書!AB72)","v":""},{"$f":"IF(報告書!AC72=\"\",\"\",報告書!AC72)","v":""},{"$f":"IF(報告書!AD72=\"\",\"\",報告書!AD72)","v":""},{"$f":"IF(報告書!AE72=\"\",\"\",報告書!AE72)","v":""},{"$f":"IF(報告書!AF72=\"\",\"\",報告書!AF72)","v":""},{"$f":"IF(報告書!AG72=\"\",\"\",報告書!AG72)","v":""},{"$f":"IF(報告書!AH72=\"\",\"\",報告書!AH72)","v":""},{"$f":"IF(報告書!AI72=\"\",\"\",報告書!AI72)","v":""},{"$f":"IF(報告書!AJ72=\"\",\"\",報告書!AJ72)","v":""},{"$f":"IF(報告書!AK72=\"\",\"\",報告書!AK72)","v":""},{"$f":"IF(報告書!AL72=\"\",\"\",報告書!AL72)","v":""},{"$f":"IF(報告書!AM72=\"\",\"\",報告書!AM72)","v":""},{"$f":"IF(報告書!AN72=\"\",\"\",報告書!AN72)","v":""},{"$f":"IF(報告書!AO72=\"\",\"\",報告書!AO72)","v":""},{"$f":"IF(報告書!AP72=\"\",\"\",報告書!AP72)","v":""},{"$f":"IF(報告書!AQ72=\"\",\"\",報告書!AQ72)","v":""},{"$f":"IF(報告書!AR72=\"\",\"\",報告書!AR72)","v":""},{"$f":"IF(報告書!AS72=\"\",\"\",報告書!AS72)","v":""},{"$f":"IF(報告書!AT72=\"\",\"\",報告書!AT72)","v":""}]
[{"$nulls":13},{"$f":"IF(報告書!N73=\"\",\"\",報告書!N73)","v":""},{"$f":"IF(報告書!O73=\"\",\"\",報告書!O73)","v":""},{"$f":"IF(報告書!P73=\"\",\"\",報告書!P73)","v":""},{"$f":"IF(報告書!Q73=\"\",\"\",報告書!Q73)","v":""},{"$f":"IF(報告書!R73=\"\",\"\",報告書!R73)","v":""},{"$f":"IF(報告書!S73=\"\",\"\",報告書!S73)","v":""},{"$f":"IF(報告書!T73=\"\",\"\",報告書!T73)","v":""},{"$f":"IF(報告書!U73=\"\",\"\",報告書!U73)","v":""},{"$f":"IF(報告書!V73=\"\",\"\",報告書!V73)","v":""},{"$f":"IF(報告書!W73=\"\",\"\",報告書!W73)","v":""},{"$f":"IF(報告書!X73=\"\",\"\",報告書!X73)","v":""},{"$f":"IF(報告書!Y73=\"\",\"\",報告書!Y73)","v":""},{"$f":"IF(報告書!Z73=\"\",\"\",報告書!Z73)","v":""},{"$f":"IF(報告書!AA73=\"\",\"\",報告書!AA73)","v":""},{"$f":"IF(報告書!AB73=\"\",\"\",報告書!AB73)","v":""},{"$f":"IF(報告書!AC73=\"\",\"\",報告書!AC73)","v":""},{"$f":"IF(報告書!AD73=\"\",\"\",報告書!AD73)","v":""},{"$f":"IF(報告書!AE73=\"\",\"\",報告書!AE73)","v":""},{"$f":"IF(報告書!AF73=\"\",\"\",報告書!AF73)","v":""},{"$f":"IF(報告書!AG73=\"\",\"\",報告書!AG73)","v":""},{"$f":"IF(報告書!AH73=\"\",\"\",報告書!AH73)","v":""},{"$f":"IF(報告書!AI73=\"\",\"\",報告書!AI73)","v":""},{"$f":"IF(報告書!AJ73=\"\",\"\",報告書!AJ73)","v":""},{"$f":"IF(報告書!AK73=\"\",\"\",報告書!AK73)","v":""},{"$f":"IF(報告書!AL73=\"\",\"\",報告書!AL73)","v":""},{"$f":"IF(報告書!AM73=\"\",\"\",報告書!AM73)","v":""},{"$f":"IF(報告書!AN73=\"\",\"\",報告書!AN73)","v":""},{"$f":"IF(報告書!AO73=\"\",\"\",報告書!AO73)","v":""},{"$f":"IF(報告書!AP73=\"\",\"\",報告書!AP73)","v":""},{"$f":"IF(報告書!AQ73=\"\",\"\",報告書!AQ73)","v":""},{"$f":"IF(報告書!AR73=\"\",\"\",報告書!AR73)","v":""},{"$f":"IF(報告書!AS73=\"\",\"\",報告書!AS73)","v":""},{"$f":"IF(報告書!AT73=\"\",\"\",報告書!AT73)","v":""}]
[{"$nulls":13},{"$f":"IF(報告書!N74=\"\",\"\",報告書!N74)","v":""},{"$f":"IF(報告書!O74=\"\",\"\",報告書!O74)","v":""},{"$f":"IF(報告書!P74=\"\",\"\",報告書!P74)","v":""},{"$f":"IF(報告書!Q74=\"\",\"\",報告書!Q74)","v":""},{"$f":"IF(報告書!R74=\"\",\"\",報告書!R74)","v":""},{"$f":"IF(報告書!S74=\"\",\"\",報告書!S74)","v":""},{"$f":"IF(報告書!T74=\"\",\"\",報告書!T74)","v":""},{"$f":"IF(報告書!U74=\"\",\"\",報告書!U74)","v":""},{"$f":"IF(報告書!V74=\"\",\"\",報告書!V74)","v":""},{"$f":"IF(報告書!W74=\"\",\"\",報告書!W74)","v":""},{"$f":"IF(報告書!X74=\"\",\"\",報告書!X74)","v":""},{"$f":"IF(報告書!Y74=\"\",\"\",報告書!Y74)","v":""},{"$f":"IF(報告書!Z74=\"\",\"\",報告書!Z74)","v":""},{"$f":"IF(報告書!AA74=\"\",\"\",報告書!AA74)","v":""},{"$f":"IF(報告書!AB74=\"\",\"\",報告書!AB74)","v":""},{"$f":"IF(報告書!AC74=\"\",\"\",報告書!AC74)","v":""},{"$f":"IF(報告書!AD74=\"\",\"\",報告書!AD74)","v":""},{"$f":"IF(報告書!AE74=\"\",\"\",報告書!AE74)","v":""},{"$f":"IF(報告書!AF74=\"\",\"\",報告書!AF74)","v":""},{"$f":"IF(報告書!AG74=\"\",\"\",報告書!AG74)","v":""},{"$f":"IF(報告書!AH74=\"\",\"\",報告書!AH74)","v":""},{"$f":"IF(報告書!AI74=\"\",\"\",報告書!AI74)","v":""},{"$f":"IF(報告書!AJ74=\"\",\"\",報告書!AJ74)","v":""},{"$f":"IF(報告書!AK74=\"\",\"\",報告書!AK74)","v":""},{"$f":"IF(報告書!AL74=\"\",\"\",報告書!AL74)","v":""},{"$f":"IF(報告書!AM74=\"\",\"\",報告書!AM74)","v":""},{"$f":"IF(報告書!AN74=\"\",\"\",報告書!AN74)","v":""},{"$f":"IF(報告書!AO74=\"\",\"\",報告書!AO74)","v":""},{"$f":"IF(報告書!AP74=\"\",\"\",報告書!AP74)","v":""},{"$f":"IF(報告書!AQ74=\"\",\"\",報告書!AQ74)","v":""},{"$f":"IF(報告書!AR74=\"\",\"\",報告書!AR74)","v":""},{"$f":"IF(報告書!AS74=\"\",\"\",報告書!AS74)","v":""},{"$f":"IF(報告書!AT74=\"\",\"\",報告書!AT74)","v":""}]
[]
[]
[null,"【5．不具合の発生状況】",{"$nulls":55},"換気（有）","換気（無）","排煙（有）","排煙（無）","非照（有）","非照（無）","水（有）","水（無）"]
[null,null,"【イ．不具合】",{"$nulls":8},{"$f":"BF94","v":""},"有",null,{"$f":"BG94","v":""},"無",{"$nulls":40},"【イ．不具合】",{"$f":"報告書!L199","v":0},{"$f":"報告書!O199","v":0},{"$f":"報告書!L276","v":0},{"$f":"報告書!O276","v":0},{"$f":"報告書!L357","v":0},{"$f":"報告書!O357","v":0},{"$f":"報告書!L437","v":0},{"$f":"報告書!O437","v":0}]
[null,null,"【ロ．不具合記録】",{"$nulls":8},{"$f":"BF95","v":""},"有",null,{"$f":"BG95","v":""},"無",{"$nulls":40},"【ロ．不具合記録】",{"$f":"報告書!L200","v":0},{"$f":"報告書!O200","v":0},{"$f":"報告書!L277","v":0},{"$f":"報告書!O277","v":0},{"$f":"報告書!L358","v":0},{"$f":"報告書!O358","v":0},{"$f":"報告書!L438","v":0},{"$f":"報告書!O438","v":0}]
[null,null,"【ハ．不具合の概要】",{"$nulls":53},"【ニ．改善の状況】",{"$f":"報告書!L201","v":0},{"$f":"報告書!AL201","v":0},{"$f":"報告書!L278","v":0},{"$f":"報告書!AL278","v":0},{"$f":"報告書!L359","v":0},{"$f":"報告書!AL359","v":0},{"$f":"報告書!L439","v":0},{"$f":"報告書!AL439","v":0}]
{"$rows_empty":7}
[{"$nulls":13},""]
[{"$nulls":13},""]
[null,null,"【ニ．改善の状況】",{"$nulls":8},{"$f":"BF96","v":""},"実施済",{"$nulls":3},{"$f":"BF97","v":""},"改善予定",{"$nulls":5},"（令和",{"$f":"BH97","v":0},null,"年",{"$f":"BI97","v":0},null,"月に改善予定）",{"$nulls":26},"改善予定",{"$f":"報告書!Q201","v":0},{"$f":"IF(OR(BF91=0,BG91=0),\"\",VALUE(BF91&0&BG91))","v":""},{"$f":"報告書!Q278","v":0},{"$f":"IF(OR(BH91=0,BI91=0),\"\",VALUE(BH91&0&BI91))","v":""},{"$f":"報告書!Q359","v":0},{"$f":"IF(OR(BJ91=0,BK91=0),\"\",VALUE(BJ91&0&BK91))","v":""},{"$f":"報告書!Q439","v":0},{"$f":"IF(OR(BL91=0,BM91=0),\"\",VALUE(BL91&0&BM91))","v":""}]
[{"$nulls":11},{"$f":"BG96","v":""},"予定なし",{"$nulls":6},"（理由：",{"$nulls":24},"）",{"$nulls":11},"年月",{"$f":"報告書!Y201","v":0},{"$f":"報告書!AB201","v":0},{"$f":"報告書!Y278","v":0},{"$f":"報告書!AB278","v":0},{"$f":"報告書!Y359","v":0},{"$f":"報告書!AB359","v":0},{"$f":"報告書!Y439","v":0},{"$f":"報告書!AB439","v":0}]
[]
[]
[{"$nulls":56},"【イ．不具合】",{"$f":"IF(OR(BF78=\"レ\",BH78=\"レ\",BJ78=\"レ\",BL78=\"レ\"),\"レ\",\"\")","v":""},{"$f":"IF(BF94=\"レ\",\"\",IF(OR(BG78=\"レ\",BI78=\"レ\",BK78=\"レ\",BM78=\"レ\"),\"レ\",\"\"))","v":""}]
[{"$nulls":56},"【ロ．不具合記録】",{"$f":"IF(OR(BF79=\"レ\",BH79=\"レ\",BJ79=\"レ\",BL79=\"レ\"),\"レ\",\"\")","v":""},{"$f":"IF(BF95=\"レ\",\"\",IF(OR(BG79=\"レ\",BI79=\"レ\",BK79=\"レ\",BM79=\"レ\"),\"レ\",\"\"))","v":""}]
[null,"（第二面）",{"$nulls":54},"【ニ．改善の状況】",{"$f":"IF(OR(BG96=\"レ\",BF97=\"レ\"),\"\",IF(OR(BF80=\"レ\",BH80=\"レ\",BJ80=\"レ\",BL80=\"レ\"),\"レ\",\"\"))","v":""},{"$f":"IF(OR(BG80=\"レ\",BI80=\"レ\",BK80=\"レ\",BM80=\"レ\"),\"レ\",\"\")","v":""}]
[null,"建築設備の状況等",{"$nulls":54},"改善予定＆年月",{"$f":"IF(BG96=\"レ\",\"\",IF(OR(BF90=\"レ\",BH90=\"レ\",BJ90=\"レ\",BL90=\"レ\"),\"レ\",\"\"))","v":""},{"$f":"MIN($BG$90,$BI$90,$BK$90,$BM$90)","v":0},{"$f":"IF(BG96=\"レ\",\"\",VALUE(LEFT(BG97,2)))","v":0},{"$f":"IF(BG96=\"レ\",\"\",VALUE(RIGHT(BG97,2)))","v":0}]
[]
[]
[null,"【1．建築物の概要】"]
[null,null,"【イ．階数】",{"$nulls":9},"地上",null,null,{"$f":"IF(報告書!N63=\"\",\"\",IF(報告書!P101=\"\",\"\",報告書!P101))","v":""},null,"階",null,null,"地下",null,null,{"$f":"IF(報告書!N63=\"\",\"\",IF(報告書!X101=\"\",\"\",報告書!X101))","v":""},null,"階"]
[null,null,"【ロ．建築面積】",{"$nulls":9},{"$f":"IF(報告書!N63=\"\",\"\",IF(報告書!M102=\"\",\"\",報告書!M102))","v":""},null,{"$f":"IF(報告書!O102=\"\",\"\",報告書!O102)","v":""},null,{"$f":"IF(報告書!Q102=\"\",\"\",報告書!Q102)","v":""},null,{"$f":"IF(報告書!S102=\"\",\"\",報告書!S102)","v":""},null,"㎡"]
[null,null,"【ハ．延べ面積】",{"$nulls":9},{"$f":"IF(報告書!N63=\"\",\"\",IF(報告書!M103=\"\",\"\",報告書!M103))","v":""},null,{"$f":"IF(報告書!O103=\"\",\"\",報告書!O103)","v":""},null,{"$f":"IF(報告書!Q103=\"\",\"\",報告書!Q103)","v":""},null,{"$f":"IF(報告書!S103=\"\",\"\",報告書!S103)","v":""},null,"㎡",null,null,{"$f":"IF(報告書!N63=\"\",\"\",IF(報告書!X103=\"\",\"\",報告書!X103))","v":""}]
[null,null,"【ニ．検査対象建築設備】",{"$nulls":11},{"$f":"IF(報告書!N63=\"\",\"\",報告書!O104)","v":""},"換気設備",{"$nulls":5},{"$f":"IF(報告書!N63=\"\",\"\",報告書!V104)","v":""},"排煙設備",{"$nulls":5},{"$f":"IF(報告書!N63=\"\",\"\",報告書!AC104)","v":""},"非常用の照明装置"]
[{"$nulls":14},{"$f":"IF(報告書!N63=\"\",\"\",報告書!O105)","v":""},"給水設備及び排水設備"]
[]
[]
[]
[]
[]
[null,"【2．確認済証交付年月日等】"]
[null,null,"【イ．確認済証交付年月日】",{"$nulls":16},{"$f":"IF(報告書!N63=\"\",\"\",報告書!T112:U112)","v":""},null,{"$f":"IF(報告書!N63=\"\",\"\",IF(報告書!V112=\"\",\"\",報告書!V112))","v":""},null,"年",{"$f":"IF(報告書!N63=\"\",\"\",IF(報告書!Y112=\"\",\"\",報告書!Y112))","v":""},null,"月",{"$f":"IF(報告書!N63=\"\",\"\",IF(報告書!AB112=\"\",\"\",報告書!AB112))","v":""},null,"日",null,"第",{"$f":"IF(報告書!N63=\"\",\"\",IF(報告書!AG112=\"\",\"\",報告書!AG112))","v":""},null,{"$f":"IF(報告書!AI112=\"\",\"\",報告書!AI112)","v":""},null,{"$f":"IF(報告書!AK112=\"\",\"\",報告書!AK112)","v":""},null,{"$f":"IF(報告書!AM112=\"\",\"\",報告書!AM112)","v":""},null,"号"]
[null,null,"【ロ．確認済証交付者】",{"$nulls":13},{"$f":"IF(報告書!N63=\"\",\"\",報告書!Q113)","v":""},"建築主事",{"$nulls":4},{"$f":"IF(報告書!N63=\"\",\"\",報告書!W113)","v":""},"指定確認検査機関 （",{"$nulls":8},{"$f":"IF(報告書!N63=\"\",\"\",IF(報告書!AG113=\"\",\"\",報告書!AG113))","v":""},{"$nulls":10},"）"]
[null,null,"【ハ．検査済証交付年月日】",{"$nulls":16},{"$f":"IF(報告書!N63=\"\",\"\",報告書!T114:U114)","v":""},null,{"$f":"IF(報告書!N63=\"\",\"\",IF(報告書!V114=\"\",\"\",報告書!V114))","v":""},null,"年",{"$f":"IF(報告書!N63=\"\",\"\",IF(報告書!Y114=\"\",\"\",報告書!Y114))","v":""},null,"月",{"$f":"IF(報告書!N63=\"\",\"\",IF(報告書!AB114=\"\",\"\",報告書!AB114))","v":""},null,"日",null,"第",{"$f":"IF(報告書!N63=\"\",\"\",IF(報告書!AG114=\"\",\"\",報告書!AG114))","v":""},null,{"$f":"IF(報告書!AI114=\"\",\"\",報告書!AI114)","v":""},null,{"$f":"IF(報告書!AK114=\"\",\"\",報告書!AK114)","v":""},null,{"$f":"IF(報告書!AM114=\"\",\"\",報告書!AM114)","v":""},null,"号"]
[null,null,"【ニ．検査済証交付者】",{"$nulls":13},{"$f":"IF(報告書!N63=\"\",\"\",報告書!Q115)","v":""},"建築主事",{"$nulls":4},{"$f":"IF(報告書!N63=\"\",\"\",報告書!W115)","v":""},"指定確認検査機関 （",{"$nulls":8},{"$f":"IF(報告書!N63=\"\",\"\",IF(報告書!AG115=\"\",\"\",報告書!AG115))","v":""},{"$nulls":10},"）"]
[]
[]
[]
[]
[]
[null,"【3．検査日等】"]
[null,null,"【イ．今回の検査】",{"$nulls":13},"令和",{"$f":"IF(報告書!N63=\"\",\"\",IF(報告書!R122=\"\",\"\",報告書!R122))","v":""},null,"年",{"$f":"IF(報告書!N63=\"\",\"\",IF(報告書!U122=\"\",\"\",報告書!U122))","v":""},null,"月",{"$f":"IF(報告書!N63=\"\",\"\",IF(報告書!X122=\"\",\"\",報告書!X122))","v":""},null,"日実施"]
[null,null,"【ロ．前回の検査】",{"$nulls":8},{"$f":"IF(報告書!N63=\"\",\"\",報告書!L123)","v":""},"実施（",null,null,{"$f":"IF(報告書!N63=\"\",\"\",報告書!P123:Q123)","v":""},null,{"$f":"IF(報告書!N63=\"\",\"\",IF(報告書!R123=\"\",\"\",報告書!R123))","v":""},null,"年",{"$f":"IF(報告書!N63=\"\",\"\",IF(報告書!U123=\"\",\"\",報告書!U123))","v":""},null,"月",{"$f":"IF(報告書!N63=\"\",\"\",IF(報告書!X123=\"\",\"\",報告書!X123))","v":""},null,"日報告）",{"$nulls":4},{"$f":"IF(報告書!N63=\"\",\"\",報告書!AE123)","v":""},"未実施"]
[null,null,"【ハ．前回の検査に関する書類の写し】",{"$nulls":17},{"$f":"IF(報告書!N63=\"\",\"\",報告書!U124)","v":""},"有",null,{"$f":"IF(報告書!N63=\"\",\"\",報告書!X124)","v":""},"無"]
[]
[]
[]
[]
[]
[null,"【4．換気設備の検査者】",{"$nulls":52},{"$f":"IF($N$136=\"\",\"\",BD130)","v":""},"4.換気設備(代表となる検査者)と同じ"]
[null," （代表となる検査者）",{"$nulls":52},{"$f":"IF($N$147=\"\",\"\",BD131)","v":""},"4.換気設備(その他の検査者)と同じ"]
[null,null,"【イ．資格】",{"$nulls":6},"（",{"$f":"IF(報告書_換気_要是正の指摘あり=\"\",\"\",IF(報告書!K132=\"\",\"\",報告書!K132))","v":""},null," ）建築士",{"$nulls":9},"（",{"$f":"IF(報告書_換気_要是正の指摘あり=\"\",\"\",IF(報告書!X132=\"\",\"\",報告書!X132))","v":""},{"$nulls":5},"）登録第",{"$nulls":3},{"$f":"IF(報告書_換気_要是正の指摘あり=\"\",\"\",IF(報告書!AH132=\"\",\"\",報告書!AH132))","v":""},{"$nulls":6},"号",{"$nulls":13},{"$f":"IF($N$158=\"\",\"\",BD132)","v":""},"4.換気設備(その他の検査者２)と同じ"]
[{"$nulls":9},"建築設備検査員",{"$nulls":22},"第",{"$f":"IF(報告書_換気_要是正の指摘あり=\"\",\"\",IF(報告書!AH133=\"\",\"\",報告書!AH133))","v":""},{"$nulls":6},"号",{"$nulls":13},{"$f":"IF($N$218=\"\",\"\",BD133)","v":""},"8.排煙設備(代表となる検査者)と同じ"]
[{"$nulls":9},"登録建築設備検査資格者講習を修了した者",{"$nulls":22},"第",{"$f":"IF(報告書_換気_要是正の指摘あり=\"\",\"\",IF(報告書!AH134=\"\",\"\",報告書!AH134))","v":""},{"$nulls":6},"号",{"$nulls":13},{"$f":"IF($N$229=\"\",\"\",BD134)","v":""},"8.排煙設備(その他の検査者)と同じ"]
[null,null,"【ロ．氏名のフリガナ】",{"$nulls":10},{"$f":"IF(報告書_換気_要是正の指摘あり=\"\",\"\",IF(報告書!N135=\"\",\"\",報告書!N135))","v":""},{"$f":"IF(報告書!O135=\"\",\"\",報告書!O135)","v":"ﾀｹﾀﾞﾃﾂﾔ"},{"$f":"IF(報告書!P135=\"\",\"\",報告書!P135)","v":"ﾀｹﾀﾞﾃﾂﾔ"},{"$f":"IF(報告書!Q135=\"\",\"\",報告書!Q135)","v":"ﾀｹﾀﾞﾃﾂﾔ"},{"$f":"IF(報告書!R135=\"\",\"\",報告書!R135)","v":"ﾀｹﾀﾞﾃﾂﾔ"},{"$f":"IF(報告書!S135=\"\",\"\",報告書!S135)","v":"ﾀｹﾀﾞﾃﾂﾔ"},{"$f":"IF(報告書!T135=\"\",\"\",報告書!T135)","v":"ﾀｹﾀﾞﾃﾂﾔ"},{"$f":"IF(報告書!U135=\"\",\"\",報告書!U135)","v":"ﾀｹﾀﾞﾃﾂﾔ"},{"$f":"IF(報告書!V135=\"\",\"\",報告書!V135)","v":"ﾀｹﾀﾞﾃﾂﾔ"},{"$f":"IF(報告書!W135=\"\",\"\",報告書!W135)","v":"ﾀｹﾀﾞﾃﾂﾔ"},{"$f":"IF(報告書!X135=\"\",\"\",報告書!X135)","v":"ﾀｹﾀﾞﾃﾂﾔ"},{"$f":"IF(報告書!Y135=\"\",\"\",報告書!Y135)","v":"ﾀｹﾀﾞﾃﾂﾔ"},{"$f":"IF(報告書!Z135=\"\",\"\",報告書!Z135)","v":"ﾀｹﾀﾞﾃﾂﾔ"},{"$f":"IF(報告書!AA135=\"\",\"\",報告書!AA135)","v":"ﾀｹﾀﾞﾃﾂﾔ"},{"$f":"IF(報告書!AB135=\"\",\"\",報告書!AB135)","v":"ﾀｹﾀﾞﾃﾂﾔ"},{"$f":"IF(報告書!AC135=\"\",\"\",報告書!AC135)","v":"ﾀｹﾀﾞﾃﾂﾔ"},{"$f":"IF(報告書!AD135=\"\",\"\",報告書!AD135)","v":"ﾀｹﾀﾞﾃﾂﾔ"},{"$f":"IF(報告書!AE135=\"\",\"\",報告書!AE135)","v":"ﾀｹﾀﾞﾃﾂﾔ"},{"$f":"IF(報告書!AF135=\"\",\"\",報告書!AF135)","v":"ﾀｹﾀﾞﾃﾂﾔ"},{"$f":"IF(報告書!AG135=\"\",\"\",報告書!AG135)","v":"ﾀｹﾀﾞﾃﾂﾔ"},{"$f":"IF(報告書!AH135=\"\",\"\",報告書!AH135)","v":"ﾀｹﾀﾞﾃﾂﾔ"},{"$f":"IF(報告書!AI135=\"\",\"\",報告書!AI135)","v":"ﾀｹﾀﾞﾃﾂﾔ"},{"$f":"IF(報告書!AJ135=\"\",\"\",報告書!AJ135)","v":"ﾀｹﾀﾞﾃﾂﾔ"},{"$f":"IF(報告書!AK135=\"\",\"\",報告書!AK135)","v":"ﾀｹﾀﾞﾃﾂﾔ"},{"$f":"IF(報告書!AL135=\"\",\"\",報告書!AL135)","v":"ﾀｹﾀﾞﾃﾂﾔ"},{"$f":"IF(報告書!AM135=\"\",\"\",報告書!AM135)","v":"ﾀｹﾀﾞﾃﾂﾔ"},{"$f":"IF(報告書!AN135=\"\",\"\",報告書!AN135)","v":"ﾀｹﾀﾞﾃﾂﾔ"},{"$f":"IF(報告書!AO135=\"\",\"\",報告書!AO135)","v":"ﾀｹﾀﾞﾃﾂﾔ"},{"$f":"IF(報告書!AP135=\"\",\"\",報告書!AP135)","v":"ﾀｹﾀﾞﾃﾂﾔ"},{"$f":"IF(報告書!AQ135=\"\",\"\",報告書!AQ135)","v":"ﾀｹﾀﾞﾃﾂﾔ"},{"$f":"IF(報告書!AR135=\"\",\"\",報告書!AR135)","v":"ﾀｹﾀﾞﾃﾂﾔ"},{"$f":"IF(報告書!AS135=\"\",\"\",報告書!AS135)","v":"ﾀｹﾀﾞﾃﾂﾔ"},{"$f":"IF(報告書!AT135=\"\",\"\",報告書!AT135)","v":"ﾀｹﾀﾞﾃﾂﾔ"},{"$nulls":8},{"$f":"IF($N$240=\"\",\"\",BD135)","v":""},"8.排煙設備(その他の検査者２)と同じ"]
[null,null,"【ハ．氏名】",{"$nulls":10},{"$f":"IF(報告書_換気_要是正の指摘あり=\"\",\"\",IF(報告書!N136=\"\",\"\",報告書!N136))","v":""},{"$f":"IF(報告書!O136=\"\",\"\",報告書!O136)","v":""},{"$f":"IF(報告書!P136=\"\",\"\",報告書!P136)","v":""},{"$f":"IF(報告書!Q136=\"\",\"\",報告書!Q136)","v":""},{"$f":"IF(報告書!R136=\"\",\"\",報告書!R136)","v":""},{"$f":"IF(報告書!S136=\"\",\"\",報告書!S136)","v":""},{"$f":"IF(報告書!T136=\"\",\"\",報告書!T136)","v":""},{"$f":"IF(報告書!U136=\"\",\"\",報告書!U136)","v":""},{"$f":"IF(報告書!V136=\"\",\"\",報告書!V136)","v":""},{"$f":"IF(報告書!W136=\"\",\"\",報告書!W136)","v":""},{"$f":"IF(報告書!X136=\"\",\"\",報告書!X136)","v":""},{"$f":"IF(報告書!Y136=\"\",\"\",報告書!Y136)","v":""},{"$f":"IF(報告書!Z136=\"\",\"\",報告書!Z136)","v":""},{"$f":"IF(報告書!AA136=\"\",\"\",報告書!AA136)","v":""},{"$f":"IF(報告書!AB136=\"\",\"\",報告書!AB136)","v":""},{"$f":"IF(報告書!AC136=\"\",\"\",報告書!AC136)","v":""},{"$f":"IF(報告書!AD136=\"\",\"\",報告書!AD136)","v":""},{"$f":"IF(報告書!AE136=\"\",\"\",報告書!AE136)","v":""},{"$f":"IF(報告書!AF136=\"\",\"\",報告書!AF136)","v":""},{"$f":"IF(報告書!AG136=\"\",\"\",報告書!AG136)","v":""},{"$f":"IF(報告書!AH136=\"\",\"\",報告書!AH136)","v":""},{"$f":"IF(報告書!AI136=\"\",\"\",報告書!AI136)","v":""},{"$f":"IF(報告書!AJ136=\"\",\"\",報告書!AJ136)","v":""},{"$f":"IF(報告書!AK136=\"\",\"\",報告書!AK136)","v":""},{"$f":"IF(報告書!AL136=\"\",\"\",報告書!AL136)","v":""},{"$f":"IF(報告書!AM136=\"\",\"\",報告書!AM136)","v":""},{"$f":"IF(報告書!AN136=\"\",\"\",報告書!AN136)","v":""},{"$f":"IF(報告書!AO136=\"\",\"\",報告書!AO136)","v":""},{"$f":"IF(報告書!AP136=\"\",\"\",報告書!AP136)","v":""},{"$f":"IF(報告書!AQ136=\"\",\"\",報告書!AQ136)","v":""},{"$f":"IF(報告書!AR136=\"\",\"\",報告書!AR136)","v":""},{"$f":"IF(報告書!AS136=\"\",\"\",報告書!AS136)","v":""},{"$f":"IF(報告書!AT136=\"\",\"\",報告書!AT136)","v":""},{"$nulls":8},{"$f":"IF($N$295=\"\",\"\",BD136)","v":""},"12.非常用の照明装置(代表となる検査者)と同じ"]
[null,null,"【ニ．勤務先】",{"$nulls":10},{"$f":"IF(報告書_換気_要是正の指摘あり=\"\",\"\",IF(報告書!N137=\"\",\"\",報告書!N137))","v":""},{"$f":"IF(報告書!O137=\"\",\"\",報告書!O137)","v":""},{"$f":"IF(報告書!P137=\"\",\"\",報告書!P137)","v":""},{"$f":"IF(報告書!Q137=\"\",\"\",報告書!Q137)","v":""},{"$f":"IF(報告書!R137=\"\",\"\",報告書!R137)","v":""},{"$f":"IF(報告書!S137=\"\",\"\",報告書!S137)","v":""},{"$f":"IF(報告書!T137=\"\",\"\",報告書!T137)","v":""},{"$f":"IF(報告書!U137=\"\",\"\",報告書!U137)","v":""},{"$f":"IF(報告書!V137=\"\",\"\",報告書!V137)","v":""},{"$f":"IF(報告書!W137=\"\",\"\",報告書!W137)","v":""},{"$f":"IF(報告書!X137=\"\",\"\",報告書!X137)","v":""},{"$f":"IF(報告書!Y137=\"\",\"\",報告書!Y137)","v":""},{"$f":"IF(報告書!Z137=\"\",\"\",報告書!Z137)","v":""},{"$f":"IF(報告書!AA137=\"\",\"\",報告書!AA137)","v":""},{"$f":"IF(報告書!AB137=\"\",\"\",報告書!AB137)","v":""},{"$f":"IF(報告書!AC137=\"\",\"\",報告書!AC137)","v":""},{"$f":"IF(報告書!AD137=\"\",\"\",報告書!AD137)","v":""},{"$f":"IF(報告書!AE137=\"\",\"\",報告書!AE137)","v":""},{"$f":"IF(報告書!AF137=\"\",\"\",報告書!AF137)","v":""},{"$f":"IF(報告書!AG137=\"\",\"\",報告書!AG137)","v":""},{"$f":"IF(報告書!AH137=\"\",\"\",報告書!AH137)","v":""},{"$f":"IF(報告書!AI137=\"\",\"\",報告書!AI137)","v":""},{"$f":"IF(報告書!AJ137=\"\",\"\",報告書!AJ137)","v":""},{"$f":"IF(報告書!AK137=\"\",\"\",報告書!AK137)","v":""},{"$f":"IF(報告書!AL137=\"\",\"\",報告書!AL137)","v":""},{"$f":"IF(報告書!AM137=\"\",\"\",報告書!AM137)","v":""},{"$f":"IF(報告書!AN137=\"\",\"\",報告書!AN137)","v":""},{"$f":"IF(報告書!AO137=\"\",\"\",報告書!AO137)","v":""},{"$f":"IF(報告書!AP137=\"\",\"\",報告書!AP137)","v":""},{"$f":"IF(報告書!AQ137=\"\",\"\",報告書!AQ137)","v":""},{"$f":"IF(報告書!AR137=\"\",\"\",報告書!AR137)","v":""},{"$f":"IF(報告書!AS137=\"\",\"\",報告書!AS137)","v":""},{"$f":"IF(報告書!AT137=\"\",\"\",報告書!AT137)","v":""},{"$nulls":8},{"$f":"IF($N$306=\"\",\"\",BD137)","v":""},"12.非常用の照明装置(その他の検査者)と同じ"]
[{"$nulls":9},"（",{"$f":"IF(報告書_換気_要是正の指摘あり=\"\",\"\",IF(報告書!K138=\"\",\"\",報告書!K138))","v":""},null," ）建築士事務所",{"$nulls":9},"（",{"$f":"IF(報告書_換気_要是正の指摘あり=\"\",\"\",IF(報告書!X138=\"\",\"\",報告書!X138))","v":""},{"$nulls":3},"）知事登録第",{"$nulls":5},{"$f":"IF(報告書_換気_要是正の指摘あり=\"\",\"\",IF(報告書!AH138=\"\",\"\",報告書!AH138))","v":""},{"$nulls":6},"号",{"$nulls":13},{"$f":"IF($N$317=\"\",\"\",BD138)","v":""},"12.非常用の照明装置(その他の検査者２)と同じ"]
[null,null,"【ホ．郵便番号】",{"$nulls":10},{"$f":"IF(報告書_換気_要是正の指摘あり=\"\",\"\",IF(報告書!N139=\"\",\"\",報告書!N139))","v":""},{"$f":"IF(報告書!O139=\"\",\"\",報告書!O139)","v":""},{"$f":"IF(報告書!P139=\"\",\"\",報告書!P139)","v":""},{"$f":"IF(報告書!Q139=\"\",\"\",報告書!Q139)","v":""},{"$f":"IF(報告書!R139=\"\",\"\",報告書!R139)","v":""},{"$f":"IF(報告書!S139=\"\",\"\",報告書!S139)","v":""},{"$f":"IF(報告書!T139=\"\",\"\",報告書!T139)","v":""},{"$f":"IF(報告書!U139=\"\",\"\",報告書!U139)","v":""},{"$f":"IF(報告書!V139=\"\",\"\",報告書!V139)","v":""}]
[null,null,"【ヘ．所在地】",{"$nulls":10},{"$f":"IF(報告書_換気_要是正の指摘あり=\"\",\"\",IF(報告書!N140=\"\",\"\",報告書!N140))","v":""},{"$f":"IF(報告書!O140=\"\",\"\",報告書!O140)","v":""},{"$f":"IF(報告書!P140=\"\",\"\",報告書!P140)","v":""},{"$f":"IF(報告書!Q140=\"\",\"\",報告書!Q140)","v":""},{"$f":"IF(報告書!R140=\"\",\"\",報告書!R140)","v":""},{"$f":"IF(報告書!S140=\"\",\"\",報告書!S140)","v":""},{"$f":"IF(報告書!T140=\"\",\"\",報告書!T140)","v":""},{"$f":"IF(報告書!U140=\"\",\"\",報告書!U140)","v":""},{"$f":"IF(報告書!V140=\"\",\"\",報告書!V140)","v":""},{"$f":"IF(報告書!W140=\"\",\"\",報告書!W140)","v":""},{"$f":"IF(報告書!X140=\"\",\"\",報告書!X140)","v":""},{"$f":"IF(報告書!Y140=\"\",\"\",報告書!Y140)","v":""},{"$f":"IF(報告書!Z140=\"\",\"\",報告書!Z140)","v":""},{"$f":"IF(報告書!AA140=\"\",\"\",報告書!AA140)","v":""},{"$f":"IF(報告書!AB140=\"\",\"\",報告書!AB140)","v":""},{"$f":"IF(報告書!AC140=\"\",\"\",報告書!AC140)","v":""},{"$f":"IF(報告書!AD140=\"\",\"\",報告書!AD140)","v":""},{"$f":"IF(報告書!AE140=\"\",\"\",報告書!AE140)","v":""},{"$f":"IF(報告書!AF140=\"\",\"\",報告書!AF140)","v":""},{"$f":"IF(報告書!AG140=\"\",\"\",報告書!AG140)","v":""},{"$f":"IF(報告書!AH140=\"\",\"\",報告書!AH140)","v":""},{"$f":"IF(報告書!AI140=\"\",\"\",報告書!AI140)","v":""},{"$f":"IF(報告書!AJ140=\"\",\"\",報告書!AJ140)","v":""},{"$f":"IF(報告書!AK140=\"\",\"\",報告書!AK140)","v":""},{"$f":"IF(報告書!AL140=\"\",\"\",報告書!AL140)","v":""},{"$f":"IF(報告書!AM140=\"\",\"\",報告書!AM140)","v":""},{"$f":"IF(報告書!AN140=\"\",\"\",報告書!AN140)","v":""},{"$f":"IF(報告書!AO140=\"\",\"\",報告書!AO140)","v":""},{"$f":"IF(報告書!AP140=\"\",\"\",報告書!AP140)","v":""},{"$f":"IF(報告書!AQ140=\"\",\"\",報告書!AQ140)","v":""},{"$f":"IF(報告書!AR140=\"\",\"\",報告書!AR140)","v":""},{"$f":"IF(報告書!AS140=\"\",\"\",報告書!AS140)","v":""},{"$f":"IF(報告書!AT140=\"\",\"\",報告書!AT140)","v":""}]
[null,null,"【ト．電話番号】",{"$nulls":10},{"$f":"IF(報告書_換気_要是正の指摘あり=\"\",\"\",IF(報告書!N141=\"\",\"\",報告書!N141))","v":""},{"$f":"IF(報告書!O141=\"\",\"\",報告書!O141)","v":""},{"$f":"IF(報告書!P141=\"\",\"\",報告書!P141)","v":""},{"$f":"IF(報告書!Q141=\"\",\"\",報告書!Q141)","v":""},{"$f":"IF(報告書!R141=\"\",\"\",報告書!R141)","v":""},{"$f":"IF(報告書!S141=\"\",\"\",報告書!S141)","v":""},{"$f":"IF(報告書!T141=\"\",\"\",報告書!T141)","v":""},{"$f":"IF(報告書!U141=\"\",\"\",報告書!U141)","v":""},{"$f":"IF(報告書!V141=\"\",\"\",報告書!V141)","v":""},{"$f":"IF(報告書!W141=\"\",\"\",報告書!W141)","v":""},{"$f":"IF(報告書!X141=\"\",\"\",報告書!X141)","v":""},{"$f":"IF(報告書!Y141=\"\",\"\",報告書!Y141)","v":""},{"$f":"IF(報告書!Z141=\"\",\"\",報告書!Z141)","v":""},{"$f":"IF(報告書!AA141=\"\",\"\",報告書!AA141)","v":""},{"$f":"IF(報告書!AB141=\"\",\"\",報告書!AB141)","v":""},{"$f":"IF(報告書!AC141=\"\",\"\",報告書!AC141)","v":""},{"$f":"IF(報告書!AD141=\"\",\"\",報告書!AD141)","v":""}]
[null," （その他の検査者）"]
[null,null,"【イ．資格】",{"$nulls":6},"（",{"$f":"IF(報告書_換気_要是正の指摘あり=\"\",\"\",IF(報告書!K143=\"\",\"\",報告書!K143))","v":""},null," ）建築士",{"$nulls":9},"（",{"$f":"IF(報告書_換気_要是正の指摘あり=\"\",\"\",IF(報告書!X143=\"\",\"\",報告書!X143))","v":""},{"$nulls":5},"）登録第",{"$nulls":3},{"$f":"IF(報告書_換気_要是正の指摘あり=\"\",\"\",IF(報告書!AH143=\"\",\"\",報告書!AH143))","v":""},{"$nulls":6},"号"]
[{"$nulls":9},"建築設備検査員",{"$nulls":22},"第",{"$f":"IF(報告書_換気_要是正の指摘あり=\"\",\"\",IF(報告書!AH144=\"\",\"\",報告書!AH144))","v":""},{"$nulls":6},"号"]
[{"$nulls":9},"登録建築設備検査資格者講習を修了した者",{"$nulls":22},"第",{"$f":"IF(報告書_換気_要是正の指摘あり=\"\",\"\",IF(報告書!AH145=\"\",\"\",報告書!AH145))","v":""},{"$nulls":6},"号"]
[null,null,"【ロ．氏名のフリガナ】",{"$nulls":10},{"$f":"IF(報告書_換気_要是正の指摘あり=\"\",\"\",IF(報告書!N146=\"\",\"\",報告書!N146))","v":""},{"$f":"IF(報告書!O146=\"\",\"\",報告書!O146)","v":""},{"$f":"IF(報告書!P146=\"\",\"\",報告書!P146)","v":""},{"$f":"IF(報告書!Q146=\"\",\"\",報告書!Q146)","v":""},{"$f":"IF(報告書!R146=\"\",\"\",報告書!R146)","v":""},{"$f":"IF(報告書!S146=\"\",\"\",報告書!S146)","v":""},{"$f":"IF(報告書!T146=\"\",\"\",報告書!T146)","v":""},{"$f":"IF(報告書!U146=\"\",\"\",報告書!U146)","v":""},{"$f":"IF(報告書!V146=\"\",\"\",報告書!V146)","v":""},{"$f":"IF(報告書!W146=\"\",\"\",報告書!W146)","v":""},{"$f":"IF(報告書!X146=\"\",\"\",報告書!X146)","v":""},{"$f":"IF(報告書!Y146=\"\",\"\",報告書!Y146)","v":""},{"$f":"IF(報告書!Z146=\"\",\"\",報告書!Z146)","v":""},{"$f":"IF(報告書!AA146=\"\",\"\",報告書!AA146)","v":""},{"$f":"IF(報告書!AB146=\"\",\"\",報告書!AB146)","v":""},{"$f":"IF(報告書!AC146=\"\",\"\",報告書!AC146)","v":""},{"$f":"IF(報告書!AD146=\"\",\"\",報告書!AD146)","v":""},{"$f":"IF(報告書!AE146=\"\",\"\",報告書!AE146)","v":""},{"$f":"IF(報告書!AF146=\"\",\"\",報告書!AF146)","v":""},{"$f":"IF(報告書!AG146=\"\",\"\",報告書!AG146)","v":""},{"$f":"IF(報告書!AH146=\"\",\"\",報告書!AH146)","v":""},{"$f":"IF(報告書!AI146=\"\",\"\",報告書!AI146)","v":""},{"$f":"IF(報告書!AJ146=\"\",\"\",報告書!AJ146)","v":""},{"$f":"IF(報告書!AK146=\"\",\"\",報告書!AK146)","v":""},{"$f":"IF(報告書!AL146=\"\",\"\",報告書!AL146)","v":""},{"$f":"IF(報告書!AM146=\"\",\"\",報告書!AM146)","v":""},{"$f":"IF(報告書!AN146=\"\",\"\",報告書!AN146)","v":""},{"$f":"IF(報告書!AO146=\"\",\"\",報告書!AO146)","v":""},{"$f":"IF(報告書!AP146=\"\",\"\",報告書!AP146)","v":""},{"$f":"IF(報告書!AQ146=\"\",\"\",報告書!AQ146)","v":""},{"$f":"IF(報告書!AR146=\"\",\"\",報告書!AR146)","v":""},{"$f":"IF(報告書!AS146=\"\",\"\",報告書!AS146)","v":""},{"$f":"IF(報告書!AT146=\"\",\"\",報告書!AT146)","v":""}]
[null,null,"【ハ．氏名】",{"$nulls":10},{"$f":"IF(報告書_換気_要是正の指摘あり=\"\",\"\",IF(報告書!N147=\"\",\"\",報告書!N147))","v":""},{"$f":"IF(報告書!O147=\"\",\"\",報告書!O147)","v":""},{"$f":"IF(報告書!P147=\"\",\"\",報告書!P147)","v":""},{"$f":"IF(報告書!Q147=\"\",\"\",報告書!Q147)","v":""},{"$f":"IF(報告書!R147=\"\",\"\",報告書!R147)","v":""},{"$f":"IF(報告書!S147=\"\",\"\",報告書!S147)","v":""},{"$f":"IF(報告書!T147=\"\",\"\",報告書!T147)","v":""},{"$f":"IF(報告書!U147=\"\",\"\",報告書!U147)","v":""},{"$f":"IF(報告書!V147=\"\",\"\",報告書!V147)","v":""},{"$f":"IF(報告書!W147=\"\",\"\",報告書!W147)","v":""},{"$f":"IF(報告書!X147=\"\",\"\",報告書!X147)","v":""},{"$f":"IF(報告書!Y147=\"\",\"\",報告書!Y147)","v":""},{"$f":"IF(報告書!Z147=\"\",\"\",報告書!Z147)","v":""},{"$f":"IF(報告書!AA147=\"\",\"\",報告書!AA147)","v":""},{"$f":"IF(報告書!AB147=\"\",\"\",報告書!AB147)","v":""},{"$f":"IF(報告書!AC147=\"\",\"\",報告書!AC147)","v":""},{"$f":"IF(報告書!AD147=\"\",\"\",報告書!AD147)","v":""},{"$f":"IF(報告書!AE147=\"\",\"\",報告書!AE147)","v":""},{"$f":"IF(報告書!AF147=\"\",\"\",報告書!AF147)","v":""},{"$f":"IF(報告書!AG147=\"\",\"\",報告書!AG147)","v":""},{"$f":"IF(報告書!AH147=\"\",\"\",報告書!AH147)","v":""},{"$f":"IF(報告書!AI147=\"\",\"\",報告書!AI147)","v":""},{"$f":"IF(報告書!AJ147=\"\",\"\",報告書!AJ147)","v":""},{"$f":"IF(報告書!AK147=\"\",\"\",報告書!AK147)","v":""},{"$f":"IF(報告書!AL147=\"\",\"\",報告書!AL147)","v":""},{"$f":"IF(報告書!AM147=\"\",\"\",報告書!AM147)","v":""},{"$f":"IF(報告書!AN147=\"\",\"\",報告書!AN147)","v":""},{"$f":"IF(報告書!AO147=\"\",\"\",報告書!AO147)","v":""},{"$f":"IF(報告書!AP147=\"\",\"\",報告書!AP147)","v":""},{"$f":"IF(報告書!AQ147=\"\",\"\",報告書!AQ147)","v":""},{"$f":"IF(報告書!AR147=\"\",\"\",報告書!AR147)","v":""},{"$f":"IF(報告書!AS147=\"\",\"\",報告書!AS147)","v":""},{"$f":"IF(報告書!AT147=\"\",\"\",報告書!AT147)","v":""}]
[null,null,"【ニ．勤務先】",{"$nulls":10},{"$f":"IF(報告書_換気_要是正の指摘あり=\"\",\"\",IF(報告書!N148=\"\",\"\",報告書!N148))","v":""},{"$f":"IF(報告書!O148=\"\",\"\",報告書!O148)","v":""},{"$f":"IF(報告書!P148=\"\",\"\",報告書!P148)","v":""},{"$f":"IF(報告書!Q148=\"\",\"\",報告書!Q148)","v":""},{"$f":"IF(報告書!R148=\"\",\"\",報告書!R148)","v":""},{"$f":"IF(報告書!S148=\"\",\"\",報告書!S148)","v":""},{"$f":"IF(報告書!T148=\"\",\"\",報告書!T148)","v":""},{"$f":"IF(報告書!U148=\"\",\"\",報告書!U148)","v":""},{"$f":"IF(報告書!V148=\"\",\"\",報告書!V148)","v":""},{"$f":"IF(報告書!W148=\"\",\"\",報告書!W148)","v":""},{"$f":"IF(報告書!X148=\"\",\"\",報告書!X148)","v":""},{"$f":"IF(報告書!Y148=\"\",\"\",報告書!Y148)","v":""},{"$f":"IF(報告書!Z148=\"\",\"\",報告書!Z148)","v":""},{"$f":"IF(報告書!AA148=\"\",\"\",報告書!AA148)","v":""},{"$f":"IF(報告書!AB148=\"\",\"\",報告書!AB148)","v":""},{"$f":"IF(報告書!AC148=\"\",\"\",報告書!AC148)","v":""},{"$f":"IF(報告書!AD148=\"\",\"\",報告書!AD148)","v":""},{"$f":"IF(報告書!AE148=\"\",\"\",報告書!AE148)","v":""},{"$f":"IF(報告書!AF148=\"\",\"\",報告書!AF148)","v":""},{"$f":"IF(報告書!AG148=\"\",\"\",報告書!AG148)","v":""},{"$f":"IF(報告書!AH148=\"\",\"\",報告書!AH148)","v":""},{"$f":"IF(報告書!AI148=\"\",\"\",報告書!AI148)","v":""},{"$f":"IF(報告書!AJ148=\"\",\"\",報告書!AJ148)","v":""},{"$f":"IF(報告書!AK148=\"\",\"\",報告書!AK148)","v":""},{"$f":"IF(報告書!AL148=\"\",\"\",報告書!AL148)","v":""},{"$f":"IF(報告書!AM148=\"\",\"\",報告書!AM148)","v":""},{"$f":"IF(報告書!AN148=\"\",\"\",報告書!AN148)","v":""},{"$f":"IF(報告書!AO148=\"\",\"\",報告書!AO148)","v":""},{"$f":"IF(報告書!AP148=\"\",\"\",報告書!AP148)","v":""},{"$f":"IF(報告書!AQ148=\"\",\"\",報告書!AQ148)","v":""},{"$f":"IF(報告書!AR148=\"\",\"\",報告書!AR148)","v":""},{"$f":"IF(報告書!AS148=\"\",\"\",報告書!AS148)","v":""},{"$f":"IF(報告書!AT148=\"\",\"\",報告書!AT148)","v":""}]
[{"$nulls":9},"（",{"$f":"IF(報告書_換気_要是正の指摘あり=\"\",\"\",IF(報告書!K149=\"\",\"\",報告書!K149))","v":""},null," ）建築士事務所",{"$nulls":9},"（",{"$f":"IF(報告書_換気_要是正の指摘あり=\"\",\"\",IF(報告書!X149=\"\",\"\",報告書!X149))","v":""},{"$nulls":3},"）知事登録第",{"$nulls":5},{"$f":"IF(報告書_換気_要是正の指摘あり=\"\",\"\",IF(報告書!AH149=\"\",\"\",報告書!AH149))","v":""},{"$nulls":6},"号"]
[null,null,"【ホ．郵便番号】",{"$nulls":10},{"$f":"IF(報告書_換気_要是正の指摘あり=\"\",\"\",IF(報告書!N150=\"\",\"\",報告書!N150))","v":""},{"$f":"IF(報告書!O150=\"\",\"\",報告書!O150)","v":""},{"$f":"IF(報告書!P150=\"\",\"\",報告書!P150)","v":""},{"$f":"IF(報告書!Q150=\"\",\"\",報告書!Q150)","v":""},{"$f":"IF(報告書!R150=\"\",\"\",報告書!R150)","v":""},{"$f":"IF(報告書!S150=\"\",\"\",報告書!S150)","v":""},{"$f":"IF(報告書!T150=\"\",\"\",報告書!T150)","v":""},{"$f":"IF(報告書!U150=\"\",\"\",報告書!U150)","v":""},{"$f":"IF(報告書!V150=\"\",\"\",報告書!V150)","v":""}]
[null,null,"【ヘ．所在地】",{"$nulls":10},{"$f":"IF(報告書_換気_要是正の指摘あり=\"\",\"\",IF(報告書!N151=\"\",\"\",報告書!N151))","v":""},{"$f":"IF(報告書!O151=\"\",\"\",報告書!O151)","v":""},{"$f":"IF(報告書!P151=\"\",\"\",報告書!P151)","v":""},{"$f":"IF(報告書!Q151=\"\",\"\",報告書!Q151)","v":""},{"$f":"IF(報告書!R151=\"\",\"\",報告書!R151)","v":""},{"$f":"IF(報告書!S151=\"\",\"\",報告書!S151)","v":""},{"$f":"IF(報告書!T151=\"\",\"\",報告書!T151)","v":""},{"$f":"IF(報告書!U151=\"\",\"\",報告書!U151)","v":""},{"$f":"IF(報告書!V151=\"\",\"\",報告書!V151)","v":""},{"$f":"IF(報告書!W151=\"\",\"\",報告書!W151)","v":""},{"$f":"IF(報告書!X151=\"\",\"\",報告書!X151)","v":""},{"$f":"IF(報告書!Y151=\"\",\"\",報告書!Y151)","v":""},{"$f":"IF(報告書!Z151=\"\",\"\",報告書!Z151)","v":""},{"$f":"IF(報告書!AA151=\"\",\"\",報告書!AA151)","v":""},{"$f":"IF(報告書!AB151=\"\",\"\",報告書!AB151)","v":""},{"$f":"IF(報告書!AC151=\"\",\"\",報告書!AC151)","v":""},{"$f":"IF(報告書!AD151=\"\",\"\",報告書!AD151)","v":""},{"$f":"IF(報告書!AE151=\"\",\"\",報告書!AE151)","v":""},{"$f":"IF(報告書!AF151=\"\",\"\",報告書!AF151)","v":""},{"$f":"IF(報告書!AG151=\"\",\"\",報告書!AG151)","v":""},{"$f":"IF(報告書!AH151=\"\",\"\",報告書!AH151)","v":""},{"$f":"IF(報告書!AI151=\"\",\"\",報告書!AI151)","v":""},{"$f":"IF(報告書!AJ151=\"\",\"\",報告書!AJ151)","v":""},{"$f":"IF(報告書!AK151=\"\",\"\",報告書!AK151)","v":""},{"$f":"IF(報告書!AL151=\"\",\"\",報告書!AL151)","v":""},{"$f":"IF(報告書!AM151=\"\",\"\",報告書!AM151)","v":""},{"$f":"IF(報告書!AN151=\"\",\"\",報告書!AN151)","v":""},{"$f":"IF(報告書!AO151=\"\",\"\",報告書!AO151)","v":""},{"$f":"IF(報告書!AP151=\"\",\"\",報告書!AP151)","v":""},{"$f":"IF(報告書!AQ151=\"\",\"\",報告書!AQ151)","v":""},{"$f":"IF(報告書!AR151=\"\",\"\",報告書!AR151)","v":""},{"$f":"IF(報告書!AS151=\"\",\"\",報告書!AS151)","v":""},{"$f":"IF(報告書!AT151=\"\",\"\",報告書!AT151)","v":""}]
[null,null,"【ト．電話番号】",{"$nulls":10},{"$f":"IF(報告書_換気_要是正の指摘あり=\"\",\"\",IF(報告書!N152=\"\",\"\",報告書!N152))","v":""},{"$f":"IF(報告書!O152=\"\",\"\",報告書!O152)","v":""},{"$f":"IF(報告書!P152=\"\",\"\",報告書!P152)","v":""},{"$f":"IF(報告書!Q152=\"\",\"\",報告書!Q152)","v":""},{"$f":"IF(報告書!R152=\"\",\"\",報告書!R152)","v":""},{"$f":"IF(報告書!S152=\"\",\"\",報告書!S152)","v":""},{"$f":"IF(報告書!T152=\"\",\"\",報告書!T152)","v":""},{"$f":"IF(報告書!U152=\"\",\"\",報告書!U152)","v":""},{"$f":"IF(報告書!V152=\"\",\"\",報告書!V152)","v":""},{"$f":"IF(報告書!W152=\"\",\"\",報告書!W152)","v":""},{"$f":"IF(報告書!X152=\"\",\"\",報告書!X152)","v":""},{"$f":"IF(報告書!Y152=\"\",\"\",報告書!Y152)","v":""},{"$f":"IF(報告書!Z152=\"\",\"\",報告書!Z152)","v":""},{"$f":"IF(報告書!AA152=\"\",\"\",報告書!AA152)","v":""},{"$f":"IF(報告書!AB152=\"\",\"\",報告書!AB152)","v":""},{"$f":"IF(報告書!AC152=\"\",\"\",報告書!AC152)","v":""},{"$f":"IF(報告書!AD152=\"\",\"\",報告書!AD152)","v":""}]
[null," （その他の検査者２）"]
[null,null,"【イ．資格等】",{"$nulls":6},"（",{"$f":"IF(報告書!X186=\"レ\",\"\",IF(報告書!N186=\"\",\"\",IF(報告書!K154=\"\",\"\",報告書!K154)))","v":""},null," ）建築士",{"$nulls":9},"（",{"$f":"IF(報告書!X186=\"レ\",\"\",IF(報告書!N186=\"\",\"\",IF(報告書!X154=\"\",\"\",報告書!X154)))","v":""},{"$nulls":8},")登録第",{"$f":"IF(報告書!X186=\"レ\",\"\",IF(報告書!N186=\"\",\"\",IF(報告書!AH154=\"\",\"\",報告書!AH154)))","v":""},{"$nulls":6},"号"]
[{"$nulls":9},"建築基準適合判定資格者",{"$nulls":22},"第",{"$f":"IF(報告書!X186=\"レ\",\"\",IF(報告書!N186=\"\",\"\",IF(報告書!AH155=\"\",\"\",報告書!AH155)))","v":""},{"$nulls":6},"号"]
[{"$nulls":9},"登録建築設備検査資格者講習を修了した者",{"$nulls":22},"第",{"$f":"IF(報告書!X186=\"レ\",\"\",IF(報告書!N186=\"\",\"\",IF(報告書!AH156=\"\",\"\",報告書!AH156)))","v":""},{"$nulls":6},"号"]
[null,null,"【ロ．氏名のフリガナ】",{"$nulls":10},{"$f":"IF(報告書!X186=\"レ\",\"\",IF(報告書!N186=\"\",\"\",IF(報告書!N157=\"\",\"\",報告書!N157)))","v":""},{"$f":"IF(報告書!O157=\"\",\"\",報告書!O157)","v":""},{"$f":"IF(報告書!P157=\"\",\"\",報告書!P157)","v":""},{"$f":"IF(報告書!Q157=\"\",\"\",報告書!Q157)","v":""},{"$f":"IF(報告書!R157=\"\",\"\",報告書!R157)","v":""},{"$f":"IF(報告書!S157=\"\",\"\",報告書!S157)","v":""},{"$f":"IF(報告書!T157=\"\",\"\",報告書!T157)","v":""},{"$f":"IF(報告書!U157=\"\",\"\",報告書!U157)","v":""},{"$f":"IF(報告書!V157=\"\",\"\",報告書!V157)","v":""},{"$f":"IF(報告書!W157=\"\",\"\",報告書!W157)","v":""},{"$f":"IF(報告書!X157=\"\",\"\",報告書!X157)","v":""},{"$f":"IF(報告書!Y157=\"\",\"\",報告書!Y157)","v":""},{"$f":"IF(報告書!Z157=\"\",\"\",報告書!Z157)","v":""},{"$f":"IF(報告書!AA157=\"\",\"\",報告書!AA157)","v":""},{"$f":"IF(報告書!AB157=\"\",\"\",報告書!AB157)","v":""},{"$f":"IF(報告書!AC157=\"\",\"\",報告書!AC157)","v":""},{"$f":"IF(報告書!AD157=\"\",\"\",報告書!AD157)","v":""},{"$f":"IF(報告書!AE157=\"\",\"\",報告書!AE157)","v":""},{"$f":"IF(報告書!AF157=\"\",\"\",報告書!AF157)","v":""},{"$f":"IF(報告書!AG157=\"\",\"\",報告書!AG157)","v":""},{"$f":"IF(報告書!AH157=\"\",\"\",報告書!AH157)","v":""},{"$f":"IF(報告書!AI157=\"\",\"\",報告書!AI157)","v":""},{"$f":"IF(報告書!AJ157=\"\",\"\",報告書!AJ157)","v":""},{"$f":"IF(報告書!AK157=\"\",\"\",報告書!AK157)","v":""},{"$f":"IF(報告書!AL157=\"\",\"\",報告書!AL157)","v":""},{"$f":"IF(報告書!AM157=\"\",\"\",報告書!AM157)","v":""},{"$f":"IF(報告書!AN157=\"\",\"\",報告書!AN157)","v":""},{"$f":"IF(報告書!AO157=\"\",\"\",報告書!AO157)","v":""},{"$f":"IF(報告書!AP157=\"\",\"\",報告書!AP157)","v":""},{"$f":"IF(報告書!AQ157=\"\",\"\",報告書!AQ157)","v":""},{"$f":"IF(報告書!AR157=\"\",\"\",報告書!AR157)","v":""},{"$f":"IF(報告書!AS157=\"\",\"\",報告書!AS157)","v":""},{"$f":"IF(報告書!AT157=\"\",\"\",報告書!AT157)","v":""}]
[null,null,"【ハ．氏名】",{"$nulls":10},{"$f":"IF(報告書!X186=\"レ\",\"\",IF(報告書!N186=\"\",\"\",IF(報告書!N158=\"\",\"\",報告書!N158)))","v":""},{"$f":"IF(報告書!O158=\"\",\"\",報告書!O158)","v":""},{"$f":"IF(報告書!P158=\"\",\"\",報告書!P158)","v":""},{"$f":"IF(報告書!Q158=\"\",\"\",報告書!Q158)","v":""},{"$f":"IF(報告書!R158=\"\",\"\",報告書!R158)","v":""},{"$f":"IF(報告書!S158=\"\",\"\",報告書!S158)","v":""},{"$f":"IF(報告書!T158=\"\",\"\",報告書!T158)","v":""},{"$f":"IF(報告書!U158=\"\",\"\",報告書!U158)","v":""},{"$f":"IF(報告書!V158=\"\",\"\",報告書!V158)","v":""},{"$f":"IF(報告書!W158=\"\",\"\",報告書!W158)","v":""},{"$f":"IF(報告書!X158=\"\",\"\",報告書!X158)","v":""},{"$f":"IF(報告書!Y158=\"\",\"\",報告書!Y158)","v":""},{"$f":"IF(報告書!Z158=\"\",\"\",報告書!Z158)","v":""},{"$f":"IF(報告書!AA158=\"\",\"\",報告書!AA158)","v":""},{"$f":"IF(報告書!AB158=\"\",\"\",報告書!AB158)","v":""},{"$f":"IF(報告書!AC158=\"\",\"\",報告書!AC158)","v":""},{"$f":"IF(報告書!AD158=\"\",\"\",報告書!AD158)","v":""},{"$f":"IF(報告書!AE158=\"\",\"\",報告書!AE158)","v":""},{"$f":"IF(報告書!AF158=\"\",\"\",報告書!AF158)","v":""},{"$f":"IF(報告書!AG158=\"\",\"\",報告書!AG158)","v":""},{"$f":"IF(報告書!AH158=\"\",\"\",報告書!AH158)","v":""},{"$f":"IF(報告書!AI158=\"\",\"\",報告書!AI158)","v":""},{"$f":"IF(報告書!AJ158=\"\",\"\",報告書!AJ158)","v":""},{"$f":"IF(報告書!AK158=\"\",\"\",報告書!AK158)","v":""},{"$f":"IF(報告書!AL158=\"\",\"\",報告書!AL158)","v":""},{"$f":"IF(報告書!AM158=\"\",\"\",報告書!AM158)","v":""},{"$f":"IF(報告書!AN158=\"\",\"\",報告書!AN158)","v":""},{"$f":"IF(報告書!AO158=\"\",\"\",報告書!AO158)","v":""},{"$f":"IF(報告書!AP158=\"\",\"\",報告書!AP158)","v":""},{"$f":"IF(報告書!AQ158=\"\",\"\",報告書!AQ158)","v":""},{"$f":"IF(報告書!AR158=\"\",\"\",報告書!AR158)","v":""},{"$f":"IF(報告書!AS158=\"\",\"\",報告書!AS158)","v":""},{"$f":"IF(報告書!AT158=\"\",\"\",報告書!AT158)","v":""}]
[null,null,"【ニ．勤務先】",{"$nulls":10},{"$f":"IF(報告書!X186=\"レ\",\"\",IF(報告書!N186=\"\",\"\",IF(報告書!N159=\"\",\"\",報告書!N159)))","v":""},{"$f":"IF(報告書!O159=\"\",\"\",報告書!O159)","v":""},{"$f":"IF(報告書!P159=\"\",\"\",報告書!P159)","v":""},{"$f":"IF(報告書!Q159=\"\",\"\",報告書!Q159)","v":""},{"$f":"IF(報告書!R159=\"\",\"\",報告書!R159)","v":""},{"$f":"IF(報告書!S159=\"\",\"\",報告書!S159)","v":""},{"$f":"IF(報告書!T159=\"\",\"\",報告書!T159)","v":""},{"$f":"IF(報告書!U159=\"\",\"\",報告書!U159)","v":""},{"$f":"IF(報告書!V159=\"\",\"\",報告書!V159)","v":""},{"$f":"IF(報告書!W159=\"\",\"\",報告書!W159)","v":""},{"$f":"IF(報告書!X159=\"\",\"\",報告書!X159)","v":""},{"$f":"IF(報告書!Y159=\"\",\"\",報告書!Y159)","v":""},{"$f":"IF(報告書!Z159=\"\",\"\",報告書!Z159)","v":""},{"$f":"IF(報告書!AA159=\"\",\"\",報告書!AA159)","v":""},{"$f":"IF(報告書!AB159=\"\",\"\",報告書!AB159)","v":""},{"$f":"IF(報告書!AC159=\"\",\"\",報告書!AC159)","v":""},{"$f":"IF(報告書!AD159=\"\",\"\",報告書!AD159)","v":""},{"$f":"IF(報告書!AE159=\"\",\"\",報告書!AE159)","v":""},{"$f":"IF(報告書!AF159=\"\",\"\",報告書!AF159)","v":""},{"$f":"IF(報告書!AG159=\"\",\"\",報告書!AG159)","v":""},{"$f":"IF(報告書!AH159=\"\",\"\",報告書!AH159)","v":""},{"$f":"IF(報告書!AI159=\"\",\"\",報告書!AI159)","v":""},{"$f":"IF(報告書!AJ159=\"\",\"\",報告書!AJ159)","v":""},{"$f":"IF(報告書!AK159=\"\",\"\",報告書!AK159)","v":""},{"$f":"IF(報告書!AL159=\"\",\"\",報告書!AL159)","v":""},{"$f":"IF(報告書!AM159=\"\",\"\",報告書!AM159)","v":""},{"$f":"IF(報告書!AN159=\"\",\"\",報告書!AN159)","v":""},{"$f":"IF(報告書!AO159=\"\",\"\",報告書!AO159)","v":""},{"$f":"IF(報告書!AP159=\"\",\"\",報告書!AP159)","v":""},{"$f":"IF(報告書!AQ159=\"\",\"\",報告書!AQ159)","v":""},{"$f":"IF(報告書!AR159=\"\",\"\",報告書!AR159)","v":""},{"$f":"IF(報告書!AS159=\"\",\"\",報告書!AS159)","v":""},{"$f":"IF(報告書!AT159=\"\",\"\",報告書!AT159)","v":""}]
[{"$nulls":9},"（",{"$f":"IF(報告書!X186=\"レ\",\"\",IF(報告書!N186=\"\",\"\",IF(報告書!K160=\"\",\"\",報告書!K160)))","v":""},null," ）建築士事務所",{"$nulls":9},"（",{"$f":"IF(報告書!X186=\"レ\",\"\",IF(報告書!N186=\"\",\"\",IF(報告書!X160=\"\",\"\",報告書!X160)))","v":""},{"$nulls":8},")知事登録第",{"$f":"IF(報告書!X186=\"レ\",\"\",IF(報告書!N186=\"\",\"\",IF(報告書!AH160=\"\",\"\",報告書!AH160)))","v":""},{"$nulls":6},"号"]
[null,null,"【ホ．郵便番号】",{"$nulls":10},{"$f":"IF(報告書!X186=\"レ\",\"\",IF(報告書!N186=\"\",\"\",IF(報告書!N161=\"\",\"\",報告書!N161)))","v":""},{"$f":"IF(報告書!O161=\"\",\"\",報告書!O161)","v":""},{"$f":"IF(報告書!P161=\"\",\"\",報告書!P161)","v":""},{"$f":"IF(報告書!Q161=\"\",\"\",報告書!Q161)","v":""},{"$f":"IF(報告書!R161=\"\",\"\",報告書!R161)","v":""},{"$f":"IF(報告書!S161=\"\",\"\",報告書!S161)","v":""},{"$f":"IF(報告書!T161=\"\",\"\",報告書!T161)","v":""},{"$f":"IF(報告書!U161=\"\",\"\",報告書!U161)","v":""},{"$f":"IF(報告書!V161=\"\",\"\",報告書!V161)","v":""}]
[null,null,"【ヘ．所在地】",{"$nulls":10},{"$f":"IF(報告書!X186=\"レ\",\"\",IF(報告書!N186=\"\",\"\",IF(報告書!N162=\"\",\"\",報告書!N162)))","v":""},{"$f":"IF(報告書!O162=\"\",\"\",報告書!O162)","v":""},{"$f":"IF(報告書!P162=\"\",\"\",報告書!P162)","v":""},{"$f":"IF(報告書!Q162=\"\",\"\",報告書!Q162)","v":""},{"$f":"IF(報告書!R162=\"\",\"\",報告書!R162)","v":""},{"$f":"IF(報告書!S162=\"\",\"\",報告書!S162)","v":""},{"$f":"IF(報告書!T162=\"\",\"\",報告書!T162)","v":""},{"$f":"IF(報告書!U162=\"\",\"\",報告書!U162)","v":""},{"$f":"IF(報告書!V162=\"\",\"\",報告書!V162)","v":""},{"$f":"IF(報告書!W162=\"\",\"\",報告書!W162)","v":""},{"$f":"IF(報告書!X162=\"\",\"\",報告書!X162)","v":""},{"$f":"IF(報告書!Y162=\"\",\"\",報告書!Y162)","v":""},{"$f":"IF(報告書!Z162=\"\",\"\",報告書!Z162)","v":""},{"$f":"IF(報告書!AA162=\"\",\"\",報告書!AA162)","v":""},{"$f":"IF(報告書!AB162=\"\",\"\",報告書!AB162)","v":""},{"$f":"IF(報告書!AC162=\"\",\"\",報告書!AC162)","v":""},{"$f":"IF(報告書!AD162=\"\",\"\",報告書!AD162)","v":""},{"$f":"IF(報告書!AE162=\"\",\"\",報告書!AE162)","v":""},{"$f":"IF(報告書!AF162=\"\",\"\",報告書!AF162)","v":""},{"$f":"IF(報告書!AG162=\"\",\"\",報告書!AG162)","v":""},{"$f":"IF(報告書!AH162=\"\",\"\",報告書!AH162)","v":""},{"$f":"IF(報告書!AI162=\"\",\"\",報告書!AI162)","v":""},{"$f":"IF(報告書!AJ162=\"\",\"\",報告書!AJ162)","v":""},{"$f":"IF(報告書!AK162=\"\",\"\",報告書!AK162)","v":""},{"$f":"IF(報告書!AL162=\"\",\"\",報告書!AL162)","v":""},{"$f":"IF(報告書!AM162=\"\",\"\",報告書!AM162)","v":""},{"$f":"IF(報告書!AN162=\"\",\"\",報告書!AN162)","v":""},{"$f":"IF(報告書!AO162=\"\",\"\",報告書!AO162)","v":""},{"$f":"IF(報告書!AP162=\"\",\"\",報告書!AP162)","v":""},{"$f":"IF(報告書!AQ162=\"\",\"\",報告書!AQ162)","v":""},{"$f":"IF(報告書!AR162=\"\",\"\",報告書!AR162)","v":""},{"$f":"IF(報告書!AS162=\"\",\"\",報告書!AS162)","v":""},{"$f":"IF(報告書!AT162=\"\",\"\",報告書!AT162)","v":""}]
[null,null,"【ト．電話番号】",{"$nulls":10},{"$f":"IF(報告書!X186=\"レ\",\"\",IF(報告書!N186=\"\",\"\",IF(報告書!N163=\"\",\"\",報告書!N163)))","v":""},{"$f":"IF(報告書!O163=\"\",\"\",報告書!O163)","v":""},{"$f":"IF(報告書!P163=\"\",\"\",報告書!P163)","v":""},{"$f":"IF(報告書!Q163=\"\",\"\",報告書!Q163)","v":""},{"$f":"IF(報告書!R163=\"\",\"\",報告書!R163)","v":""},{"$f":"IF(報告書!S163=\"\",\"\",報告書!S163)","v":""},{"$f":"IF(報告書!T163=\"\",\"\",報告書!T163)","v":""},{"$f":"IF(報告書!U163=\"\",\"\",報告書!U163)","v":""},{"$f":"IF(報告書!V163=\"\",\"\",報告書!V163)","v":""},{"$f":"IF(報告書!W163=\"\",\"\",報告書!W163)","v":""},{"$f":"IF(報告書!X163=\"\",\"\",報告書!X163)","v":""},{"$f":"IF(報告書!Y163=\"\",\"\",報告書!Y163)","v":""},{"$f":"IF(報告書!Z163=\"\",\"\",報告書!Z163)","v":""},{"$f":"IF(報告書!AA163=\"\",\"\",報告書!AA163)","v":""},{"$f":"IF(報告書!AB163=\"\",\"\",報告書!AB163)","v":""},{"$f":"IF(報告書!AC163=\"\",\"\",報告書!AC163)","v":""},{"$f":"IF(報告書!AD163=\"\",\"\",報告書!AD163)","v":""}]
[]
[]
[]
[]
[]
[null,"【5．換気設備の概要】"]
[null,null,"【イ．無窓居室】",{"$nulls":8},{"$f":"IF(報告書_換気_要是正の指摘あり=\"\",\"\",報告書!L170)","v":""},"自然換気設備 （",{"$nulls":6},"―",null,"系統",null,"―",null,"室）",null,null,{"$f":"IF(報告書_換気_要是正の指摘あり=\"\",\"\",報告書!AC170)","v":""},"機械換気設備 (",{"$nulls":6},{"$f":"IF(報告書_換気_要是正の指摘あり=\"\",\"\",IF(報告書!AK170=\"\",\"\",報告書!AK170))","v":""},null,"系統",null,{"$f":"IF(報告書_換気_要是正の指摘あり=\"\",\"\",IF(報告書!AO170=\"\",\"\",報告書!AO170))","v":""},null,"室）"]
[{"$nulls":11},{"$f":"IF(報告書_換気_要是正の指摘あり=\"\",\"\",報告書!L171)","v":""},"中央管理方式の空気調和設備 (",{"$nulls":13},{"$f":"IF(報告書_換気_要是正の指摘あり=\"\",\"\",IF(報告書!AA171=\"\",\"\",報告書!AA171))","v":""},null,"系統",null,{"$f":"IF(報告書_換気_要是正の指摘あり=\"\",\"\",IF(報告書!AE171=\"\",\"\",報告書!AE171))","v":""},null,"室）"]
[{"$nulls":11},{"$f":"IF(報告書_換気_要是正の指摘あり=\"\",\"\",報告書!L172)","v":""},"その他 (",{"$nulls":3},{"$f":"IF(報告書_換気_要是正の指摘あり=\"\",\"\",IF(報告書!Q172=\"\",\"\",報告書!Q172))","v":""},null,"系統",null,{"$f":"IF(報告書_換気_要是正の指摘あり=\"\",\"\",IF(報告書!U172=\"\",\"\",報告書!U172))","v":""},null,"室）",{"$nulls":5},{"$f":"IF(報告書_換気_要是正の指摘あり=\"\",\"\",報告書!AC172)","v":""},"無"]
[null,null,"【ロ．火気使用室】",{"$nulls":8},{"$f":"IF(報告書_換気_要是正の指摘あり=\"\",\"\",報告書!L173)","v":""},"自然換気設備 （",{"$nulls":6},"―",null,"系統",null,"―",null,"室）",null,null,{"$f":"IF(報告書_換気_要是正の指摘あり=\"\",\"\",報告書!AC173)","v":""},"機械換気設備 (",{"$nulls":6},{"$f":"IF(報告書_換気_要是正の指摘あり=\"\",\"\",IF(報告書!AK173=\"\",\"\",報告書!AK173))","v":""},null,"系統",null,{"$f":"IF(報告書_換気_要是正の指摘あり=\"\",\"\",IF(報告書!AO173=\"\",\"\",報告書!AO173))","v":""},null,"室）"]
[{"$nulls":11},{"$f":"IF(報告書_換気_要是正の指摘あり=\"\",\"\",報告書!L174)","v":""},"その他 (",{"$nulls":3},{"$f":"IF(報告書_換気_要是正の指摘あり=\"\",\"\",IF(報告書!Q174=\"\",\"\",報告書!Q174))","v":""},null,"系統",null,{"$f":"IF(報告書_換気_要是正の指摘あり=\"\",\"\",IF(報告書!U174=\"\",\"\",報告書!U174))","v":""},null,"室）",{"$nulls":5},{"$f":"IF(報告書_換気_要是正の指摘あり=\"\",\"\",報告書!AC174)","v":""},"無"]
[null,null,"【ハ．居室等】",{"$nulls":8},{"$f":"IF(報告書_換気_要是正の指摘あり=\"\",\"\",報告書!L175)","v":""},"自然換気設備 （",{"$nulls":6},"―",null,"系統",null,"―",null,"室）",null,null,{"$f":"IF(報告書_換気_要是正の指摘あり=\"\",\"\",報告書!AC175)","v":""},"機械換気設備 (",{"$nulls":6},{"$f":"IF(報告書_換気_要是正の指摘あり=\"\",\"\",IF(報告書!AK175=\"\",\"\",報告書!AK175))","v":""},null,"系統",null,{"$f":"IF(報告書_換気_要是正の指摘あり=\"\",\"\",IF(報告書!AO175=\"\",\"\",報告書!AO175))","v":""},null,"室）"]
[{"$nulls":11},{"$f":"IF(報告書_換気_要是正の指摘あり=\"\",\"\",報告書!L176)","v":""},"中央管理方式の空気調和設備 (",{"$nulls":13},{"$f":"IF(報告書_換気_要是正の指摘あり=\"\",\"\",IF(報告書!AA176=\"\",\"\",報告書!AA176))","v":""},null,"系統",null,{"$f":"IF(報告書_換気_要是正の指摘あり=\"\",\"\",IF(報告書!AE176=\"\",\"\",報告書!AE176))","v":""},null,"室）"]
[{"$nulls":11},{"$f":"IF(報告書_換気_要是正の指摘あり=\"\",\"\",報告書!L177)","v":""},"その他 (",{"$nulls":3},{"$f":"IF(報告書_換気_要是正の指摘あり=\"\",\"\",IF(報告書!Q177=\"\",\"\",報告書!Q177))","v":""},null,"系統",null,{"$f":"IF(報告書_換気_要是正の指摘あり=\"\",\"\",IF(報告書!U177=\"\",\"\",報告書!U177))","v":""},null,"室）",{"$nulls":5},{"$f":"IF(報告書_換気_要是正の指摘あり=\"\",\"\",報告書!AC177)","v":""},"無"]
[null,null,"【ニ．空気調和設備・冷暖房設備】",{"$nulls":15},{"$f":"IF(報告書_換気_要是正の指摘あり=\"\",\"\",報告書!S178)","v":""},"個別パッケージ",{"$nulls":8},{"$f":"IF(報告書_換気_要是正の指摘あり=\"\",\"\",報告書!AC178)","v":""},"全空気",{"$nulls":4},{"$f":"IF(報告書_換気_要是正の指摘あり=\"\",\"\",報告書!AI178)","v":""},"ヒートポンプ"]
[{"$nulls":18},{"$f":"IF(報告書_換気_要是正の指摘あり=\"\",\"\",報告書!S179)","v":""},"ファンコイルユニット併用",{"$nulls":14},{"$f":"IF(報告書_換気_要是正の指摘あり=\"\",\"\",報告書!AI179)","v":""},"その他 (",{"$nulls":3},{"$f":"IF(報告書_換気_要是正の指摘あり=\"\",\"\",IF(報告書!AN179=\"\",\"\",報告書!AN179))","v":""},null,{"$f":"IF(報告書!AP179=\"\",\"\",報告書!AP179)","v":""},null,{"$f":"IF(報告書!AR179=\"\",\"\",報告書!AR179)","v":""},null,"）"]
[null,null,"【ニ．防火ダンパーの有無】",{"$nulls":15},{"$f":"IF(報告書_換気_要是正の指摘あり=\"\",\"\",報告書!S180)","v":""},"有",null,{"$f":"IF(報告書_換気_要是正の指摘あり=\"\",\"\",報告書!V180)","v":""},"無"]
[]
[]
[]
[]
[null,"【6．換気設備の検査の状況】"]
[null,null,"【イ．指摘の内容】",{"$nulls":11},"要是正の指摘あり （",{"$nulls":9},"既存不適格）",{"$nulls":8},"指摘なし"]
[null,null,"【ロ．指摘の概要】"]
[]
[]
[]
[]
[null,null,"【ハ．改善予定の有無】",{"$nulls":11},"有",null,null,"（平成",null,null,"年",null,null,"月に改善予定）",{"$nulls":9},"無"]
{"$rows_empty":19}
[null,"【6．排煙設備の検査者】"]
[null," （代表となる検査者）"]
[null,null,"【イ．資格】",{"$nulls":6},"（",{"$f":"IF(報告書_排煙_要是正の指摘あり=\"\",\"\",IF(報告書!K214=\"\",\"\",報告書!K214))","v":""},null," ）建築士",{"$nulls":9},"（",{"$f":"IF(報告書_排煙_要是正の指摘あり=\"\",\"\",IF(報告書!X214=\"\",\"\",報告書!X214))","v":""},{"$nulls":5},"）登録第",{"$nulls":3},{"$f":"IF(報告書_排煙_要是正の指摘あり=\"\",\"\",IF(報告書!AH214=\"\",\"\",報告書!AH214))","v":""},{"$nulls":6},"号"]
[{"$nulls":9},"建築設備検査員",{"$nulls":22},"第",{"$f":"IF(報告書_排煙_要是正の指摘あり=\"\",\"\",IF(報告書!AH215=\"\",\"\",報告書!AH215))","v":""},{"$nulls":6},"号"]
[{"$nulls":9},"登録建築設備検査資格者講習を修了した者",{"$nulls":22},"第",{"$f":"IF(報告書!N263=\"\",\"\",IF(報告書!AH216=\"\",\"\",報告書!AH216))","v":""},{"$nulls":6},"号"]
[null,null,"【ロ．氏名のフリガナ】",{"$nulls":10},{"$f":"IF(報告書_排煙_要是正の指摘あり=\"\",\"\",IF(報告書!N217=\"\",\"\",報告書!N217))","v":""},{"$f":"IF(報告書!O217=\"\",\"\",報告書!O217)","v":"ﾀｹﾀﾞﾃﾂﾔ"},{"$f":"IF(報告書!P217=\"\",\"\",報告書!P217)","v":"ﾀｹﾀﾞﾃﾂﾔ"},{"$f":"IF(報告書!Q217=\"\",\"\",報告書!Q217)","v":"ﾀｹﾀﾞﾃﾂﾔ"},{"$f":"IF(報告書!R217=\"\",\"\",報告書!R217)","v":"ﾀｹﾀﾞﾃﾂﾔ"},{"$f":"IF(報告書!S217=\"\",\"\",報告書!S217)","v":"ﾀｹﾀﾞﾃﾂﾔ"},{"$f":"IF(報告書!T217=\"\",\"\",報告書!T217)","v":"ﾀｹﾀﾞﾃﾂﾔ"},{"$f":"IF(報告書!U217=\"\",\"\",報告書!U217)","v":"ﾀｹﾀﾞﾃﾂﾔ"},{"$f":"IF(報告書!V217=\"\",\"\",報告書!V217)","v":"ﾀｹﾀﾞﾃﾂﾔ"},{"$f":"IF(報告書!W217=\"\",\"\",報告書!W217)","v":"ﾀｹﾀﾞﾃﾂﾔ"},{"$f":"IF(報告書!X217=\"\",\"\",報告書!X217)","v":"ﾀｹﾀﾞﾃﾂﾔ"},{"$f":"IF(報告書!Y217=\"\",\"\",報告書!Y217)","v":"ﾀｹﾀﾞﾃﾂﾔ"},{"$f":"IF(報告書!Z217=\"\",\"\",報告書!Z217)","v":"ﾀｹﾀﾞﾃﾂﾔ"},{"$f":"IF(報告書!AA217=\"\",\"\",報告書!AA217)","v":"ﾀｹﾀﾞﾃﾂﾔ"},{"$f":"IF(報告書!AB217=\"\",\"\",報告書!AB217)","v":"ﾀｹﾀﾞﾃﾂﾔ"},{"$f":"IF(報告書!AC217=\"\",\"\",報告書!AC217)","v":"ﾀｹﾀﾞﾃﾂﾔ"},{"$f":"IF(報告書!AD217=\"\",\"\",報告書!AD217)","v":"ﾀｹﾀﾞﾃﾂﾔ"},{"$f":"IF(報告書!AE217=\"\",\"\",報告書!AE217)","v":"ﾀｹﾀﾞﾃﾂﾔ"},{"$f":"IF(報告書!AF217=\"\",\"\",報告書!AF217)","v":"ﾀｹﾀﾞﾃﾂﾔ"},{"$f":"IF(報告書!AG217=\"\",\"\",報告書!AG217)","v":"ﾀｹﾀﾞﾃﾂﾔ"},{"$f":"IF(報告書!AH217=\"\",\"\",報告書!AH217)","v":"ﾀｹﾀﾞﾃﾂﾔ"},{"$f":"IF(報告書!AI217=\"\",\"\",報告書!AI217)","v":"ﾀｹﾀﾞﾃﾂﾔ"},{"$f":"IF(報告書!AJ217=\"\",\"\",報告書!AJ217)","v":"ﾀｹﾀﾞﾃﾂﾔ"},{"$f":"IF(報告書!AK217=\"\",\"\",報告書!AK217)","v":"ﾀｹﾀﾞﾃﾂﾔ"},{"$f":"IF(報告書!AL217=\"\",\"\",報告書!AL217)","v":"ﾀｹﾀﾞﾃﾂﾔ"},{"$f":"IF(報告書!AM217=\"\",\"\",報告書!AM217)","v":"ﾀｹﾀﾞﾃﾂﾔ"},{"$f":"IF(報告書!AN217=\"\",\"\",報告書!AN217)","v":"ﾀｹﾀﾞﾃﾂﾔ"},{"$f":"IF(報告書!AO217=\"\",\"\",報告書!AO217)","v":"ﾀｹﾀﾞﾃﾂﾔ"},{"$f":"IF(報告書!AP217=\"\",\"\",報告書!AP217)","v":"ﾀｹﾀﾞﾃﾂﾔ"},{"$f":"IF(報告書!AQ217=\"\",\"\",報告書!AQ217)","v":"ﾀｹﾀﾞﾃﾂﾔ"},{"$f":"IF(報告書!AR217=\"\",\"\",報告書!AR217)","v":"ﾀｹﾀﾞﾃﾂﾔ"},{"$f":"IF(報告書!AS217=\"\",\"\",報告書!AS217)","v":"ﾀｹﾀﾞﾃﾂﾔ"},{"$f":"IF(報告書!AT217=\"\",\"\",報告書!AT217)","v":"ﾀｹﾀﾞﾃﾂﾔ"}]
[null,null,"【ハ．氏名】",{"$nulls":10},{"$f":"IF(報告書_排煙_要是正の指摘あり=\"\",\"\",IF(報告書!N218=\"\",\"\",報告書!N218))","v":""},{"$f":"IF(報告書!O218=\"\",\"\",報告書!O218)","v":""},{"$f":"IF(報告書!P218=\"\",\"\",報告書!P218)","v":""},{"$f":"IF(報告書!Q218=\"\",\"\",報告書!Q218)","v":""},{"$f":"IF(報告書!R218=\"\",\"\",報告書!R218)","v":""},{"$f":"IF(報告書!S218=\"\",\"\",報告書!S218)","v":""},{"$f":"IF(報告書!T218=\"\",\"\",報告書!T218)","v":""},{"$f":"IF(報告書!U218=\"\",\"\",報告書!U218)","v":""},{"$f":"IF(報告書!V218=\"\",\"\",報告書!V218)","v":""},{"$f":"IF(報告書!W218=\"\",\"\",報告書!W218)","v":""},{"$f":"IF(報告書!X218=\"\",\"\",報告書!X218)","v":""},{"$f":"IF(報告書!Y218=\"\",\"\",報告書!Y218)","v":""},{"$f":"IF(報告書!Z218=\"\",\"\",報告書!Z218)","v":""},{"$f":"IF(報告書!AA218=\"\",\"\",報告書!AA218)","v":""},{"$f":"IF(報告書!AB218=\"\",\"\",報告書!AB218)","v":""},{"$f":"IF(報告書!AC218=\"\",\"\",報告書!AC218)","v":""},{"$f":"IF(報告書!AD218=\"\",\"\",報告書!AD218)","v":""},{"$f":"IF(報告書!AE218=\"\",\"\",報告書!AE218)","v":""},{"$f":"IF(報告書!AF218=\"\",\"\",報告書!AF218)","v":""},{"$f":"IF(報告書!AG218=\"\",\"\",報告書!AG218)","v":""},{"$f":"IF(報告書!AH218=\"\",\"\",報告書!AH218)","v":""},{"$f":"IF(報告書!AI218=\"\",\"\",報告書!AI218)","v":""},{"$f":"IF(報告書!AJ218=\"\",\"\",報告書!AJ218)","v":""},{"$f":"IF(報告書!AK218=\"\",\"\",報告書!AK218)","v":""},{"$f":"IF(報告書!AL218=\"\",\"\",報告書!AL218)","v":""},{"$f":"IF(報告書!AM218=\"\",\"\",報告書!AM218)","v":""},{"$f":"IF(報告書!AN218=\"\",\"\",報告書!AN218)","v":""},{"$f":"IF(報告書!AO218=\"\",\"\",報告書!AO218)","v":""},{"$f":"IF(報告書!AP218=\"\",\"\",報告書!AP218)","v":""},{"$f":"IF(報告書!AQ218=\"\",\"\",報告書!AQ218)","v":""},{"$f":"IF(報告書!AR218=\"\",\"\",報告書!AR218)","v":""},{"$f":"IF(報告書!AS218=\"\",\"\",報告書!AS218)","v":""},{"$f":"IF(報告書!AT218=\"\",\"\",報告書!AT218)","v":""}]
[null,null,"【ニ．勤務先】",{"$nulls":10},{"$f":"IF(報告書_排煙_要是正の指摘あり=\"\",\"\",IF(報告書!N219=\"\",\"\",報告書!N219))","v":""},{"$f":"IF(報告書!O219=\"\",\"\",報告書!O219)","v":""},{"$f":"IF(報告書!P219=\"\",\"\",報告書!P219)","v":""},{"$f":"IF(報告書!Q219=\"\",\"\",報告書!Q219)","v":""},{"$f":"IF(報告書!R219=\"\",\"\",報告書!R219)","v":""},{"$f":"IF(報告書!S219=\"\",\"\",報告書!S219)","v":""},{"$f":"IF(報告書!T219=\"\",\"\",報告書!T219)","v":""},{"$f":"IF(報告書!U219=\"\",\"\",報告書!U219)","v":""},{"$f":"IF(報告書!V219=\"\",\"\",報告書!V219)","v":""},{"$f":"IF(報告書!W219=\"\",\"\",報告書!W219)","v":""},{"$f":"IF(報告書!X219=\"\",\"\",報告書!X219)","v":""},{"$f":"IF(報告書!Y219=\"\",\"\",報告書!Y219)","v":""},{"$f":"IF(報告書!Z219=\"\",\"\",報告書!Z219)","v":""},{"$f":"IF(報告書!AA219=\"\",\"\",報告書!AA219)","v":""},{"$f":"IF(報告書!AB219=\"\",\"\",報告書!AB219)","v":""},{"$f":"IF(報告書!AC219=\"\",\"\",報告書!AC219)","v":""},{"$f":"IF(報告書!AD219=\"\",\"\",報告書!AD219)","v":""},{"$f":"IF(報告書!AE219=\"\",\"\",報告書!AE219)","v":""},{"$f":"IF(報告書!AF219=\"\",\"\",報告書!AF219)","v":""},{"$f":"IF(報告書!AG219=\"\",\"\",報告書!AG219)","v":""},{"$f":"IF(報告書!AH219=\"\",\"\",報告書!AH219)","v":""},{"$f":"IF(報告書!AI219=\"\",\"\",報告書!AI219)","v":""},{"$f":"IF(報告書!AJ219=\"\",\"\",報告書!AJ219)","v":""},{"$f":"IF(報告書!AK219=\"\",\"\",報告書!AK219)","v":""},{"$f":"IF(報告書!AL219=\"\",\"\",報告書!AL219)","v":""},{"$f":"IF(報告書!AM219=\"\",\"\",報告書!AM219)","v":""},{"$f":"IF(報告書!AN219=\"\",\"\",報告書!AN219)","v":""},{"$f":"IF(報告書!AO219=\"\",\"\",報告書!AO219)","v":""},{"$f":"IF(報告書!AP219=\"\",\"\",報告書!AP219)","v":""},{"$f":"IF(報告書!AQ219=\"\",\"\",報告書!AQ219)","v":""},{"$f":"IF(報告書!AR219=\"\",\"\",報告書!AR219)","v":""},{"$f":"IF(報告書!AS219=\"\",\"\",報告書!AS219)","v":""},{"$f":"IF(報告書!AT219=\"\",\"\",報告書!AT219)","v":""}]
[{"$nulls":9},"（",{"$f":"IF(報告書_排煙_要是正の指摘あり=\"\",\"\",IF(報告書!K220=\"\",\"\",報告書!K220))","v":""},null," ）建築士事務所",{"$nulls":9},"（",{"$f":"IF(報告書_排煙_要是正の指摘あり=\"\",\"\",IF(報告書!X220=\"\",\"\",報告書!X220))","v":""},{"$nulls":3},"）知事登録第",{"$nulls":5},{"$f":"IF(報告書_排煙_要是正の指摘あり=\"\",\"\",IF(報告書!AH220=\"\",\"\",報告書!AH220))","v":""},{"$nulls":6},"号"]
[null,null,"【ホ．郵便番号】",{"$nulls":10},{"$f":"IF(報告書_排煙_要是正の指摘あり=\"\",\"\",IF(報告書!N221=\"\",\"\",報告書!N221))","v":""},{"$f":"IF(報告書!O221=\"\",\"\",報告書!O221)","v":""},{"$f":"IF(報告書!P221=\"\",\"\",報告書!P221)","v":""},{"$f":"IF(報告書!Q221=\"\",\"\",報告書!Q221)","v":""},{"$f":"IF(報告書!R221=\"\",\"\",報告書!R221)","v":""},{"$f":"IF(報告書!S221=\"\",\"\",報告書!S221)","v":""},{"$f":"IF(報告書!T221=\"\",\"\",報告書!T221)","v":""},{"$f":"IF(報告書!U221=\"\",\"\",報告書!U221)","v":""},{"$f":"IF(報告書!V221=\"\",\"\",報告書!V221)","v":""}]
[null,null,"【ヘ．所在地】",{"$nulls":10},{"$f":"IF(報告書_排煙_要是正の指摘あり=\"\",\"\",IF(報告書!N222=\"\",\"\",報告書!N222))","v":""},{"$f":"IF(報告書!O222=\"\",\"\",報告書!O222)","v":""},{"$f":"IF(報告書!P222=\"\",\"\",報告書!P222)","v":""},{"$f":"IF(報告書!Q222=\"\",\"\",報告書!Q222)","v":""},{"$f":"IF(報告書!R222=\"\",\"\",報告書!R222)","v":""},{"$f":"IF(報告書!S222=\"\",\"\",報告書!S222)","v":""},{"$f":"IF(報告書!T222=\"\",\"\",報告書!T222)","v":""},{"$f":"IF(報告書!U222=\"\",\"\",報告書!U222)","v":""},{"$f":"IF(報告書!V222=\"\",\"\",報告書!V222)","v":""},{"$f":"IF(報告書!W222=\"\",\"\",報告書!W222)","v":""},{"$f":"IF(報告書!X222=\"\",\"\",報告書!X222)","v":""},{"$f":"IF(報告書!Y222=\"\",\"\",報告書!Y222)","v":""},{"$f":"IF(報告書!Z222=\"\",\"\",報告書!Z222)","v":""},{"$f":"IF(報告書!AA222=\"\",\"\",報告書!AA222)","v":""},{"$f":"IF(報告書!AB222=\"\",\"\",報告書!AB222)","v":""},{"$f":"IF(報告書!AC222=\"\",\"\",報告書!AC222)","v":""},{"$f":"IF(報告書!AD222=\"\",\"\",報告書!AD222)","v":""},{"$f":"IF(報告書!AE222=\"\",\"\",報告書!AE222)","v":""},{"$f":"IF(報告書!AF222=\"\",\"\",報告書!AF222)","v":""},{"$f":"IF(報告書!AG222=\"\",\"\",報告書!AG222)","v":""},{"$f":"IF(報告書!AH222=\"\",\"\",報告書!AH222)","v":""},{"$f":"IF(報告書!AI222=\"\",\"\",報告書!AI222)","v":""},{"$f":"IF(報告書!AJ222=\"\",\"\",報告書!AJ222)","v":""},{"$f":"IF(報告書!AK222=\"\",\"\",報告書!AK222)","v":""},{"$f":"IF(報告書!AL222=\"\",\"\",報告書!AL222)","v":""},{"$f":"IF(報告書!AM222=\"\",\"\",報告書!AM222)","v":""},{"$f":"IF(報告書!AN222=\"\",\"\",報告書!AN222)","v":""},{"$f":"IF(報告書!AO222=\"\",\"\",報告書!AO222)","v":""},{"$f":"IF(報告書!AP222=\"\",\"\",報告書!AP222)","v":""},{"$f":"IF(報告書!AQ222=\"\",\"\",報告書!AQ222)","v":""},{"$f":"IF(報告書!AR222=\"\",\"\",報告書!AR222)","v":""},{"$f":"IF(報告書!AS222=\"\",\"\",報告書!AS222)","v":""},{"$f":"IF(報告書!AT222=\"\",\"\",報告書!AT222)","v":""}]
[null,null,"【ト．電話番号】",{"$nulls":10},{"$f":"IF(報告書_排煙_要是正の指摘あり=\"\",\"\",IF(報告書!N223=\"\",\"\",報告書!N223))","v":""},{"$f":"IF(報告書!O223=\"\",\"\",報告書!O223)","v":""},{"$f":"IF(報告書!P223=\"\",\"\",報告書!P223)","v":""},{"$f":"IF(報告書!Q223=\"\",\"\",報告書!Q223)","v":""},{"$f":"IF(報告書!R223=\"\",\"\",報告書!R223)","v":""},{"$f":"IF(報告書!S223=\"\",\"\",報告書!S223)","v":""},{"$f":"IF(報告書!T223=\"\",\"\",報告書!T223)","v":""},{"$f":"IF(報告書!U223=\"\",\"\",報告書!U223)","v":""},{"$f":"IF(報告書!V223=\"\",\"\",報告書!V223)","v":""},{"$f":"IF(報告書!W223=\"\",\"\",報告書!W223)","v":""},{"$f":"IF(報告書!X223=\"\",\"\",報告書!X223)","v":""},{"$f":"IF(報告書!Y223=\"\",\"\",報告書!Y223)","v":""},{"$f":"IF(報告書!Z223=\"\",\"\",報告書!Z223)","v":""},{"$f":"IF(報告書!AA223=\"\",\"\",報告書!AA223)","v":""},{"$f":"IF(報告書!AB223=\"\",\"\",報告書!AB223)","v":""},{"$f":"IF(報告書!AC223=\"\",\"\",報告書!AC223)","v":""},{"$f":"IF(報告書!AD223=\"\",\"\",報告書!AD223)","v":""}]
[null," （その他の検査者）"]
[null,null,"【イ．資格】",{"$nulls":6},"（",{"$f":"IF(報告書_排煙_要是正の指摘あり=\"\",\"\",IF(報告書!K225=\"\",\"\",報告書!K225))","v":""},null," ）建築士",{"$nulls":9},"（",{"$f":"IF(報告書_排煙_要是正の指摘あり=\"\",\"\",IF(報告書!X225=\"\",\"\",報告書!X225))","v":""},{"$nulls":5},"）登録第",{"$nulls":3},{"$f":"IF(報告書_排煙_要是正の指摘あり=\"\",\"\",IF(報告書!AH225=\"\",\"\",報告書!AH225))","v":""},{"$nulls":6},"号"]
[{"$nulls":9},"建築設備検査員",{"$nulls":22},"第",{"$f":"IF(報告書_排煙_要是正の指摘あり=\"\",\"\",IF(報告書!AH226=\"\",\"\",報告書!AH226))","v":""},{"$nulls":6},"号"]
[{"$nulls":9},"登録建築設備検査資格者講習を修了した者",{"$nulls":22},"第",{"$f":"IF(報告書!N263=\"\",\"\",IF(報告書!AH227=\"\",\"\",報告書!AH227))","v":""},{"$nulls":6},"号"]
[null,null,"【ロ．氏名のフリガナ】",{"$nulls":10},{"$f":"IF(報告書_排煙_要是正の指摘あり=\"\",\"\",IF(報告書!N228=\"\",\"\",報告書!N228))","v":""},{"$f":"IF(報告書!O228=\"\",\"\",報告書!O228)","v":""},{"$f":"IF(報告書!P228=\"\",\"\",報告書!P228)","v":""},{"$f":"IF(報告書!Q228=\"\",\"\",報告書!Q228)","v":""},{"$f":"IF(報告書!R228=\"\",\"\",報告書!R228)","v":""},{"$f":"IF(報告書!S228=\"\",\"\",報告書!S228)","v":""},{"$f":"IF(報告書!T228=\"\",\"\",報告書!T228)","v":""},{"$f":"IF(報告書!U228=\"\",\"\",報告書!U228)","v":""},{"$f":"IF(報告書!V228=\"\",\"\",報告書!V228)","v":""},{"$f":"IF(報告書!W228=\"\",\"\",報告書!W228)","v":""},{"$f":"IF(報告書!X228=\"\",\"\",報告書!X228)","v":""},{"$f":"IF(報告書!Y228=\"\",\"\",報告書!Y228)","v":""},{"$f":"IF(報告書!Z228=\"\",\"\",報告書!Z228)","v":""},{"$f":"IF(報告書!AA228=\"\",\"\",報告書!AA228)","v":""},{"$f":"IF(報告書!AB228=\"\",\"\",報告書!AB228)","v":""},{"$f":"IF(報告書!AC228=\"\",\"\",報告書!AC228)","v":""},{"$f":"IF(報告書!AD228=\"\",\"\",報告書!AD228)","v":""},{"$f":"IF(報告書!AE228=\"\",\"\",報告書!AE228)","v":""},{"$f":"IF(報告書!AF228=\"\",\"\",報告書!AF228)","v":""},{"$f":"IF(報告書!AG228=\"\",\"\",報告書!AG228)","v":""},{"$f":"IF(報告書!AH228=\"\",\"\",報告書!AH228)","v":""},{"$f":"IF(報告書!AI228=\"\",\"\",報告書!AI228)","v":""},{"$f":"IF(報告書!AJ228=\"\",\"\",報告書!AJ228)","v":""},{"$f":"IF(報告書!AK228=\"\",\"\",報告書!AK228)","v":""},{"$f":"IF(報告書!AL228=\"\",\"\",報告書!AL228)","v":""},{"$f":"IF(報告書!AM228=\"\",\"\",報告書!AM228)","v":""},{"$f":"IF(報告書!AN228=\"\",\"\",報告書!AN228)","v":""},{"$f":"IF(報告書!AO228=\"\",\"\",報告書!AO228)","v":""},{"$f":"IF(報告書!AP228=\"\",\"\",報告書!AP228)","v":""},{"$f":"IF(報告書!AQ228=\"\",\"\",報告書!AQ228)","v":""},{"$f":"IF(報告書!AR228=\"\",\"\",報告書!AR228)","v":""},{"$f":"IF(報告書!AS228=\"\",\"\",報告書!AS228)","v":""},{"$f":"IF(報告書!AT228=\"\",\"\",報告書!AT228)","v":""}]
[null,null,"【ハ．氏名】",{"$nulls":10},{"$f":"IF(報告書_排煙_要是正の指摘あり=\"\",\"\",IF(報告書!N229=\"\",\"\",報告書!N229))","v":""},{"$f":"IF(報告書!O229=\"\",\"\",報告書!O229)","v":""},{"$f":"IF(報告書!P229=\"\",\"\",報告書!P229)","v":""},{"$f":"IF(報告書!Q229=\"\",\"\",報告書!Q229)","v":""},{"$f":"IF(報告書!R229=\"\",\"\",報告書!R229)","v":""},{"$f":"IF(報告書!S229=\"\",\"\",報告書!S229)","v":""},{"$f":"IF(報告書!T229=\"\",\"\",報告書!T229)","v":""},{"$f":"IF(報告書!U229=\"\",\"\",報告書!U229)","v":""},{"$f":"IF(報告書!V229=\"\",\"\",報告書!V229)","v":""},{"$f":"IF(報告書!W229=\"\",\"\",報告書!W229)","v":""},{"$f":"IF(報告書!X229=\"\",\"\",報告書!X229)","v":""},{"$f":"IF(報告書!Y229=\"\",\"\",報告書!Y229)","v":""},{"$f":"IF(報告書!Z229=\"\",\"\",報告書!Z229)","v":""},{"$f":"IF(報告書!AA229=\"\",\"\",報告書!AA229)","v":""},{"$f":"IF(報告書!AB229=\"\",\"\",報告書!AB229)","v":""},{"$f":"IF(報告書!AC229=\"\",\"\",報告書!AC229)","v":""},{"$f":"IF(報告書!AD229=\"\",\"\",報告書!AD229)","v":""},{"$f":"IF(報告書!AE229=\"\",\"\",報告書!AE229)","v":""},{"$f":"IF(報告書!AF229=\"\",\"\",報告書!AF229)","v":""},{"$f":"IF(報告書!AG229=\"\",\"\",報告書!AG229)","v":""},{"$f":"IF(報告書!AH229=\"\",\"\",報告書!AH229)","v":""},{"$f":"IF(報告書!AI229=\"\",\"\",報告書!AI229)","v":""},{"$f":"IF(報告書!AJ229=\"\",\"\",報告書!AJ229)","v":""},{"$f":"IF(報告書!AK229=\"\",\"\",報告書!AK229)","v":""},{"$f":"IF(報告書!AL229=\"\",\"\",報告書!AL229)","v":""},{"$f":"IF(報告書!AM229=\"\",\"\",報告書!AM229)","v":""},{"$f":"IF(報告書!AN229=\"\",\"\",報告書!AN229)","v":""},{"$f":"IF(報告書!AO229=\"\",\"\",報告書!AO229)","v":""},{"$f":"IF(報告書!AP229=\"\",\"\",報告書!AP229)","v":""},{"$f":"IF(報告書!AQ229=\"\",\"\",報告書!AQ229)","v":""},{"$f":"IF(報告書!AR229=\"\",\"\",報告書!AR229)","v":""},{"$f":"IF(報告書!AS229=\"\",\"\",報告書!AS229)","v":""},{"$f":"IF(報告書!AT229=\"\",\"\",報告書!AT229)","v":""}]
[null,null,"【ニ．勤務先】",{"$nulls":10},{"$f":"IF(報告書_排煙_要是正の指摘あり=\"\",\"\",IF(報告書!N230=\"\",\"\",報告書!N230))","v":""},{"$f":"IF(報告書!O230=\"\",\"\",報告書!O230)","v":""},{"$f":"IF(報告書!P230=\"\",\"\",報告書!P230)","v":""},{"$f":"IF(報告書!Q230=\"\",\"\",報告書!Q230)","v":""},{"$f":"IF(報告書!R230=\"\",\"\",報告書!R230)","v":""},{"$f":"IF(報告書!S230=\"\",\"\",報告書!S230)","v":""},{"$f":"IF(報告書!T230=\"\",\"\",報告書!T230)","v":""},{"$f":"IF(報告書!U230=\"\",\"\",報告書!U230)","v":""},{"$f":"IF(報告書!V230=\"\",\"\",報告書!V230)","v":""},{"$f":"IF(報告書!W230=\"\",\"\",報告書!W230)","v":""},{"$f":"IF(報告書!X230=\"\",\"\",報告書!X230)","v":""},{"$f":"IF(報告書!Y230=\"\",\"\",報告書!Y230)","v":""},{"$f":"IF(報告書!Z230=\"\",\"\",報告書!Z230)","v":""},{"$f":"IF(報告書!AA230=\"\",\"\",報告書!AA230)","v":""},{"$f":"IF(報告書!AB230=\"\",\"\",報告書!AB230)","v":""},{"$f":"IF(報告書!AC230=\"\",\"\",報告書!AC230)","v":""},{"$f":"IF(報告書!AD230=\"\",\"\",報告書!AD230)","v":""},{"$f":"IF(報告書!AE230=\"\",\"\",報告書!AE230)","v":""},{"$f":"IF(報告書!AF230=\"\",\"\",報告書!AF230)","v":""},{"$f":"IF(報告書!AG230=\"\",\"\",報告書!AG230)","v":""},{"$f":"IF(報告書!AH230=\"\",\"\",報告書!AH230)","v":""},{"$f":"IF(報告書!AI230=\"\",\"\",報告書!AI230)","v":""},{"$f":"IF(報告書!AJ230=\"\",\"\",報告書!AJ230)","v":""},{"$f":"IF(報告書!AK230=\"\",\"\",報告書!AK230)","v":""},{"$f":"IF(報告書!AL230=\"\",\"\",報告書!AL230)","v":""},{"$f":"IF(報告書!AM230=\"\",\"\",報告書!AM230)","v":""},{"$f":"IF(報告書!AN230=\"\",\"\",報告書!AN230)","v":""},{"$f":"IF(報告書!AO230=\"\",\"\",報告書!AO230)","v":""},{"$f":"IF(報告書!AP230=\"\",\"\",報告書!AP230)","v":""},{"$f":"IF(報告書!AQ230=\"\",\"\",報告書!AQ230)","v":""},{"$f":"IF(報告書!AR230=\"\",\"\",報告書!AR230)","v":""},{"$f":"IF(報告書!AS230=\"\",\"\",報告書!AS230)","v":""},{"$f":"IF(報告書!AT230=\"\",\"\",報告書!AT230)","v":""}]
[{"$nulls":9},"（",{"$f":"IF(報告書_排煙_要是正の指摘あり=\"\",\"\",IF(報告書!K231=\"\",\"\",報告書!K231))","v":""},null," ）建築士事務所",{"$nulls":9},"（",{"$f":"IF(報告書_排煙_要是正の指摘あり=\"\",\"\",IF(報告書!X231=\"\",\"\",報告書!X231))","v":""},{"$nulls":3},"）知事登録第",{"$nulls":5},{"$f":"IF(報告書_排煙_要是正の指摘あり=\"\",\"\",IF(報告書!AH231=\"\",\"\",報告書!AH231))","v":""},{"$nulls":6},"号"]
[null,null,"【ホ．郵便番号】",{"$nulls":10},{"$f":"IF(報告書_排煙_要是正の指摘あり=\"\",\"\",IF(報告書!N232=\"\",\"\",報告書!N232))","v":""},{"$f":"IF(報告書!O232=\"\",\"\",報告書!O232)","v":""},{"$f":"IF(報告書!P232=\"\",\"\",報告書!P232)","v":""},{"$f":"IF(報告書!Q232=\"\",\"\",報告書!Q232)","v":""},{"$f":"IF(報告書!R232=\"\",\"\",報告書!R232)","v":""},{"$f":"IF(報告書!S232=\"\",\"\",報告書!S232)","v":""},{"$f":"IF(報告書!T232=\"\",\"\",報告書!T232)","v":""},{"$f":"IF(報告書!U232=\"\",\"\",報告書!U232)","v":""},{"$f":"IF(報告書!V232=\"\",\"\",報告書!V232)","v":""}]
[null,null,"【ヘ．所在地】",{"$nulls":10},{"$f":"IF(報告書_排煙_要是正の指摘あり=\"\",\"\",IF(報告書!N233=\"\",\"\",報告書!N233))","v":""},{"$f":"IF(報告書!O233=\"\",\"\",報告書!O233)","v":""},{"$f":"IF(報告書!P233=\"\",\"\",報告書!P233)","v":""},{"$f":"IF(報告書!Q233=\"\",\"\",報告書!Q233)","v":""},{"$f":"IF(報告書!R233=\"\",\"\",報告書!R233)","v":""},{"$f":"IF(報告書!S233=\"\",\"\",報告書!S233)","v":""},{"$f":"IF(報告書!T233=\"\",\"\",報告書!T233)","v":""},{"$f":"IF(報告書!U233=\"\",\"\",報告書!U233)","v":""},{"$f":"IF(報告書!V233=\"\",\"\",報告書!V233)","v":""},{"$f":"IF(報告書!W233=\"\",\"\",報告書!W233)","v":""},{"$f":"IF(報告書!X233=\"\",\"\",報告書!X233)","v":""},{"$f":"IF(報告書!Y233=\"\",\"\",報告書!Y233)","v":""},{"$f":"IF(報告書!Z233=\"\",\"\",報告書!Z233)","v":""},{"$f":"IF(報告書!AA233=\"\",\"\",報告書!AA233)","v":""},{"$f":"IF(報告書!AB233=\"\",\"\",報告書!AB233)","v":""},{"$f":"IF(報告書!AC233=\"\",\"\",報告書!AC233)","v":""},{"$f":"IF(報告書!AD233=\"\",\"\",報告書!AD233)","v":""},{"$f":"IF(報告書!AE233=\"\",\"\",報告書!AE233)","v":""},{"$f":"IF(報告書!AF233=\"\",\"\",報告書!AF233)","v":""},{"$f":"IF(報告書!AG233=\"\",\"\",報告書!AG233)","v":""},{"$f":"IF(報告書!AH233=\"\",\"\",報告書!AH233)","v":""},{"$f":"IF(報告書!AI233=\"\",\"\",報告書!AI233)","v":""},{"$f":"IF(報告書!AJ233=\"\",\"\",報告書!AJ233)","v":""},{"$f":"IF(報告書!AK233=\"\",\"\",報告書!AK233)","v":""},{"$f":"IF(報告書!AL233=\"\",\"\",報告書!AL233)","v":""},{"$f":"IF(報告書!AM233=\"\",\"\",報告書!AM233)","v":""},{"$f":"IF(報告書!AN233=\"\",\"\",報告書!AN233)","v":""},{"$f":"IF(報告書!AO233=\"\",\"\",報告書!AO233)","v":""},{"$f":"IF(報告書!AP233=\"\",\"\",報告書!AP233)","v":""},{"$f":"IF(報告書!AQ233=\"\",\"\",報告書!AQ233)","v":""},{"$f":"IF(報告書!AR233=\"\",\"\",報告書!AR233)","v":""},{"$f":"IF(報告書!AS233=\"\",\"\",報告書!AS233)","v":""},{"$f":"IF(報告書!AT233=\"\",\"\",報告書!AT233)","v":""}]
[null,null,"【ト．電話番号】",{"$nulls":10},{"$f":"IF(報告書_排煙_要是正の指摘あり=\"\",\"\",IF(報告書!N234=\"\",\"\",報告書!N234))","v":""},{"$f":"IF(報告書!O234=\"\",\"\",報告書!O234)","v":""},{"$f":"IF(報告書!P234=\"\",\"\",報告書!P234)","v":""},{"$f":"IF(報告書!Q234=\"\",\"\",報告書!Q234)","v":""},{"$f":"IF(報告書!R234=\"\",\"\",報告書!R234)","v":""},{"$f":"IF(報告書!S234=\"\",\"\",報告書!S234)","v":""},{"$f":"IF(報告書!T234=\"\",\"\",報告書!T234)","v":""},{"$f":"IF(報告書!U234=\"\",\"\",報告書!U234)","v":""},{"$f":"IF(報告書!V234=\"\",\"\",報告書!V234)","v":""},{"$f":"IF(報告書!W234=\"\",\"\",報告書!W234)","v":""},{"$f":"IF(報告書!X234=\"\",\"\",報告書!X234)","v":""},{"$f":"IF(報告書!Y234=\"\",\"\",報告書!Y234)","v":""},{"$f":"IF(報告書!Z234=\"\",\"\",報告書!Z234)","v":""},{"$f":"IF(報告書!AA234=\"\",\"\",報告書!AA234)","v":""},{"$f":"IF(報告書!AB234=\"\",\"\",報告書!AB234)","v":""},{"$f":"IF(報告書!AC234=\"\",\"\",報告書!AC234)","v":""},{"$f":"IF(報告書!AD234=\"\",\"\",報告書!AD234)","v":""}]
[null," （その他の検査者２）"]
[null,null,"【イ．資格等】",{"$nulls":6},"（",{"$f":"IF(報告書!X263=\"レ\",\"\",IF(報告書!N263=\"\",\"\",IF(報告書!K236=\"\",\"\",報告書!K236)))","v":""},null," ）建築士",{"$nulls":9},"（",{"$f":"IF(報告書!X263=\"レ\",\"\",IF(報告書!N263=\"\",\"\",IF(報告書!X236=\"\",\"\",報告書!X236)))","v":""},{"$nulls":8},")登録第",{"$f":"IF(報告書!X263=\"レ\",\"\",IF(報告書!N263=\"\",\"\",IF(報告書!AH236=\"\",\"\",報告書!AH236)))","v":""},{"$nulls":6},"号"]
[{"$nulls":9},"建築基準適合判定資格者",{"$nulls":22},"第",{"$f":"IF(報告書!X263=\"レ\",\"\",IF(報告書!N263=\"\",\"\",IF(報告書!AH237=\"\",\"\",報告書!AH237)))","v":""},{"$nulls":6},"号"]
[{"$nulls":9},"登録建築設備検査資格者講習を修了した者",{"$nulls":22},"第",{"$f":"IF(報告書!X263=\"レ\",\"\",IF(報告書!N263=\"\",\"\",IF(報告書!AH238=\"\",\"\",報告書!AH238)))","v":""},{"$nulls":6},"号"]
[null,null,"【ロ．氏名のフリガナ】",{"$nulls":10},{"$f":"IF(報告書!X263=\"レ\",\"\",IF(報告書!N263=\"\",\"\",IF(報告書!N239=\"\",\"\",報告書!N239)))","v":""},{"$f":"IF(報告書!O239=\"\",\"\",報告書!O239)","v":""},{"$f":"IF(報告書!P239=\"\",\"\",報告書!P239)","v":""},{"$f":"IF(報告書!Q239=\"\",\"\",報告書!Q239)","v":""},{"$f":"IF(報告書!R239=\"\",\"\",報告書!R239)","v":""},{"$f":"IF(報告書!S239=\"\",\"\",報告書!S239)","v":""},{"$f":"IF(報告書!T239=\"\",\"\",報告書!T239)","v":""},{"$f":"IF(報告書!U239=\"\",\"\",報告書!U239)","v":""},{"$f":"IF(報告書!V239=\"\",\"\",報告書!V239)","v":""},{"$f":"IF(報告書!W239=\"\",\"\",報告書!W239)","v":""},{"$f":"IF(報告書!X239=\"\",\"\",報告書!X239)","v":""},{"$f":"IF(報告書!Y239=\"\",\"\",報告書!Y239)","v":""},{"$f":"IF(報告書!Z239=\"\",\"\",報告書!Z239)","v":""},{"$f":"IF(報告書!AA239=\"\",\"\",報告書!AA239)","v":""},{"$f":"IF(報告書!AB239=\"\",\"\",報告書!AB239)","v":""},{"$f":"IF(報告書!AC239=\"\",\"\",報告書!AC239)","v":""},{"$f":"IF(報告書!AD239=\"\",\"\",報告書!AD239)","v":""},{"$f":"IF(報告書!AE239=\"\",\"\",報告書!AE239)","v":""},{"$f":"IF(報告書!AF239=\"\",\"\",報告書!AF239)","v":""},{"$f":"IF(報告書!AG239=\"\",\"\",報告書!AG239)","v":""},{"$f":"IF(報告書!AH239=\"\",\"\",報告書!AH239)","v":""},{"$f":"IF(報告書!AI239=\"\",\"\",報告書!AI239)","v":""},{"$f":"IF(報告書!AJ239=\"\",\"\",報告書!AJ239)","v":""},{"$f":"IF(報告書!AK239=\"\",\"\",報告書!AK239)","v":""},{"$f":"IF(報告書!AL239=\"\",\"\",報告書!AL239)","v":""},{"$f":"IF(報告書!AM239=\"\",\"\",報告書!AM239)","v":""},{"$f":"IF(報告書!AN239=\"\",\"\",報告書!AN239)","v":""},{"$f":"IF(報告書!AO239=\"\",\"\",報告書!AO239)","v":""},{"$f":"IF(報告書!AP239=\"\",\"\",報告書!AP239)","v":""},{"$f":"IF(報告書!AQ239=\"\",\"\",報告書!AQ239)","v":""},{"$f":"IF(報告書!AR239=\"\",\"\",報告書!AR239)","v":""},{"$f":"IF(報告書!AS239=\"\",\"\",報告書!AS239)","v":""},{"$f":"IF(報告書!AT239=\"\",\"\",報告書!AT239)","v":""}]
[null,null,"【ハ．氏名】",{"$nulls":10},{"$f":"IF(報告書!X263=\"レ\",\"\",IF(報告書!N263=\"\",\"\",IF(報告書!N240=\"\",\"\",報告書!N240)))","v":""},{"$f":"IF(報告書!O240=\"\",\"\",報告書!O240)","v":""},{"$f":"IF(報告書!P240=\"\",\"\",報告書!P240)","v":""},{"$f":"IF(報告書!Q240=\"\",\"\",報告書!Q240)","v":""},{"$f":"IF(報告書!R240=\"\",\"\",報告書!R240)","v":""},{"$f":"IF(報告書!S240=\"\",\"\",報告書!S240)","v":""},{"$f":"IF(報告書!T240=\"\",\"\",報告書!T240)","v":""},{"$f":"IF(報告書!U240=\"\",\"\",報告書!U240)","v":""},{"$f":"IF(報告書!V240=\"\",\"\",報告書!V240)","v":""},{"$f":"IF(報告書!W240=\"\",\"\",報告書!W240)","v":""},{"$f":"IF(報告書!X240=\"\",\"\",報告書!X240)","v":""},{"$f":"IF(報告書!Y240=\"\",\"\",報告書!Y240)","v":""},{"$f":"IF(報告書!Z240=\"\",\"\",報告書!Z240)","v":""},{"$f":"IF(報告書!AA240=\"\",\"\",報告書!AA240)","v":""},{"$f":"IF(報告書!AB240=\"\",\"\",報告書!AB240)","v":""},{"$f":"IF(報告書!AC240=\"\",\"\",報告書!AC240)","v":""},{"$f":"IF(報告書!AD240=\"\",\"\",報告書!AD240)","v":""},{"$f":"IF(報告書!AE240=\"\",\"\",報告書!AE240)","v":""},{"$f":"IF(報告書!AF240=\"\",\"\",報告書!AF240)","v":""},{"$f":"IF(報告書!AG240=\"\",\"\",報告書!AG240)","v":""},{"$f":"IF(報告書!AH240=\"\",\"\",報告書!AH240)","v":""},{"$f":"IF(報告書!AI240=\"\",\"\",報告書!AI240)","v":""},{"$f":"IF(報告書!AJ240=\"\",\"\",報告書!AJ240)","v":""},{"$f":"IF(報告書!AK240=\"\",\"\",報告書!AK240)","v":""},{"$f":"IF(報告書!AL240=\"\",\"\",報告書!AL240)","v":""},{"$f":"IF(報告書!AM240=\"\",\"\",報告書!AM240)","v":""},{"$f":"IF(報告書!AN240=\"\",\"\",報告書!AN240)","v":""},{"$f":"IF(報告書!AO240=\"\",\"\",報告書!AO240)","v":""},{"$f":"IF(報告書!AP240=\"\",\"\",報告書!AP240)","v":""},{"$f":"IF(報告書!AQ240=\"\",\"\",報告書!AQ240)","v":""},{"$f":"IF(報告書!AR240=\"\",\"\",報告書!AR240)","v":""},{"$f":"IF(報告書!AS240=\"\",\"\",報告書!AS240)","v":""},{"$f":"IF(報告書!AT240=\"\",\"\",報告書!AT240)","v":""}]
[null,null,"【ニ．勤務先】",{"$nulls":10},{"$f":"IF(報告書!X263=\"レ\",\"\",IF(報告書!N263=\"\",\"\",IF(報告書!N241=\"\",\"\",報告書!N241)))","v":""},{"$f":"IF(報告書!O241=\"\",\"\",報告書!O241)","v":""},{"$f":"IF(報告書!P241=\"\",\"\",報告書!P241)","v":""},{"$f":"IF(報告書!Q241=\"\",\"\",報告書!Q241)","v":""},{"$f":"IF(報告書!R241=\"\",\"\",報告書!R241)","v":""},{"$f":"IF(報告書!S241=\"\",\"\",報告書!S241)","v":""},{"$f":"IF(報告書!T241=\"\",\"\",報告書!T241)","v":""},{"$f":"IF(報告書!U241=\"\",\"\",報告書!U241)","v":""},{"$f":"IF(報告書!V241=\"\",\"\",報告書!V241)","v":""},{"$f":"IF(報告書!W241=\"\",\"\",報告書!W241)","v":""},{"$f":"IF(報告書!X241=\"\",\"\",報告書!X241)","v":""},{"$f":"IF(報告書!Y241=\"\",\"\",報告書!Y241)","v":""},{"$f":"IF(報告書!Z241=\"\",\"\",報告書!Z241)","v":""},{"$f":"IF(報告書!AA241=\"\",\"\",報告書!AA241)","v":""},{"$f":"IF(報告書!AB241=\"\",\"\",報告書!AB241)","v":""},{"$f":"IF(報告書!AC241=\"\",\"\",報告書!AC241)","v":""},{"$f":"IF(報告書!AD241=\"\",\"\",報告書!AD241)","v":""},{"$f":"IF(報告書!AE241=\"\",\"\",報告書!AE241)","v":""},{"$f":"IF(報告書!AF241=\"\",\"\",報告書!AF241)","v":""},{"$f":"IF(報告書!AG241=\"\",\"\",報告書!AG241)","v":""},{"$f":"IF(報告書!AH241=\"\",\"\",報告書!AH241)","v":""},{"$f":"IF(報告書!AI241=\"\",\"\",報告書!AI241)","v":""},{"$f":"IF(報告書!AJ241=\"\",\"\",報告書!AJ241)","v":""},{"$f":"IF(報告書!AK241=\"\",\"\",報告書!AK241)","v":""},{"$f":"IF(報告書!AL241=\"\",\"\",報告書!AL241)","v":""},{"$f":"IF(報告書!AM241=\"\",\"\",報告書!AM241)","v":""},{"$f":"IF(報告書!AN241=\"\",\"\",報告書!AN241)","v":""},{"$f":"IF(報告書!AO241=\"\",\"\",報告書!AO241)","v":""},{"$f":"IF(報告書!AP241=\"\",\"\",報告書!AP241)","v":""},{"$f":"IF(報告書!AQ241=\"\",\"\",報告書!AQ241)","v":""},{"$f":"IF(報告書!AR241=\"\",\"\",報告書!AR241)","v":""},{"$f":"IF(報告書!AS241=\"\",\"\",報告書!AS241)","v":""},{"$f":"IF(報告書!AT241=\"\",\"\",報告書!AT241)","v":""}]
[{"$nulls":9},"（",{"$f":"IF(報告書!X263=\"レ\",\"\",IF(報告書!N263=\"\",\"\",IF(報告書!K242=\"\",\"\",報告書!K242)))","v":""},null," ）建築士事務所",{"$nulls":9},"（",{"$f":"IF(報告書!X263=\"レ\",\"\",IF(報告書!N263=\"\",\"\",IF(報告書!X242=\"\",\"\",報告書!X242)))","v":""},{"$nulls":8},")知事登録第",{"$f":"IF(報告書!X263=\"レ\",\"\",IF(報告書!N263=\"\",\"\",IF(報告書!AH242=\"\",\"\",報告書!AH242)))","v":""},{"$nulls":6},"号"]
[null,null,"【ホ．郵便番号】",{"$nulls":10},{"$f":"IF(報告書!X263=\"レ\",\"\",IF(報告書!N263=\"\",\"\",IF(報告書!N243=\"\",\"\",報告書!N243)))","v":""},{"$f":"IF(報告書!O243=\"\",\"\",報告書!O243)","v":""},{"$f":"IF(報告書!P243=\"\",\"\",報告書!P243)","v":""},{"$f":"IF(報告書!Q243=\"\",\"\",報告書!Q243)","v":""},{"$f":"IF(報告書!R243=\"\",\"\",報告書!R243)","v":""},{"$f":"IF(報告書!S243=\"\",\"\",報告書!S243)","v":""},{"$f":"IF(報告書!T243=\"\",\"\",報告書!T243)","v":""},{"$f":"IF(報告書!U243=\"\",\"\",報告書!U243)","v":""},{"$f":"IF(報告書!V243=\"\",\"\",報告書!V243)","v":""}]
[null,null,"【ヘ．所在地】",{"$nulls":10},{"$f":"IF(報告書!X263=\"レ\",\"\",IF(報告書!N263=\"\",\"\",IF(報告書!N244=\"\",\"\",報告書!N244)))","v":""},{"$f":"IF(報告書!O244=\"\",\"\",報告書!O244)","v":""},{"$f":"IF(報告書!P244=\"\",\"\",報告書!P244)","v":""},{"$f":"IF(報告書!Q244=\"\",\"\",報告書!Q244)","v":""},{"$f":"IF(報告書!R244=\"\",\"\",報告書!R244)","v":""},{"$f":"IF(報告書!S244=\"\",\"\",報告書!S244)","v":""},{"$f":"IF(報告書!T244=\"\",\"\",報告書!T244)","v":""},{"$f":"IF(報告書!U244=\"\",\"\",報告書!U244)","v":""},{"$f":"IF(報告書!V244=\"\",\"\",報告書!V244)","v":""},{"$f":"IF(報告書!W244=\"\",\"\",報告書!W244)","v":""},{"$f":"IF(報告書!X244=\"\",\"\",報告書!X244)","v":""},{"$f":"IF(報告書!Y244=\"\",\"\",報告書!Y244)","v":""},{"$f":"IF(報告書!Z244=\"\",\"\",報告書!Z244)","v":""},{"$f":"IF(報告書!AA244=\"\",\"\",報告書!AA244)","v":""},{"$f":"IF(報告書!AB244=\"\",\"\",報告書!AB244)","v":""},{"$f":"IF(報告書!AC244=\"\",\"\",報告書!AC244)","v":""},{"$f":"IF(報告書!AD244=\"\",\"\",報告書!AD244)","v":""},{"$f":"IF(報告書!AE244=\"\",\"\",報告書!AE244)","v":""},{"$f":"IF(報告書!AF244=\"\",\"\",報告書!AF244)","v":""},{"$f":"IF(報告書!AG244=\"\",\"\",報告書!AG244)","v":""},{"$f":"IF(報告書!AH244=\"\",\"\",報告書!AH244)","v":""},{"$f":"IF(報告書!AI244=\"\",\"\",報告書!AI244)","v":""},{"$f":"IF(報告書!AJ244=\"\",\"\",報告書!AJ244)","v":""},{"$f":"IF(報告書!AK244=\"\",\"\",報告書!AK244)","v":""},{"$f":"IF(報告書!AL244=\"\",\"\",報告書!AL244)","v":""},{"$f":"IF(報告書!AM244=\"\",\"\",報告書!AM244)","v":""},{"$f":"IF(報告書!AN244=\"\",\"\",報告書!AN244)","v":""},{"$f":"IF(報告書!AO244=\"\",\"\",報告書!AO244)","v":""},{"$f":"IF(報告書!AP244=\"\",\"\",報告書!AP244)","v":""},{"$f":"IF(報告書!AQ244=\"\",\"\",報告書!AQ244)","v":""},{"$f":"IF(報告書!AR244=\"\",\"\",報告書!AR244)","v":""},{"$f":"IF(報告書!AS244=\"\",\"\",報告書!AS244)","v":""},{"$f":"IF(報告書!AT244=\"\",\"\",報告書!AT244)","v":""}]
[null,null,"【ト．電話番号】",{"$nulls":10},{"$f":"IF(報告書!X263=\"レ\",\"\",IF(報告書!N263=\"\",\"\",IF(報告書!N245=\"\",\"\",報告書!N245)))","v":""},{"$f":"IF(報告書!O245=\"\",\"\",報告書!O245)","v":""},{"$f":"IF(報告書!P245=\"\",\"\",報告書!P245)","v":""},{"$f":"IF(報告書!Q245=\"\",\"\",報告書!Q245)","v":""},{"$f":"IF(報告書!R245=\"\",\"\",報告書!R245)","v":""},{"$f":"IF(報告書!S245=\"\",\"\",報告書!S245)","v":""},{"$f":"IF(報告書!T245=\"\",\"\",報告書!T245)","v":""},{"$f":"IF(報告書!U245=\"\",\"\",報告書!U245)","v":""},{"$f":"IF(報告書!V245=\"\",\"\",報告書!V245)","v":""},{"$f":"IF(報告書!W245=\"\",\"\",報告書!W245)","v":""},{"$f":"IF(報告書!X245=\"\",\"\",報告書!X245)","v":""},{"$f":"IF(報告書!Y245=\"\",\"\",報告書!Y245)","v":""},{"$f":"IF(報告書!Z245=\"\",\"\",報告書!Z245)","v":""},{"$f":"IF(報告書!AA245=\"\",\"\",報告書!AA245)","v":""},{"$f":"IF(報告書!AB245=\"\",\"\",報告書!AB245)","v":""},{"$f":"IF(報告書!AC245=\"\",\"\",報告書!AC245)","v":""},{"$f":"IF(報告書!AD245=\"\",\"\",報告書!AD245)","v":""}]
[]
[]
[]
[null,"【7．排煙設備の概要】"]
[null,null,"【イ．避難安全検証法等の適用】",{"$nulls":14},{"$f":"IF(報告書_排煙_要是正の指摘あり=\"\",\"\",報告書!R250)","v":""},"区画避難安全検証法 (",{"$nulls":9},{"$f":"IF(報告書_排煙_要是正の指摘あり=\"\",\"\",IF(報告書!AC250=\"\",\"\",報告書!AC250))","v":""},null,"階）",null,{"$f":"IF(報告書_排煙_要是正の指摘あり=\"\",\"\",報告書!AG250)","v":""},"階避難安全検証法 (",{"$nulls":8},{"$f":"IF(報告書_排煙_要是正の指摘あり=\"\",\"\",IF(報告書!AQ250=\"\",\"\",報告書!AQ250))","v":""},null,"階）"]
[{"$nulls":10},{"$f":"IF(報告書_排煙_要是正の指摘あり=\"\",\"\",報告書!K251)","v":""},"全館避難安全検証法",{"$nulls":9},{"$f":"IF(報告書_排煙_要是正の指摘あり=\"\",\"\",報告書!V251)","v":""},"その他 (",{"$nulls":3},{"$f":"IF(報告書_排煙_要是正の指摘あり=\"\",\"\",IF(報告書!AA251=\"\",\"\",報告書!AA251))","v":""},{"$nulls":17},"）"]
[null,null,"【ロ．特別避難階段の階段室又は付室】"]
[{"$nulls":10},{"$f":"IF(報告書_排煙_要是正の指摘あり=\"\",\"\",報告書!K253)","v":""},"吸引式 (",{"$nulls":3},{"$f":"IF(報告書_排煙_要是正の指摘あり=\"\",\"\",IF(報告書!P253=\"\",\"\",報告書!P253))","v":""},null,"区画）",{"$nulls":3},{"$f":"IF(報告書_排煙_要是正の指摘あり=\"\",\"\",報告書!V253)","v":""},"給気式 (",{"$nulls":3},{"$f":"IF(報告書_排煙_要是正の指摘あり=\"\",\"\",IF(報告書!AA253=\"\",\"\",報告書!AA253))","v":""},null,"区画）",{"$nulls":3},{"$f":"IF(報告書_排煙_要是正の指摘あり=\"\",\"\",報告書!AG253)","v":""},"加圧式 (",{"$nulls":3},{"$f":"IF(報告書_排煙_要是正の指摘あり=\"\",\"\",IF(報告書!AL253=\"\",\"\",報告書!AL253))","v":""},null,"区画）",{"$nulls":3},{"$f":"IF(報告書_排煙_要是正の指摘あり=\"\",\"\",報告書!AR253)","v":""},"無"]
[null,null,"【ハ．非常用エレベーターの昇降路又は乗降ロビー】"]
[{"$nulls":10},{"$f":"IF(報告書_排煙_要是正の指摘あり=\"\",\"\",報告書!K255)","v":""},"吸引式 (",{"$nulls":3},{"$f":"IF(報告書_排煙_要是正の指摘あり=\"\",\"\",IF(報告書!P255=\"\",\"\",報告書!P255))","v":""},null,"区画）",{"$nulls":3},{"$f":"IF(報告書_排煙_要是正の指摘あり=\"\",\"\",報告書!V255)","v":""},"給気式 (",{"$nulls":3},{"$f":"IF(報告書_排煙_要是正の指摘あり=\"\",\"\",IF(報告書!AA255=\"\",\"\",報告書!AA255))","v":""},null,"区画）",{"$nulls":3},{"$f":"IF(報告書_排煙_要是正の指摘あり=\"\",\"\",報告書!AG255)","v":""},"加圧式 (",{"$nulls":3},{"$f":"IF(報告書_排煙_要是正の指摘あり=\"\",\"\",IF(報告書!AL255=\"\",\"\",報告書!AL255))","v":""},null,"区画）",{"$nulls":3},{"$f":"IF(報告書_排煙_要是正の指摘あり=\"\",\"\",報告書!AR255)","v":""},"無"]
[null,null,"【ニ．非常用エレベーターの乗降ロビーの用に供する付室】"]
[{"$nulls":10},{"$f":"IF(報告書_排煙_要是正の指摘あり=\"\",\"\",報告書!K257)","v":""},"吸引式 (",{"$nulls":3},{"$f":"IF(報告書_排煙_要是正の指摘あり=\"\",\"\",IF(報告書!P257=\"\",\"\",報告書!P257))","v":""},null,"区画）",{"$nulls":3},{"$f":"IF(報告書_排煙_要是正の指摘あり=\"\",\"\",報告書!V257)","v":""},"給気式 (",{"$nulls":3},{"$f":"IF(報告書_排煙_要是正の指摘あり=\"\",\"\",IF(報告書!AA257=\"\",\"\",報告書!AA257))","v":""},null,"区画）",{"$nulls":3},{"$f":"IF(報告書_排煙_要是正の指摘あり=\"\",\"\",報告書!AG257)","v":""},"加圧式 (",{"$nulls":3},{"$f":"IF(報告書_排煙_要是正の指摘あり=\"\",\"\",IF(報告書!AL257=\"\",\"\",報告書!AL257))","v":""},null,"区画）",{"$nulls":3},{"$f":"IF(報告書_排煙_要是正の指摘あり=\"\",\"\",報告書!AR257)","v":""},"無"]
[null,null,"【ホ．居室等】",{"$nulls":7},{"$f":"IF(報告書_排煙_要是正の指摘あり=\"\",\"\",報告書!K258)","v":""},"吸引式 (",{"$nulls":3},{"$f":"IF(報告書_排煙_要是正の指摘あり=\"\",\"\",IF(報告書!P258=\"\",\"\",報告書!P258))","v":""},null,"区画）",{"$nulls":3},{"$f":"IF(報告書_排煙_要是正の指摘あり=\"\",\"\",報告書!V258)","v":""},"給気式 (",{"$nulls":3},{"$f":"IF(報告書_排煙_要是正の指摘あり=\"\",\"\",IF(報告書!AA258=\"\",\"\",報告書!AA258))","v":""},null,"区画）",{"$nulls":14},{"$f":"IF(報告書_排煙_要是正の指摘あり=\"\",\"\",報告書!AR258)","v":""},"無"]
[null,null,"【ヘ．予備電源】",{"$nulls":7},{"$f":"IF(報告書_排煙_要是正の指摘あり=\"\",\"\",報告書!K259)","v":""},"蓄電池",{"$nulls":3},{"$f":"IF(報告書_排煙_要是正の指摘あり=\"\",\"\",報告書!P259)","v":""},"自家用発電装置",{"$nulls":7},{"$f":"IF(報告書_排煙_要是正の指摘あり=\"\",\"\",報告書!Y259)","v":""},"直結エンジン",{"$nulls":6},{"$f":"IF(報告書_排煙_要是正の指摘あり=\"\",\"\",報告書!AG259)","v":""},"その他(",{"$nulls":3},{"$f":"IF(報告書_排煙_要是正の指摘あり=\"\",\"\",IF(報告書!AL259=\"\",\"\",報告書!AL259))","v":""},{"$nulls":6},")"]
[]
[]
[null,"【10．排煙設備の検査の状況】"]
[null,null,"【イ．指摘の内容】",{"$nulls":11},"要是正の指摘あり （",{"$nulls":9},"既存不適格）",{"$nulls":8},"指摘なし"]
[null,null,"【ロ．指摘の概要】"]
[]
[]
[]
[]
[null,null,"【ハ．改善予定の有無】",{"$nulls":11},"有",null,null,"（平成",null,null,"年",null,null,"月に改善予定）",{"$nulls":9},"無"]
[]
[]
[]
[]
[]
[null,"【11．排煙設備の不具合の発生状況】"]
[null,null,"【イ．不具合】",{"$nulls":9},"有",null,null,"無"]
[null,null,"【ロ．不具合記録】",{"$nulls":9},"有",null,null,"無"]
[null,null,"【ハ．改善の状況】",{"$nulls":9},"実施済",{"$nulls":4},"改善予定",{"$nulls":5},"（平成",null,null,"年",null,null,"月に改善予定）",{"$nulls":8},"予定なし"]
{"$rows_empty":10}
[null,"【8．非常用の照明装置の検査者】"]
[null," （代表となる検査者）"]
[null,null,"【イ．資格】",{"$nulls":6},"（",{"$f":"IF(報告書_照明_要是正の指摘あり=\"\",\"\",IF(報告書!K291=\"\",\"\",報告書!K291))","v":""},null," ）建築士",{"$nulls":9},"（",{"$f":"IF(報告書_照明_要是正の指摘あり=\"\",\"\",IF(報告書!X291=\"\",\"\",報告書!X291))","v":""},{"$nulls":5},"）登録第",{"$nulls":3},{"$f":"IF(報告書_照明_要是正の指摘あり=\"\",\"\",IF(報告書!AH291=\"\",\"\",報告書!AH291))","v":""},{"$nulls":6},"号"]
[{"$nulls":9},"建築設備検査員",{"$nulls":22},"第",{"$f":"IF(報告書_照明_要是正の指摘あり=\"\",\"\",IF(報告書!AH292=\"\",\"\",報告書!AH292))","v":""},{"$nulls":6},"号"]
[{"$nulls":9},"登録建築設備検査資格者講習を修了した者",{"$nulls":22},"第",{"$f":"IF(報告書_照明_要是正の指摘あり=\"\",\"\",IF(報告書!AH293=\"\",\"\",報告書!AH293))","v":""},{"$nulls":6},"号"]
[null,null,"【ロ．氏名のフリガナ】",{"$nulls":10},{"$f":"IF(報告書_照明_要是正の指摘あり=\"\",\"\",IF(報告書!N294=\"\",\"\",報告書!N294))","v":""},{"$f":"IF(報告書!O294=\"\",\"\",報告書!O294)","v":"ﾀｹﾀﾞﾃﾂﾔ"},{"$f":"IF(報告書!P294=\"\",\"\",報告書!P294)","v":"ﾀｹﾀﾞﾃﾂﾔ"},{"$f":"IF(報告書!Q294=\"\",\"\",報告書!Q294)","v":"ﾀｹﾀﾞﾃﾂﾔ"},{"$f":"IF(報告書!R294=\"\",\"\",報告書!R294)","v":"ﾀｹﾀﾞﾃﾂﾔ"},{"$f":"IF(報告書!S294=\"\",\"\",報告書!S294)","v":"ﾀｹﾀﾞﾃﾂﾔ"},{"$f":"IF(報告書!T294=\"\",\"\",報告書!T294)","v":"ﾀｹﾀﾞﾃﾂﾔ"},{"$f":"IF(報告書!U294=\"\",\"\",報告書!U294)","v":"ﾀｹﾀﾞﾃﾂﾔ"},{"$f":"IF(報告書!V294=\"\",\"\",報告書!V294)","v":"ﾀｹﾀﾞﾃﾂﾔ"},{"$f":"IF(報告書!W294=\"\",\"\",報告書!W294)","v":"ﾀｹﾀﾞﾃﾂﾔ"},{"$f":"IF(報告書!X294=\"\",\"\",報告書!X294)","v":"ﾀｹﾀﾞﾃﾂﾔ"},{"$f":"IF(報告書!Y294=\"\",\"\",報告書!Y294)","v":"ﾀｹﾀﾞﾃﾂﾔ"},{"$f":"IF(報告書!Z294=\"\",\"\",報告書!Z294)","v":"ﾀｹﾀﾞﾃﾂﾔ"},{"$f":"IF(報告書!AA294=\"\",\"\",報告書!AA294)","v":"ﾀｹﾀﾞﾃﾂﾔ"},{"$f":"IF(報告書!AB294=\"\",\"\",報告書!AB294)","v":"ﾀｹﾀﾞﾃﾂﾔ"},{"$f":"IF(報告書!AC294=\"\",\"\",報告書!AC294)","v":"ﾀｹﾀﾞﾃﾂﾔ"},{"$f":"IF(報告書!AD294=\"\",\"\",報告書!AD294)","v":"ﾀｹﾀﾞﾃﾂﾔ"},{"$f":"IF(報告書!AE294=\"\",\"\",報告書!AE294)","v":"ﾀｹﾀﾞﾃﾂﾔ"},{"$f":"IF(報告書!AF294=\"\",\"\",報告書!AF294)","v":"ﾀｹﾀﾞﾃﾂﾔ"},{"$f":"IF(報告書!AG294=\"\",\"\",報告書!AG294)","v":"ﾀｹﾀﾞﾃﾂﾔ"},{"$f":"IF(報告書!AH294=\"\",\"\",報告書!AH294)","v":"ﾀｹﾀﾞﾃﾂﾔ"},{"$f":"IF(報告書!AI294=\"\",\"\",報告書!AI294)","v":"ﾀｹﾀﾞﾃﾂﾔ"},{"$f":"IF(報告書!AJ294=\"\",\"\",報告書!AJ294)","v":"ﾀｹﾀﾞﾃﾂﾔ"},{"$f":"IF(報告書!AK294=\"\",\"\",報告書!AK294)","v":"ﾀｹﾀﾞﾃﾂﾔ"},{"$f":"IF(報告書!AL294=\"\",\"\",報告書!AL294)","v":"ﾀｹﾀﾞﾃﾂﾔ"},{"$f":"IF(報告書!AM294=\"\",\"\",報告書!AM294)","v":"ﾀｹﾀﾞﾃﾂﾔ"},{"$f":"IF(報告書!AN294=\"\",\"\",報告書!AN294)","v":"ﾀｹﾀﾞﾃﾂﾔ"},{"$f":"IF(報告書!AO294=\"\",\"\",報告書!AO294)","v":"ﾀｹﾀﾞﾃﾂﾔ"},{"$f":"IF(報告書!AP294=\"\",\"\",報告書!AP294)","v":"ﾀｹﾀﾞﾃﾂﾔ"},{"$f":"IF(報告書!AQ294=\"\",\"\",報告書!AQ294)","v":"ﾀｹﾀﾞﾃﾂﾔ"},{"$f":"IF(報告書!AR294=\"\",\"\",報告書!AR294)","v":"ﾀｹﾀﾞﾃﾂﾔ"},{"$f":"IF(報告書!AS294=\"\",\"\",報告書!AS294)","v":"ﾀｹﾀﾞﾃﾂﾔ"},{"$f":"IF(報告書!AT294=\"\",\"\",報告書!AT294)","v":"ﾀｹﾀﾞﾃﾂﾔ"}]
[null,null,"【ハ．氏名】",{"$nulls":10},{"$f":"IF(報告書_照明_要是正の指摘あり=\"\",\"\",IF(報告書!N295=\"\",\"\",報告書!N295))","v":""},{"$f":"IF(報告書!O295=\"\",\"\",報告書!O295)","v":""},{"$f":"IF(報告書!P295=\"\",\"\",報告書!P295)","v":""},{"$f":"IF(報告書!Q295=\"\",\"\",報告書!Q295)","v":""},{"$f":"IF(報告書!R295=\"\",\"\",報告書!R295)","v":""},{"$f":"IF(報告書!S295=\"\",\"\",報告書!S295)","v":""},{"$f":"IF(報告書!T295=\"\",\"\",報告書!T295)","v":""},{"$f":"IF(報告書!U295=\"\",\"\",報告書!U295)","v":""},{"$f":"IF(報告書!V295=\"\",\"\",報告書!V295)","v":""},{"$f":"IF(報告書!W295=\"\",\"\",報告書!W295)","v":""},{"$f":"IF(報告書!X295=\"\",\"\",報告書!X295)","v":""},{"$f":"IF(報告書!Y295=\"\",\"\",報告書!Y295)","v":""},{"$f":"IF(報告書!Z295=\"\",\"\",報告書!Z295)","v":""},{"$f":"IF(報告書!AA295=\"\",\"\",報告書!AA295)","v":""},{"$f":"IF(報告書!AB295=\"\",\"\",報告書!AB295)","v":""},{"$f":"IF(報告書!AC295=\"\",\"\",報告書!AC295)","v":""},{"$f":"IF(報告書!AD295=\"\",\"\",報告書!AD295)","v":""},{"$f":"IF(報告書!AE295=\"\",\"\",報告書!AE295)","v":""},{"$f":"IF(報告書!AF295=\"\",\"\",報告書!AF295)","v":""},{"$f":"IF(報告書!AG295=\"\",\"\",報告書!AG295)","v":""},{"$f":"IF(報告書!AH295=\"\",\"\",報告書!AH295)","v":""},{"$f":"IF(報告書!AI295=\"\",\"\",報告書!AI295)","v":""},{"$f":"IF(報告書!AJ295=\"\",\"\",報告書!AJ295)","v":""},{"$f":"IF(報告書!AK295=\"\",\"\",報告書!AK295)","v":""},{"$f":"IF(報告書!AL295=\"\",\"\",報告書!AL295)","v":""},{"$f":"IF(報告書!AM295=\"\",\"\",報告書!AM295)","v":""},{"$f":"IF(報告書!AN295=\"\",\"\",報告書!AN295)","v":""},{"$f":"IF(報告書!AO295=\"\",\"\",報告書!AO295)","v":""},{"$f":"IF(報告書!AP295=\"\",\"\",報告書!AP295)","v":""},{"$f":"IF(報告書!AQ295=\"\",\"\",報告書!AQ295)","v":""},{"$f":"IF(報告書!AR295=\"\",\"\",報告書!AR295)","v":""},{"$f":"IF(報告書!AS295=\"\",\"\",報告書!AS295)","v":""},{"$f":"IF(報告書!AT295=\"\",\"\",報告書!AT295)","v":""}]
[null,null,"【ニ．勤務先】",{"$nulls":10},{"$f":"IF(報告書_照明_要是正の指摘あり=\"\",\"\",IF(報告書!N296=\"\",\"\",報告書!N296))","v":""},{"$f":"IF(報告書!O296=\"\",\"\",報告書!O296)","v":""},{"$f":"IF(報告書!P296=\"\",\"\",報告書!P296)","v":""},{"$f":"IF(報告書!Q296=\"\",\"\",報告書!Q296)","v":""},{"$f":"IF(報告書!R296=\"\",\"\",報告書!R296)","v":""},{"$f":"IF(報告書!S296=\"\",\"\",報告書!S296)","v":""},{"$f":"IF(報告書!T296=\"\",\"\",報告書!T296)","v":""},{"$f":"IF(報告書!U296=\"\",\"\",報告書!U296)","v":""},{"$f":"IF(報告書!V296=\"\",\"\",報告書!V296)","v":""},{"$f":"IF(報告書!W296=\"\",\"\",報告書!W296)","v":""},{"$f":"IF(報告書!X296=\"\",\"\",報告書!X296)","v":""},{"$f":"IF(報告書!Y296=\"\",\"\",報告書!Y296)","v":""},{"$f":"IF(報告書!Z296=\"\",\"\",報告書!Z296)","v":""},{"$f":"IF(報告書!AA296=\"\",\"\",報告書!AA296)","v":""},{"$f":"IF(報告書!AB296=\"\",\"\",報告書!AB296)","v":""},{"$f":"IF(報告書!AC296=\"\",\"\",報告書!AC296)","v":""},{"$f":"IF(報告書!AD296=\"\",\"\",報告書!AD296)","v":""},{"$f":"IF(報告書!AE296=\"\",\"\",報告書!AE296)","v":""},{"$f":"IF(報告書!AF296=\"\",\"\",報告書!AF296)","v":""},{"$f":"IF(報告書!AG296=\"\",\"\",報告書!AG296)","v":""},{"$f":"IF(報告書!AH296=\"\",\"\",報告書!AH296)","v":""},{"$f":"IF(報告書!AI296=\"\",\"\",報告書!AI296)","v":""},{"$f":"IF(報告書!AJ296=\"\",\"\",報告書!AJ296)","v":""},{"$f":"IF(報告書!AK296=\"\",\"\",報告書!AK296)","v":""},{"$f":"IF(報告書!AL296=\"\",\"\",報告書!AL296)","v":""},{"$f":"IF(報告書!AM296=\"\",\"\",報告書!AM296)","v":""},{"$f":"IF(報告書!AN296=\"\",\"\",報告書!AN296)","v":""},{"$f":"IF(報告書!AO296=\"\",\"\",報告書!AO296)","v":""},{"$f":"IF(報告書!AP296=\"\",\"\",報告書!AP296)","v":""},{"$f":"IF(報告書!AQ296=\"\",\"\",報告書!AQ296)","v":""},{"$f":"IF(報告書!AR296=\"\",\"\",報告書!AR296)","v":""},{"$f":"IF(報告書!AS296=\"\",\"\",報告書!AS296)","v":""},{"$f":"IF(報告書!AT296=\"\",\"\",報告書!AT296)","v":""}]
[{"$nulls":9},"（",{"$f":"IF(報告書_照明_要是正の指摘あり=\"\",\"\",IF(報告書!K297=\"\",\"\",報告書!K297))","v":""},null," ）建築士事務所",{"$nulls":9},"（",{"$f":"IF(報告書_照明_要是正の指摘あり=\"\",\"\",IF(報告書!X297=\"\",\"\",報告書!X297))","v":""},{"$nulls":3},"）知事登録第",{"$nulls":5},{"$f":"IF(報告書_照明_要是正の指摘あり=\"\",\"\",IF(報告書!AH297=\"\",\"\",報告書!AH297))","v":""},{"$nulls":6},"号"]
[null,null,"【ホ．郵便番号】",{"$nulls":10},{"$f":"IF(報告書_照明_要是正の指摘あり=\"\",\"\",IF(報告書!N298=\"\",\"\",報告書!N298))","v":""},{"$f":"IF(報告書!O298=\"\",\"\",報告書!O298)","v":""},{"$f":"IF(報告書!P298=\"\",\"\",報告書!P298)","v":""},{"$f":"IF(報告書!Q298=\"\",\"\",報告書!Q298)","v":""},{"$f":"IF(報告書!R298=\"\",\"\",報告書!R298)","v":""},{"$f":"IF(報告書!S298=\"\",\"\",報告書!S298)","v":""},{"$f":"IF(報告書!T298=\"\",\"\",報告書!T298)","v":""},{"$f":"IF(報告書!U298=\"\",\"\",報告書!U298)","v":""},{"$f":"IF(報告書!V298=\"\",\"\",報告書!V298)","v":""}]
[null,null,"【ヘ．所在地】",{"$nulls":10},{"$f":"IF(報告書_照明_要是正の指摘あり=\"\",\"\",IF(報告書!N299=\"\",\"\",報告書!N299))","v":""},{"$f":"IF(報告書!O299=\"\",\"\",報告書!O299)","v":""},{"$f":"IF(報告書!P299=\"\",\"\",報告書!P299)","v":""},{"$f":"IF(報告書!Q299=\"\",\"\",報告書!Q299)","v":""},{"$f":"IF(報告書!R299=\"\",\"\",報告書!R299)","v":""},{"$f":"IF(報告書!S299=\"\",\"\",報告書!S299)","v":""},{"$f":"IF(報告書!T299=\"\",\"\",報告書!T299)","v":""},{"$f":"IF(報告書!U299=\"\",\"\",報告書!U299)","v":""},{"$f":"IF(報告書!V299=\"\",\"\",報告書!V299)","v":""},{"$f":"IF(報告書!W299=\"\",\"\",報告書!W299)","v":""},{"$f":"IF(報告書!X299=\"\",\"\",報告書!X299)","v":""},{"$f":"IF(報告書!Y299=\"\",\"\",報告書!Y299)","v":""},{"$f":"IF(報告書!Z299=\"\",\"\",報告書!Z299)","v":""},{"$f":"IF(報告書!AA299=\"\",\"\",報告書!AA299)","v":""},{"$f":"IF(報告書!AB299=\"\",\"\",報告書!AB299)","v":""},{"$f":"IF(報告書!AC299=\"\",\"\",報告書!AC299)","v":""},{"$f":"IF(報告書!AD299=\"\",\"\",報告書!AD299)","v":""},{"$f":"IF(報告書!AE299=\"\",\"\",報告書!AE299)","v":""},{"$f":"IF(報告書!AF299=\"\",\"\",報告書!AF299)","v":""},{"$f":"IF(報告書!AG299=\"\",\"\",報告書!AG299)","v":""},{"$f":"IF(報告書!AH299=\"\",\"\",報告書!AH299)","v":""},{"$f":"IF(報告書!AI299=\"\",\"\",報告書!AI299)","v":""},{"$f":"IF(報告書!AJ299=\"\",\"\",報告書!AJ299)","v":""},{"$f":"IF(報告書!AK299=\"\",\"\",報告書!AK299)","v":""},{"$f":"IF(報告書!AL299=\"\",\"\",報告書!AL299)","v":""},{"$f":"IF(報告書!AM299=\"\",\"\",報告書!AM299)","v":""},{"$f":"IF(報告書!AN299=\"\",\"\",報告書!AN299)","v":""},{"$f":"IF(報告書!AO299=\"\",\"\",報告書!AO299)","v":""},{"$f":"IF(報告書!AP299=\"\",\"\",報告書!AP299)","v":""},{"$f":"IF(報告書!AQ299=\"\",\"\",報告書!AQ299)","v":""},{"$f":"IF(報告書!AR299=\"\",\"\",報告書!AR299)","v":""},{"$f":"IF(報告書!AS299=\"\",\"\",報告書!AS299)","v":""},{"$f":"IF(報告書!AT299=\"\",\"\",報告書!AT299)","v":""}]
[null,null,"【ト．電話番号】",{"$nulls":10},{"$f":"IF(報告書_照明_要是正の指摘あり=\"\",\"\",IF(報告書!N300=\"\",\"\",報告書!N300))","v":""},{"$f":"IF(報告書!O300=\"\",\"\",報告書!O300)","v":""},{"$f":"IF(報告書!P300=\"\",\"\",報告書!P300)","v":""},{"$f":"IF(報告書!Q300=\"\",\"\",報告書!Q300)","v":""},{"$f":"IF(報告書!R300=\"\",\"\",報告書!R300)","v":""},{"$f":"IF(報告書!S300=\"\",\"\",報告書!S300)","v":""},{"$f":"IF(報告書!T300=\"\",\"\",報告書!T300)","v":""},{"$f":"IF(報告書!U300=\"\",\"\",報告書!U300)","v":""},{"$f":"IF(報告書!V300=\"\",\"\",報告書!V300)","v":""},{"$f":"IF(報告書!W300=\"\",\"\",報告書!W300)","v":""},{"$f":"IF(報告書!X300=\"\",\"\",報告書!X300)","v":""},{"$f":"IF(報告書!Y300=\"\",\"\",報告書!Y300)","v":""},{"$f":"IF(報告書!Z300=\"\",\"\",報告書!Z300)","v":""},{"$f":"IF(報告書!AA300=\"\",\"\",報告書!AA300)","v":""},{"$f":"IF(報告書!AB300=\"\",\"\",報告書!AB300)","v":""},{"$f":"IF(報告書!AC300=\"\",\"\",報告書!AC300)","v":""},{"$f":"IF(報告書!AD300=\"\",\"\",報告書!AD300)","v":""}]
[null," （その他の検査者）"]
[null,null,"【イ．資格】",{"$nulls":6},"（",{"$f":"IF(報告書_照明_要是正の指摘あり=\"\",\"\",IF(報告書!K302=\"\",\"\",報告書!K302))","v":""},null," ）建築士",{"$nulls":9},"（",{"$f":"IF(報告書_照明_要是正の指摘あり=\"\",\"\",IF(報告書!X302=\"\",\"\",報告書!X302))","v":""},{"$nulls":5},"）登録第",{"$nulls":3},{"$f":"IF(報告書_照明_要是正の指摘あり=\"\",\"\",IF(報告書!AH302=\"\",\"\",報告書!AH302))","v":""},{"$nulls":6},"号"]
[{"$nulls":9},"建築設備検査員",{"$nulls":22},"第",{"$f":"IF(報告書_照明_要是正の指摘あり=\"\",\"\",IF(報告書!AH303=\"\",\"\",報告書!AH303))","v":""},{"$nulls":6},"号"]
[{"$nulls":9},"登録建築設備検査資格者講習を修了した者",{"$nulls":22},"第",{"$f":"IF(報告書_照明_要是正の指摘あり=\"\",\"\",IF(報告書!AH304=\"\",\"\",報告書!AH304))","v":""},{"$nulls":6},"号"]
[null,null,"【ロ．氏名のフリガナ】",{"$nulls":10},{"$f":"IF(報告書_照明_要是正の指摘あり=\"\",\"\",IF(報告書!N305=\"\",\"\",報告書!N305))","v":""},{"$f":"IF(報告書!O305=\"\",\"\",報告書!O305)","v":""},{"$f":"IF(報告書!P305=\"\",\"\",報告書!P305)","v":""},{"$f":"IF(報告書!Q305=\"\",\"\",報告書!Q305)","v":""},{"$f":"IF(報告書!R305=\"\",\"\",報告書!R305)","v":""},{"$f":"IF(報告書!S305=\"\",\"\",報告書!S305)","v":""},{"$f":"IF(報告書!T305=\"\",\"\",報告書!T305)","v":""},{"$f":"IF(報告書!U305=\"\",\"\",報告書!U305)","v":""},{"$f":"IF(報告書!V305=\"\",\"\",報告書!V305)","v":""},{"$f":"IF(報告書!W305=\"\",\"\",報告書!W305)","v":""},{"$f":"IF(報告書!X305=\"\",\"\",報告書!X305)","v":""},{"$f":"IF(報告書!Y305=\"\",\"\",報告書!Y305)","v":""},{"$f":"IF(報告書!Z305=\"\",\"\",報告書!Z305)","v":""},{"$f":"IF(報告書!AA305=\"\",\"\",報告書!AA305)","v":""},{"$f":"IF(報告書!AB305=\"\",\"\",報告書!AB305)","v":""},{"$f":"IF(報告書!AC305=\"\",\"\",報告書!AC305)","v":""},{"$f":"IF(報告書!AD305=\"\",\"\",報告書!AD305)","v":""},{"$f":"IF(報告書!AE305=\"\",\"\",報告書!AE305)","v":""},{"$f":"IF(報告書!AF305=\"\",\"\",報告書!AF305)","v":""},{"$f":"IF(報告書!AG305=\"\",\"\",報告書!AG305)","v":""},{"$f":"IF(報告書!AH305=\"\",\"\",報告書!AH305)","v":""},{"$f":"IF(報告書!AI305=\"\",\"\",報告書!AI305)","v":""},{"$f":"IF(報告書!AJ305=\"\",\"\",報告書!AJ305)","v":""},{"$f":"IF(報告書!AK305=\"\",\"\",報告書!AK305)","v":""},{"$f":"IF(報告書!AL305=\"\",\"\",報告書!AL305)","v":""},{"$f":"IF(報告書!AM305=\"\",\"\",報告書!AM305)","v":""},{"$f":"IF(報告書!AN305=\"\",\"\",報告書!AN305)","v":""},{"$f":"IF(報告書!AO305=\"\",\"\",報告書!AO305)","v":""},{"$f":"IF(報告書!AP305=\"\",\"\",報告書!AP305)","v":""},{"$f":"IF(報告書!AQ305=\"\",\"\",報告書!AQ305)","v":""},{"$f":"IF(報告書!AR305=\"\",\"\",報告書!AR305)","v":""},{"$f":"IF(報告書!AS305=\"\",\"\",報告書!AS305)","v":""},{"$f":"IF(報告書!AT305=\"\",\"\",報告書!AT305)","v":""}]
[null,null,"【ハ．氏名】",{"$nulls":10},{"$f":"IF(報告書_照明_要是正の指摘あり=\"\",\"\",IF(報告書!N306=\"\",\"\",報告書!N306))","v":""},{"$f":"IF(報告書!O306=\"\",\"\",報告書!O306)","v":""},{"$f":"IF(報告書!P306=\"\",\"\",報告書!P306)","v":""},{"$f":"IF(報告書!Q306=\"\",\"\",報告書!Q306)","v":""},{"$f":"IF(報告書!R306=\"\",\"\",報告書!R306)","v":""},{"$f":"IF(報告書!S306=\"\",\"\",報告書!S306)","v":""},{"$f":"IF(報告書!T306=\"\",\"\",報告書!T306)","v":""},{"$f":"IF(報告書!U306=\"\",\"\",報告書!U306)","v":""},{"$f":"IF(報告書!V306=\"\",\"\",報告書!V306)","v":""},{"$f":"IF(報告書!W306=\"\",\"\",報告書!W306)","v":""},{"$f":"IF(報告書!X306=\"\",\"\",報告書!X306)","v":""},{"$f":"IF(報告書!Y306=\"\",\"\",報告書!Y306)","v":""},{"$f":"IF(報告書!Z306=\"\",\"\",報告書!Z306)","v":""},{"$f":"IF(報告書!AA306=\"\",\"\",報告書!AA306)","v":""},{"$f":"IF(報告書!AB306=\"\",\"\",報告書!AB306)","v":""},{"$f":"IF(報告書!AC306=\"\",\"\",報告書!AC306)","v":""},{"$f":"IF(報告書!AD306=\"\",\"\",報告書!AD306)","v":""},{"$f":"IF(報告書!AE306=\"\",\"\",報告書!AE306)","v":""},{"$f":"IF(報告書!AF306=\"\",\"\",報告書!AF306)","v":""},{"$f":"IF(報告書!AG306=\"\",\"\",報告書!AG306)","v":""},{"$f":"IF(報告書!AH306=\"\",\"\",報告書!AH306)","v":""},{"$f":"IF(報告書!AI306=\"\",\"\",報告書!AI306)","v":""},{"$f":"IF(報告書!AJ306=\"\",\"\",報告書!AJ306)","v":""},{"$f":"IF(報告書!AK306=\"\",\"\",報告書!AK306)","v":""},{"$f":"IF(報告書!AL306=\"\",\"\",報告書!AL306)","v":""},{"$f":"IF(報告書!AM306=\"\",\"\",報告書!AM306)","v":""},{"$f":"IF(報告書!AN306=\"\",\"\",報告書!AN306)","v":""},{"$f":"IF(報告書!AO306=\"\",\"\",報告書!AO306)","v":""},{"$f":"IF(報告書!AP306=\"\",\"\",報告書!AP306)","v":""},{"$f":"IF(報告書!AQ306=\"\",\"\",報告書!AQ306)","v":""},{"$f":"IF(報告書!AR306=\"\",\"\",報告書!AR306)","v":""},{"$f":"IF(報告書!AS306=\"\",\"\",報告書!AS306)","v":""},{"$f":"IF(報告書!AT306=\"\",\"\",報告書!AT306)","v":""}]
[null,null,"【ニ．勤務先】",{"$nulls":10},{"$f":"IF(報告書_照明_要是正の指摘あり=\"\",\"\",IF(報告書!N307=\"\",\"\",報告書!N307))","v":""},{"$f":"IF(報告書!O307=\"\",\"\",報告書!O307)","v":""},{"$f":"IF(報告書!P307=\"\",\"\",報告書!P307)","v":""},{"$f":"IF(報告書!Q307=\"\",\"\",報告書!Q307)","v":""},{"$f":"IF(報告書!R307=\"\",\"\",報告書!R307)","v":""},{"$f":"IF(報告書!S307=\"\",\"\",報告書!S307)","v":""},{"$f":"IF(報告書!T307=\"\",\"\",報告書!T307)","v":""},{"$f":"IF(報告書!U307=\"\",\"\",報告書!U307)","v":""},{"$f":"IF(報告書!V307=\"\",\"\",報告書!V307)","v":""},{"$f":"IF(報告書!W307=\"\",\"\",報告書!W307)","v":""},{"$f":"IF(報告書!X307=\"\",\"\",報告書!X307)","v":""},{"$f":"IF(報告書!Y307=\"\",\"\",報告書!Y307)","v":""},{"$f":"IF(報告書!Z307=\"\",\"\",報告書!Z307)","v":""},{"$f":"IF(報告書!AA307=\"\",\"\",報告書!AA307)","v":""},{"$f":"IF(報告書!AB307=\"\",\"\",報告書!AB307)","v":""},{"$f":"IF(報告書!AC307=\"\",\"\",報告書!AC307)","v":""},{"$f":"IF(報告書!AD307=\"\",\"\",報告書!AD307)","v":""},{"$f":"IF(報告書!AE307=\"\",\"\",報告書!AE307)","v":""},{"$f":"IF(報告書!AF307=\"\",\"\",報告書!AF307)","v":""},{"$f":"IF(報告書!AG307=\"\",\"\",報告書!AG307)","v":""},{"$f":"IF(報告書!AH307=\"\",\"\",報告書!AH307)","v":""},{"$f":"IF(報告書!AI307=\"\",\"\",報告書!AI307)","v":""},{"$f":"IF(報告書!AJ307=\"\",\"\",報告書!AJ307)","v":""},{"$f":"IF(報告書!AK307=\"\",\"\",報告書!AK307)","v":""},{"$f":"IF(報告書!AL307=\"\",\"\",報告書!AL307)","v":""},{"$f":"IF(報告書!AM307=\"\",\"\",報告書!AM307)","v":""},{"$f":"IF(報告書!AN307=\"\",\"\",報告書!AN307)","v":""},{"$f":"IF(報告書!AO307=\"\",\"\",報告書!AO307)","v":""},{"$f":"IF(報告書!AP307=\"\",\"\",報告書!AP307)","v":""},{"$f":"IF(報告書!AQ307=\"\",\"\",報告書!AQ307)","v":""},{"$f":"IF(報告書!AR307=\"\",\"\",報告書!AR307)","v":""},{"$f":"IF(報告書!AS307=\"\",\"\",報告書!AS307)","v":""},{"$f":"IF(報告書!AT307=\"\",\"\",報告書!AT307)","v":""}]
[{"$nulls":9},"（",{"$f":"IF(報告書_照明_要是正の指摘あり=\"\",\"\",IF(報告書!K308=\"\",\"\",報告書!K308))","v":""},null," ）建築士事務所",{"$nulls":9},"（",{"$f":"IF(報告書_照明_要是正の指摘あり=\"\",\"\",IF(報告書!X308=\"\",\"\",報告書!X308))","v":""},{"$nulls":3},"）知事登録第",{"$nulls":5},{"$f":"IF(報告書_照明_要是正の指摘あり=\"\",\"\",IF(報告書!AH308=\"\",\"\",報告書!AH308))","v":""},{"$nulls":6},"号"]
[null,null,"【ホ．郵便番号】",{"$nulls":10},{"$f":"IF(報告書_照明_要是正の指摘あり=\"\",\"\",IF(報告書!N309=\"\",\"\",報告書!N309))","v":""},{"$f":"IF(報告書!O309=\"\",\"\",報告書!O309)","v":""},{"$f":"IF(報告書!P309=\"\",\"\",報告書!P309)","v":""},{"$f":"IF(報告書!Q309=\"\",\"\",報告書!Q309)","v":""},{"$f":"IF(報告書!R309=\"\",\"\",報告書!R309)","v":""},{"$f":"IF(報告書!S309=\"\",\"\",報告書!S309)","v":""},{"$f":"IF(報告書!T309=\"\",\"\",報告書!T309)","v":""},{"$f":"IF(報告書!U309=\"\",\"\",報告書!U309)","v":""},{"$f":"IF(報告書!V309=\"\",\"\",報告書!V309)","v":""}]
[null,null,"【ヘ．所在地】",{"$nulls":10},{"$f":"IF(報告書_照明_要是正の指摘あり=\"\",\"\",IF(報告書!N310=\"\",\"\",報告書!N310))","v":""},{"$f":"IF(報告書!O310=\"\",\"\",報告書!O310)","v":""},{"$f":"IF(報告書!P310=\"\",\"\",報告書!P310)","v":""},{"$f":"IF(報告書!Q310=\"\",\"\",報告書!Q310)","v":""},{"$f":"IF(報告書!R310=\"\",\"\",報告書!R310)","v":""},{"$f":"IF(報告書!S310=\"\",\"\",報告書!S310)","v":""},{"$f":"IF(報告書!T310=\"\",\"\",報告書!T310)","v":""},{"$f":"IF(報告書!U310=\"\",\"\",報告書!U310)","v":""},{"$f":"IF(報告書!V310=\"\",\"\",報告書!V310)","v":""},{"$f":"IF(報告書!W310=\"\",\"\",報告書!W310)","v":""},{"$f":"IF(報告書!X310=\"\",\"\",報告書!X310)","v":""},{"$f":"IF(報告書!Y310=\"\",\"\",報告書!Y310)","v":""},{"$f":"IF(報告書!Z310=\"\",\"\",報告書!Z310)","v":""},{"$f":"IF(報告書!AA310=\"\",\"\",報告書!AA310)","v":""},{"$f":"IF(報告書!AB310=\"\",\"\",報告書!AB310)","v":""},{"$f":"IF(報告書!AC310=\"\",\"\",報告書!AC310)","v":""},{"$f":"IF(報告書!AD310=\"\",\"\",報告書!AD310)","v":""},{"$f":"IF(報告書!AE310=\"\",\"\",報告書!AE310)","v":""},{"$f":"IF(報告書!AF310=\"\",\"\",報告書!AF310)","v":""},{"$f":"IF(報告書!AG310=\"\",\"\",報告書!AG310)","v":""},{"$f":"IF(報告書!AH310=\"\",\"\",報告書!AH310)","v":""},{"$f":"IF(報告書!AI310=\"\",\"\",報告書!AI310)","v":""},{"$f":"IF(報告書!AJ310=\"\",\"\",報告書!AJ310)","v":""},{"$f":"IF(報告書!AK310=\"\",\"\",報告書!AK310)","v":""},{"$f":"IF(報告書!AL310=\"\",\"\",報告書!AL310)","v":""},{"$f":"IF(報告書!AM310=\"\",\"\",報告書!AM310)","v":""},{"$f":"IF(報告書!AN310=\"\",\"\",報告書!AN310)","v":""},{"$f":"IF(報告書!AO310=\"\",\"\",報告書!AO310)","v":""},{"$f":"IF(報告書!AP310=\"\",\"\",報告書!AP310)","v":""},{"$f":"IF(報告書!AQ310=\"\",\"\",報告書!AQ310)","v":""},{"$f":"IF(報告書!AR310=\"\",\"\",報告書!AR310)","v":""},{"$f":"IF(報告書!AS310=\"\",\"\",報告書!AS310)","v":""},{"$f":"IF(報告書!AT310=\"\",\"\",報告書!AT310)","v":""}]
[null,null,"【ト．電話番号】",{"$nulls":10},{"$f":"IF(報告書_照明_要是正の指摘あり=\"\",\"\",IF(報告書!N311=\"\",\"\",報告書!N311))","v":""},{"$f":"IF(報告書!O311=\"\",\"\",報告書!O311)","v":""},{"$f":"IF(報告書!P311=\"\",\"\",報告書!P311)","v":""},{"$f":"IF(報告書!Q311=\"\",\"\",報告書!Q311)","v":""},{"$f":"IF(報告書!R311=\"\",\"\",報告書!R311)","v":""},{"$f":"IF(報告書!S311=\"\",\"\",報告書!S311)","v":""},{"$f":"IF(報告書!T311=\"\",\"\",報告書!T311)","v":""},{"$f":"IF(報告書!U311=\"\",\"\",報告書!U311)","v":""},{"$f":"IF(報告書!V311=\"\",\"\",報告書!V311)","v":""},{"$f":"IF(報告書!W311=\"\",\"\",報告書!W311)","v":""},{"$f":"IF(報告書!X311=\"\",\"\",報告書!X311)","v":""},{"$f":"IF(報告書!Y311=\"\",\"\",報告書!Y311)","v":""},{"$f":"IF(報告書!Z311=\"\",\"\",報告書!Z311)","v":""},{"$f":"IF(報告書!AA311=\"\",\"\",報告書!AA311)","v":""},{"$f":"IF(報告書!AB311=\"\",\"\",報告書!AB311)","v":""},{"$f":"IF(報告書!AC311=\"\",\"\",報告書!AC311)","v":""},{"$f":"IF(報告書!AD311=\"\",\"\",報告書!AD311)","v":""}]
[null," （その他の検査者２）"]
[null,null,"【イ．資格等】",{"$nulls":6},"（",{"$f":"IF(報告書!X344=\"レ\",\"\",IF(報告書!N344=\"\",\"\",IF(報告書!K313=\"\",\"\",報告書!K313)))","v":""},null," ）建築士",{"$nulls":9},"（",{"$f":"IF(報告書!X344=\"レ\",\"\",IF(報告書!N344=\"\",\"\",IF(報告書!X313=\"\",\"\",報告書!X313)))","v":""},{"$nulls":8},")登録第",{"$f":"IF(報告書!X344=\"レ\",\"\",IF(報告書!N344=\"\",\"\",IF(報告書!AH313=\"\",\"\",報告書!AH313)))","v":""},{"$nulls":6},"号"]
[{"$nulls":9},"建築基準適合判定資格者",{"$nulls":22},"第",{"$f":"IF(報告書!X344=\"レ\",\"\",IF(報告書!N344=\"\",\"\",IF(報告書!AH314=\"\",\"\",報告書!AH314)))","v":""},{"$nulls":6},"号"]
[{"$nulls":9},"登録建築設備検査資格者講習を修了した者",{"$nulls":22},"第",{"$f":"IF(報告書!X344=\"レ\",\"\",IF(報告書!N344=\"\",\"\",IF(報告書!AH315=\"\",\"\",報告書!AH315)))","v":""},{"$nulls":6},"号"]
[null,null,"【ロ．氏名のフリガナ】",{"$nulls":10},{"$f":"IF(報告書!X344=\"レ\",\"\",IF(報告書!N344=\"\",\"\",IF(報告書!N316=\"\",\"\",報告書!N316)))","v":""},{"$f":"IF(報告書!O316=\"\",\"\",報告書!O316)","v":""},{"$f":"IF(報告書!P316=\"\",\"\",報告書!P316)","v":""},{"$f":"IF(報告書!Q316=\"\",\"\",報告書!Q316)","v":""},{"$f":"IF(報告書!R316=\"\",\"\",報告書!R316)","v":""},{"$f":"IF(報告書!S316=\"\",\"\",報告書!S316)","v":""},{"$f":"IF(報告書!T316=\"\",\"\",報告書!T316)","v":""},{"$f":"IF(報告書!U316=\"\",\"\",報告書!U316)","v":""},{"$f":"IF(報告書!V316=\"\",\"\",報告書!V316)","v":""},{"$f":"IF(報告書!W316=\"\",\"\",報告書!W316)","v":""},{"$f":"IF(報告書!X316=\"\",\"\",報告書!X316)","v":""},{"$f":"IF(報告書!Y316=\"\",\"\",報告書!Y316)","v":""},{"$f":"IF(報告書!Z316=\"\",\"\",報告書!Z316)","v":""},{"$f":"IF(報告書!AA316=\"\",\"\",報告書!AA316)","v":""},{"$f":"IF(報告書!AB316=\"\",\"\",報告書!AB316)","v":""},{"$f":"IF(報告書!AC316=\"\",\"\",報告書!AC316)","v":""},{"$f":"IF(報告書!AD316=\"\",\"\",報告書!AD316)","v":""},{"$f":"IF(報告書!AE316=\"\",\"\",報告書!AE316)","v":""},{"$f":"IF(報告書!AF316=\"\",\"\",報告書!AF316)","v":""},{"$f":"IF(報告書!AG316=\"\",\"\",報告書!AG316)","v":""},{"$f":"IF(報告書!AH316=\"\",\"\",報告書!AH316)","v":""},{"$f":"IF(報告書!AI316=\"\",\"\",報告書!AI316)","v":""},{"$f":"IF(報告書!AJ316=\"\",\"\",報告書!AJ316)","v":""},{"$f":"IF(報告書!AK316=\"\",\"\",報告書!AK316)","v":""},{"$f":"IF(報告書!AL316=\"\",\"\",報告書!AL316)","v":""},{"$f":"IF(報告書!AM316=\"\",\"\",報告書!AM316)","v":""},{"$f":"IF(報告書!AN316=\"\",\"\",報告書!AN316)","v":""},{"$f":"IF(報告書!AO316=\"\",\"\",報告書!AO316)","v":""},{"$f":"IF(報告書!AP316=\"\",\"\",報告書!AP316)","v":""},{"$f":"IF(報告書!AQ316=\"\",\"\",報告書!AQ316)","v":""},{"$f":"IF(報告書!AR316=\"\",\"\",報告書!AR316)","v":""},{"$f":"IF(報告書!AS316=\"\",\"\",報告書!AS316)","v":""},{"$f":"IF(報告書!AT316=\"\",\"\",報告書!AT316)","v":""}]
[null,null,"【ハ．氏名】",{"$nulls":10},{"$f":"IF(報告書!X344=\"レ\",\"\",IF(報告書!N344=\"\",\"\",IF(報告書!N317=\"\",\"\",報告書!N317)))","v":""},{"$f":"IF(報告書!O317=\"\",\"\",報告書!O317)","v":""},{"$f":"IF(報告書!P317=\"\",\"\",報告書!P317)","v":""},{"$f":"IF(報告書!Q317=\"\",\"\",報告書!Q317)","v":""},{"$f":"IF(報告書!R317=\"\",\"\",報告書!R317)","v":""},{"$f":"IF(報告書!S317=\"\",\"\",報告書!S317)","v":""},{"$f":"IF(報告書!T317=\"\",\"\",報告書!T317)","v":""},{"$f":"IF(報告書!U317=\"\",\"\",報告書!U317)","v":""},{"$f":"IF(報告書!V317=\"\",\"\",報告書!V317)","v":""},{"$f":"IF(報告書!W317=\"\",\"\",報告書!W317)","v":""},{"$f":"IF(報告書!X317=\"\",\"\",報告書!X317)","v":""},{"$f":"IF(報告書!Y317=\"\",\"\",報告書!Y317)","v":""},{"$f":"IF(報告書!Z317=\"\",\"\",報告書!Z317)","v":""},{"$f":"IF(報告書!AA317=\"\",\"\",報告書!AA317)","v":""},{"$f":"IF(報告書!AB317=\"\",\"\",報告書!AB317)","v":""},{"$f":"IF(報告書!AC317=\"\",\"\",報告書!AC317)","v":""},{"$f":"IF(報告書!AD317=\"\",\"\",報告書!AD317)","v":""},{"$f":"IF(報告書!AE317=\"\",\"\",報告書!AE317)","v":""},{"$f":"IF(報告書!AF317=\"\",\"\",報告書!AF317)","v":""},{"$f":"IF(報告書!AG317=\"\",\"\",報告書!AG317)","v":""},{"$f":"IF(報告書!AH317=\"\",\"\",報告書!AH317)","v":""},{"$f":"IF(報告書!AI317=\"\",\"\",報告書!AI317)","v":""},{"$f":"IF(報告書!AJ317=\"\",\"\",報告書!AJ317)","v":""},{"$f":"IF(報告書!AK317=\"\",\"\",報告書!AK317)","v":""},{"$f":"IF(報告書!AL317=\"\",\"\",報告書!AL317)","v":""},{"$f":"IF(報告書!AM317=\"\",\"\",報告書!AM317)","v":""},{"$f":"IF(報告書!AN317=\"\",\"\",報告書!AN317)","v":""},{"$f":"IF(報告書!AO317=\"\",\"\",報告書!AO317)","v":""},{"$f":"IF(報告書!AP317=\"\",\"\",報告書!AP317)","v":""},{"$f":"IF(報告書!AQ317=\"\",\"\",報告書!AQ317)","v":""},{"$f":"IF(報告書!AR317=\"\",\"\",報告書!AR317)","v":""},{"$f":"IF(報告書!AS317=\"\",\"\",報告書!AS317)","v":""},{"$f":"IF(報告書!AT317=\"\",\"\",報告書!AT317)","v":""}]
[null,null,"【ニ．勤務先】",{"$nulls":10},{"$f":"IF(報告書!X344=\"レ\",\"\",IF(報告書!N344=\"\",\"\",IF(報告書!N318=\"\",\"\",報告書!N318)))","v":""},{"$f":"IF(報告書!O318=\"\",\"\",報告書!O318)","v":""},{"$f":"IF(報告書!P318=\"\",\"\",報告書!P318)","v":""},{"$f":"IF(報告書!Q318=\"\",\"\",報告書!Q318)","v":""},{"$f":"IF(報告書!R318=\"\",\"\",報告書!R318)","v":""},{"$f":"IF(報告書!S318=\"\",\"\",報告書!S318)","v":""},{"$f":"IF(報告書!T318=\"\",\"\",報告書!T318)","v":""},{"$f":"IF(報告書!U318=\"\",\"\",報告書!U318)","v":""},{"$f":"IF(報告書!V318=\"\",\"\",報告書!V318)","v":""},{"$f":"IF(報告書!W318=\"\",\"\",報告書!W318)","v":""},{"$f":"IF(報告書!X318=\"\",\"\",報告書!X318)","v":""},{"$f":"IF(報告書!Y318=\"\",\"\",報告書!Y318)","v":""},{"$f":"IF(報告書!Z318=\"\",\"\",報告書!Z318)","v":""},{"$f":"IF(報告書!AA318=\"\",\"\",報告書!AA318)","v":""},{"$f":"IF(報告書!AB318=\"\",\"\",報告書!AB318)","v":""},{"$f":"IF(報告書!AC318=\"\",\"\",報告書!AC318)","v":""},{"$f":"IF(報告書!AD318=\"\",\"\",報告書!AD318)","v":""},{"$f":"IF(報告書!AE318=\"\",\"\",報告書!AE318)","v":""},{"$f":"IF(報告書!AF318=\"\",\"\",報告書!AF318)","v":""},{"$f":"IF(報告書!AG318=\"\",\"\",報告書!AG318)","v":""},{"$f":"IF(報告書!AH318=\"\",\"\",報告書!AH318)","v":""},{"$f":"IF(報告書!AI318=\"\",\"\",報告書!AI318)","v":""},{"$f":"IF(報告書!AJ318=\"\",\"\",報告書!AJ318)","v":""},{"$f":"IF(報告書!AK318=\"\",\"\",報告書!AK318)","v":""},{"$f":"IF(報告書!AL318=\"\",\"\",報告書!AL318)","v":""},{"$f":"IF(報告書!AM318=\"\",\"\",報告書!AM318)","v":""},{"$f":"IF(報告書!AN318=\"\",\"\",報告書!AN318)","v":""},{"$f":"IF(報告書!AO318=\"\",\"\",報告書!AO318)","v":""},{"$f":"IF(報告書!AP318=\"\",\"\",報告書!AP318)","v":""},{"$f":"IF(報告書!AQ318=\"\",\"\",報告書!AQ318)","v":""},{"$f":"IF(報告書!AR318=\"\",\"\",報告書!AR318)","v":""},{"$f":"IF(報告書!AS318=\"\",\"\",報告書!AS318)","v":""},{"$f":"IF(報告書!AT318=\"\",\"\",報告書!AT318)","v":""}]
[{"$nulls":9},"（",{"$f":"IF(報告書!X344=\"レ\",\"\",IF(報告書!N344=\"\",\"\",IF(報告書!K319=\"\",\"\",報告書!K319)))","v":""},null," ）建築士事務所",{"$nulls":9},"（",{"$f":"IF(報告書!X344=\"レ\",\"\",IF(報告書!N344=\"\",\"\",IF(報告書!X319=\"\",\"\",報告書!X319)))","v":""},{"$nulls":8},")知事登録第",{"$f":"IF(報告書!X344=\"レ\",\"\",IF(報告書!N344=\"\",\"\",IF(報告書!AH319=\"\",\"\",報告書!AH319)))","v":""},{"$nulls":6},"号"]
[null,null,"【ホ．郵便番号】",{"$nulls":10},{"$f":"IF(報告書!X344=\"レ\",\"\",IF(報告書!N344=\"\",\"\",IF(報告書!N320=\"\",\"\",報告書!N320)))","v":""},{"$f":"IF(報告書!O320=\"\",\"\",報告書!O320)","v":""},{"$f":"IF(報告書!P320=\"\",\"\",報告書!P320)","v":""},{"$f":"IF(報告書!Q320=\"\",\"\",報告書!Q320)","v":""},{"$f":"IF(報告書!R320=\"\",\"\",報告書!R320)","v":""},{"$f":"IF(報告書!S320=\"\",\"\",報告書!S320)","v":""},{"$f":"IF(報告書!T320=\"\",\"\",報告書!T320)","v":""},{"$f":"IF(報告書!U320=\"\",\"\",報告書!U320)","v":""},{"$f":"IF(報告書!V320=\"\",\"\",報告書!V320)","v":""}]
[null,null,"【ヘ．所在地】",{"$nulls":10},{"$f":"IF(報告書!X344=\"レ\",\"\",IF(報告書!N344=\"\",\"\",IF(報告書!N321=\"\",\"\",報告書!N321)))","v":""},{"$f":"IF(報告書!O321=\"\",\"\",報告書!O321)","v":""},{"$f":"IF(報告書!P321=\"\",\"\",報告書!P321)","v":""},{"$f":"IF(報告書!Q321=\"\",\"\",報告書!Q321)","v":""},{"$f":"IF(報告書!R321=\"\",\"\",報告書!R321)","v":""},{"$f":"IF(報告書!S321=\"\",\"\",報告書!S321)","v":""},{"$f":"IF(報告書!T321=\"\",\"\",報告書!T321)","v":""},{"$f":"IF(報告書!U321=\"\",\"\",報告書!U321)","v":""},{"$f":"IF(報告書!V321=\"\",\"\",報告書!V321)","v":""},{"$f":"IF(報告書!W321=\"\",\"\",報告書!W321)","v":""},{"$f":"IF(報告書!X321=\"\",\"\",報告書!X321)","v":""},{"$f":"IF(報告書!Y321=\"\",\"\",報告書!Y321)","v":""},{"$f":"IF(報告書!Z321=\"\",\"\",報告書!Z321)","v":""},{"$f":"IF(報告書!AA321=\"\",\"\",報告書!AA321)","v":""},{"$f":"IF(報告書!AB321=\"\",\"\",報告書!AB321)","v":""},{"$f":"IF(報告書!AC321=\"\",\"\",報告書!AC321)","v":""},{"$f":"IF(報告書!AD321=\"\",\"\",報告書!AD321)","v":""},{"$f":"IF(報告書!AE321=\"\",\"\",報告書!AE321)","v":""},{"$f":"IF(報告書!AF321=\"\",\"\",報告書!AF321)","v":""},{"$f":"IF(報告書!AG321=\"\",\"\",報告書!AG321)","v":""},{"$f":"IF(報告書!AH321=\"\",\"\",報告書!AH321)","v":""},{"$f":"IF(報告書!AI321=\"\",\"\",報告書!AI321)","v":""},{"$f":"IF(報告書!AJ321=\"\",\"\",報告書!AJ321)","v":""},{"$f":"IF(報告書!AK321=\"\",\"\",報告書!AK321)","v":""},{"$f":"IF(報告書!AL321=\"\",\"\",報告書!AL321)","v":""},{"$f":"IF(報告書!AM321=\"\",\"\",報告書!AM321)","v":""},{"$f":"IF(報告書!AN321=\"\",\"\",報告書!AN321)","v":""},{"$f":"IF(報告書!AO321=\"\",\"\",報告書!AO321)","v":""},{"$f":"IF(報告書!AP321=\"\",\"\",報告書!AP321)","v":""},{"$f":"IF(報告書!AQ321=\"\",\"\",報告書!AQ321)","v":""},{"$f":"IF(報告書!AR321=\"\",\"\",報告書!AR321)","v":""},{"$f":"IF(報告書!AS321=\"\",\"\",報告書!AS321)","v":""},{"$f":"IF(報告書!AT321=\"\",\"\",報告書!AT321)","v":""}]
[null,null,"【ト．電話番号】",{"$nulls":10},{"$f":"IF(報告書!X344=\"レ\",\"\",IF(報告書!N344=\"\",\"\",IF(報告書!N322=\"\",\"\",報告書!N322)))","v":""},{"$f":"IF(報告書!O322=\"\",\"\",報告書!O322)","v":""},{"$f":"IF(報告書!P322=\"\",\"\",報告書!P322)","v":""},{"$f":"IF(報告書!Q322=\"\",\"\",報告書!Q322)","v":""},{"$f":"IF(報告書!R322=\"\",\"\",報告書!R322)","v":""},{"$f":"IF(報告書!S322=\"\",\"\",報告書!S322)","v":""},{"$f":"IF(報告書!T322=\"\",\"\",報告書!T322)","v":""},{"$f":"IF(報告書!U322=\"\",\"\",報告書!U322)","v":""},{"$f":"IF(報告書!V322=\"\",\"\",報告書!V322)","v":""},{"$f":"IF(報告書!W322=\"\",\"\",報告書!W322)","v":""},{"$f":"IF(報告書!X322=\"\",\"\",報告書!X322)","v":""},{"$f":"IF(報告書!Y322=\"\",\"\",報告書!Y322)","v":""},{"$f":"IF(報告書!Z322=\"\",\"\",報告書!Z322)","v":""},{"$f":"IF(報告書!AA322=\"\",\"\",報告書!AA322)","v":""},{"$f":"IF(報告書!AB322=\"\",\"\",報告書!AB322)","v":""},{"$f":"IF(報告書!AC322=\"\",\"\",報告書!AC322)","v":""},{"$f":"IF(報告書!AD322=\"\",\"\",報告書!AD322)","v":""}]
[]
[]
[]
[]
[]
[null,"【9．非常用の照明装置の概要】"]
[null,null,"【イ．照明器具】",{"$nulls":7},{"$f":"IF(報告書_照明_要是正の指摘あり=\"\",\"\",報告書!K329)","v":""},"白熱灯 （",{"$nulls":3},{"$f":"IF(報告書_照明_要是正の指摘あり=\"\",\"\",IF(報告書!P329=\"\",\"\",報告書!P329))","v":""},null,"灯）",null,null,{"$f":"IF(報告書_照明_要是正の指摘あり=\"\",\"\",報告書!U329)","v":""},"蛍光灯 （",{"$nulls":3},{"$f":"IF(報告書_照明_要是正の指摘あり=\"\",\"\",IF(報告書!Z329=\"\",\"\",報告書!Z329))","v":""},null,"灯）",null,null,{"$f":"IF(報告書_照明_要是正の指摘あり=\"\",\"\",報告書!AE329)","v":""},"LEDランプ（",{"$nulls":5},{"$f":"IF(報告書_照明_要是正の指摘あり=\"\",\"\",IF(報告書!AL329=\"\",\"\",報告書!AL329))","v":""},null,"灯）"]
[{"$nulls":10},{"$f":"IF(報告書_照明_要是正の指摘あり=\"\",\"\",報告書!K330)","v":""},"その他 （",{"$nulls":3},{"$f":"IF(報告書_照明_要是正の指摘あり=\"\",\"\",IF(報告書!P330=\"\",\"\",報告書!P330))","v":""},null,"灯）"]
[]
[]
[null,null,"【ロ．予備電源】",{"$nulls":7},{"$f":"IF(報告書_照明_要是正の指摘あり=\"\",\"\",報告書!K333)","v":""},"蓄電池（内蔵形）",{"$nulls":7}," （居室",null,null,{"$f":"IF(報告書_照明_要是正の指摘あり=\"\",\"\",IF(報告書!W333=\"\",\"\",報告書!W333))","v":""},null,"灯 、廊下",{"$nulls":3},{"$f":"IF(報告書_照明_要是正の指摘あり=\"\",\"\",IF(報告書!AC333=\"\",\"\",報告書!AC333))","v":""},null,"灯 、階段",{"$nulls":3},{"$f":"IF(報告書_照明_要是正の指摘あり=\"\",\"\",IF(報告書!AI333=\"\",\"\",報告書!AI333))","v":""},null,"灯）"]
[{"$nulls":10},{"$f":"IF(報告書_照明_要是正の指摘あり=\"\",\"\",報告書!K334)","v":""},"蓄電池（別置形）",{"$nulls":7}," （居室",null,null,{"$f":"IF(報告書_照明_要是正の指摘あり=\"\",\"\",IF(報告書!W334=\"\",\"\",報告書!W334))","v":""},null,"灯 、廊下",{"$nulls":3},{"$f":"IF(報告書_照明_要是正の指摘あり=\"\",\"\",IF(報告書!AC334=\"\",\"\",報告書!AC334))","v":""},null,"灯 、階段",{"$nulls":3},{"$f":"IF(報告書_照明_要是正の指摘あり=\"\",\"\",IF(報告書!AI334=\"\",\"\",報告書!AI334))","v":""},null,"灯）"]
[{"$nulls":10},{"$f":"IF(報告書_照明_要是正の指摘あり=\"\",\"\",報告書!K335)","v":""},"自家用発電装置 ",{"$nulls":7}," （居室",null,null,{"$f":"IF(報告書_照明_要是正の指摘あり=\"\",\"\",IF(報告書!W335=\"\",\"\",報告書!W335))","v":""},null,"灯 、廊下",{"$nulls":3},{"$f":"IF(報告書_照明_要是正の指摘あり=\"\",\"\",IF(報告書!AC335=\"\",\"\",報告書!AC335))","v":""},null,"灯 、階段",{"$nulls":3},{"$f":"IF(報告書_照明_要是正の指摘あり=\"\",\"\",IF(報告書!AI335=\"\",\"\",報告書!AI335))","v":""},null,"灯）"]
[{"$nulls":10},{"$f":"IF(報告書_照明_要是正の指摘あり=\"\",\"\",報告書!K336)","v":""},"蓄電池(別置形)・自家用発電装置併用 ",{"$nulls":18},"（居室",{"$f":"IF(報告書_照明_要是正の指摘あり=\"\",\"\",IF(報告書!AF336=\"\",\"\",報告書!AF336))","v":""},null,"灯 、廊下",{"$nulls":3},{"$f":"IF(報告書_照明_要是正の指摘あり=\"\",\"\",IF(報告書!AL336=\"\",\"\",報告書!AL336))","v":""},null,"灯 、階段",{"$nulls":3},{"$f":"IF(報告書_照明_要是正の指摘あり=\"\",\"\",IF(報告書!AR336=\"\",\"\",報告書!AR336))","v":""},null,"灯）"]
[{"$nulls":10},{"$f":"IF(報告書_照明_要是正の指摘あり=\"\",\"\",報告書!K337)","v":""},"その他 （",{"$nulls":3},{"$f":"IF(報告書_照明_要是正の指摘あり=\"\",\"\",IF(報告書!P337=\"\",\"\",報告書!P337))","v":""},{"$nulls":6},")"]
[]
[]
[]
[]
[]
[null,"【14．非常用の照明装置の検査の状況】"]
[null,null,"【イ．指摘の内容】",{"$nulls":11},"要是正の指摘あり （",{"$nulls":9},"既存不適格）",{"$nulls":8},"指摘なし"]
[null,null,"【ロ．指摘の概要】"]
[]
[]
[]
[]
[null,null,"【ハ．改善予定の有無】",{"$nulls":11},"有",null,null,"（平成",null,null,"年",null,null,"月に改善予定）",{"$nulls":9},"無"]
[]
[]
[]
[]
[]
[null,"【15．非常用の照明装置の不具合の発生状況】"]
[null,null,"【イ．不具合】",{"$nulls":9},"有",null,null,"無"]
[null,null,"【ロ．不具合記録】",{"$nulls":9},"有",null,null,"無"]
[null,null,"【ハ．改善の状況】",{"$nulls":9},"実施済",{"$nulls":4},"改善予定",{"$nulls":5},"（平成",null,null,"年",null,null,"月に改善予定）",{"$nulls":8},"予定なし"]
{"$rows_empty":10}
[null,"【10．給水設備及び排水設備の検査者】"]
[null," （代表となる検査者）"]
[null,null,"【イ．資格】",{"$nulls":6},"（",{"$f":"IF(報告書_給水_要是正の指摘あり=\"\",\"\",IF(報告書!K372=\"\",\"\",報告書!K372))","v":""},null," ）建築士",{"$nulls":9},"（",{"$f":"IF(報告書_給水_要是正の指摘あり=\"\",\"\",IF(報告書!X372=\"\",\"\",報告書!X372))","v":""},{"$nulls":5},"）登録第",{"$nulls":3},{"$f":"IF(報告書_給水_要是正の指摘あり=\"\",\"\",IF(報告書!AH372=\"\",\"\",報告書!AH372))","v":""},{"$nulls":6},"号"]
[{"$nulls":9},"建築設備検査員",{"$nulls":22},"第",{"$f":"IF(報告書_給水_要是正の指摘あり=\"\",\"\",IF(報告書!AH373=\"\",\"\",報告書!AH373))","v":""},{"$nulls":6},"号"]
[{"$nulls":9},"登録建築設備検査資格者講習を修了した者",{"$nulls":22},"第",{"$f":"IF(報告書_給水_要是正の指摘あり=\"\",\"\",IF(報告書!AH374=\"\",\"\",報告書!AH374))","v":""},{"$nulls":6},"号"]
[null,null,"【ロ．氏名のフリガナ】",{"$nulls":10},{"$f":"IF(報告書_給水_要是正の指摘あり=\"\",\"\",IF(報告書!N375=\"\",\"\",報告書!N375))","v":""},{"$f":"IF(報告書!O375=\"\",\"\",報告書!O375)","v":"ﾀｹﾀﾞﾃﾂﾔ"},{"$f":"IF(報告書!P375=\"\",\"\",報告書!P375)","v":"ﾀｹﾀﾞﾃﾂﾔ"},{"$f":"IF(報告書!Q375=\"\",\"\",報告書!Q375)","v":"ﾀｹﾀﾞﾃﾂﾔ"},{"$f":"IF(報告書!R375=\"\",\"\",報告書!R375)","v":"ﾀｹﾀﾞﾃﾂﾔ"},{"$f":"IF(報告書!S375=\"\",\"\",報告書!S375)","v":"ﾀｹﾀﾞﾃﾂﾔ"},{"$f":"IF(報告書!T375=\"\",\"\",報告書!T375)","v":"ﾀｹﾀﾞﾃﾂﾔ"},{"$f":"IF(報告書!U375=\"\",\"\",報告書!U375)","v":"ﾀｹﾀﾞﾃﾂﾔ"},{"$f":"IF(報告書!V375=\"\",\"\",報告書!V375)","v":"ﾀｹﾀﾞﾃﾂﾔ"},{"$f":"IF(報告書!W375=\"\",\"\",報告書!W375)","v":"ﾀｹﾀﾞﾃﾂﾔ"},{"$f":"IF(報告書!X375=\"\",\"\",報告書!X375)","v":"ﾀｹﾀﾞﾃﾂﾔ"},{"$f":"IF(報告書!Y375=\"\",\"\",報告書!Y375)","v":"ﾀｹﾀﾞﾃﾂﾔ"},{"$f":"IF(報告書!Z375=\"\",\"\",報告書!Z375)","v":"ﾀｹﾀﾞﾃﾂﾔ"},{"$f":"IF(報告書!AA375=\"\",\"\",報告書!AA375)","v":"ﾀｹﾀﾞﾃﾂﾔ"},{"$f":"IF(報告書!AB375=\"\",\"\",報告書!AB375)","v":"ﾀｹﾀﾞﾃﾂﾔ"},{"$f":"IF(報告書!AC375=\"\",\"\",報告書!AC375)","v":"ﾀｹﾀﾞﾃﾂﾔ"},{"$f":"IF(報告書!AD375=\"\",\"\",報告書!AD375)","v":"ﾀｹﾀﾞﾃﾂﾔ"},{"$f":"IF(報告書!AE375=\"\",\"\",報告書!AE375)","v":"ﾀｹﾀﾞﾃﾂﾔ"},{"$f":"IF(報告書!AF375=\"\",\"\",報告書!AF375)","v":"ﾀｹﾀﾞﾃﾂﾔ"},{"$f":"IF(報告書!AG375=\"\",\"\",報告書!AG375)","v":"ﾀｹﾀﾞﾃﾂﾔ"},{"$f":"IF(報告書!AH375=\"\",\"\",報告書!AH375)","v":"ﾀｹﾀﾞﾃﾂﾔ"},{"$f":"IF(報告書!AI375=\"\",\"\",報告書!AI375)","v":"ﾀｹﾀﾞﾃﾂﾔ"},{"$f":"IF(報告書!AJ375=\"\",\"\",報告書!AJ375)","v":"ﾀｹﾀﾞﾃﾂﾔ"},{"$f":"IF(報告書!AK375=\"\",\"\",報告書!AK375)","v":"ﾀｹﾀﾞﾃﾂﾔ"},{"$f":"IF(報告書!AL375=\"\",\"\",報告書!AL375)","v":"ﾀｹﾀﾞﾃﾂﾔ"},{"$f":"IF(報告書!AM375=\"\",\"\",報告書!AM375)","v":"ﾀｹﾀﾞﾃﾂﾔ"},{"$f":"IF(報告書!AN375=\"\",\"\",報告書!AN375)","v":"ﾀｹﾀﾞﾃﾂﾔ"},{"$f":"IF(報告書!AO375=\"\",\"\",報告書!AO375)","v":"ﾀｹﾀﾞﾃﾂﾔ"},{"$f":"IF(報告書!AP375=\"\",\"\",報告書!AP375)","v":"ﾀｹﾀﾞﾃﾂﾔ"},{"$f":"IF(報告書!AQ375=\"\",\"\",報告書!AQ375)","v":"ﾀｹﾀﾞﾃﾂﾔ"},{"$f":"IF(報告書!AR375=\"\",\"\",報告書!AR375)","v":"ﾀｹﾀﾞﾃﾂﾔ"},{"$f":"IF(報告書!AS375=\"\",\"\",報告書!AS375)","v":"ﾀｹﾀﾞﾃﾂﾔ"},{"$f":"IF(報告書!AT375=\"\",\"\",報告書!AT375)","v":"ﾀｹﾀﾞﾃﾂﾔ"}]
[null,null,"【ハ．氏名】",{"$nulls":10},{"$f":"IF(報告書_給水_要是正の指摘あり=\"\",\"\",IF(報告書!N376=\"\",\"\",報告書!N376))","v":""},{"$f":"IF(報告書!O376=\"\",\"\",報告書!O376)","v":""},{"$f":"IF(報告書!P376=\"\",\"\",報告書!P376)","v":""},{"$f":"IF(報告書!Q376=\"\",\"\",報告書!Q376)","v":""},{"$f":"IF(報告書!R376=\"\",\"\",報告書!R376)","v":""},{"$f":"IF(報告書!S376=\"\",\"\",報告書!S376)","v":""},{"$f":"IF(報告書!T376=\"\",\"\",報告書!T376)","v":""},{"$f":"IF(報告書!U376=\"\",\"\",報告書!U376)","v":""},{"$f":"IF(報告書!V376=\"\",\"\",報告書!V376)","v":""},{"$f":"IF(報告書!W376=\"\",\"\",報告書!W376)","v":""},{"$f":"IF(報告書!X376=\"\",\"\",報告書!X376)","v":""},{"$f":"IF(報告書!Y376=\"\",\"\",報告書!Y376)","v":""},{"$f":"IF(報告書!Z376=\"\",\"\",報告書!Z376)","v":""},{"$f":"IF(報告書!AA376=\"\",\"\",報告書!AA376)","v":""},{"$f":"IF(報告書!AB376=\"\",\"\",報告書!AB376)","v":""},{"$f":"IF(報告書!AC376=\"\",\"\",報告書!AC376)","v":""},{"$f":"IF(報告書!AD376=\"\",\"\",報告書!AD376)","v":""},{"$f":"IF(報告書!AE376=\"\",\"\",報告書!AE376)","v":""},{"$f":"IF(報告書!AF376=\"\",\"\",報告書!AF376)","v":""},{"$f":"IF(報告書!AG376=\"\",\"\",報告書!AG376)","v":""},{"$f":"IF(報告書!AH376=\"\",\"\",報告書!AH376)","v":""},{"$f":"IF(報告書!AI376=\"\",\"\",報告書!AI376)","v":""},{"$f":"IF(報告書!AJ376=\"\",\"\",報告書!AJ376)","v":""},{"$f":"IF(報告書!AK376=\"\",\"\",報告書!AK376)","v":""},{"$f":"IF(報告書!AL376=\"\",\"\",報告書!AL376)","v":""},{"$f":"IF(報告書!AM376=\"\",\"\",報告書!AM376)","v":""},{"$f":"IF(報告書!AN376=\"\",\"\",報告書!AN376)","v":""},{"$f":"IF(報告書!AO376=\"\",\"\",報告書!AO376)","v":""},{"$f":"IF(報告書!AP376=\"\",\"\",報告書!AP376)","v":""},{"$f":"IF(報告書!AQ376=\"\",\"\",報告書!AQ376)","v":""},{"$f":"IF(報告書!AR376=\"\",\"\",報告書!AR376)","v":""},{"$f":"IF(報告書!AS376=\"\",\"\",報告書!AS376)","v":""},{"$f":"IF(報告書!AT376=\"\",\"\",報告書!AT376)","v":""}]
[null,null,"【ニ．勤務先】",{"$nulls":10},{"$f":"IF(報告書_給水_要是正の指摘あり=\"\",\"\",IF(報告書!N377=\"\",\"\",報告書!N377))","v":""},{"$f":"IF(報告書!O377=\"\",\"\",報告書!O377)","v":""},{"$f":"IF(報告書!P377=\"\",\"\",報告書!P377)","v":""},{"$f":"IF(報告書!Q377=\"\",\"\",報告書!Q377)","v":""},{"$f":"IF(報告書!R377=\"\",\"\",報告書!R377)","v":""},{"$f":"IF(報告書!S377=\"\",\"\",報告書!S377)","v":""},{"$f":"IF(報告書!T377=\"\",\"\",報告書!T377)","v":""},{"$f":"IF(報告書!U377=\"\",\"\",報告書!U377)","v":""},{"$f":"IF(報告書!V377=\"\",\"\",報告書!V377)","v":""},{"$f":"IF(報告書!W377=\"\",\"\",報告書!W377)","v":""},{"$f":"IF(報告書!X377=\"\",\"\",報告書!X377)","v":""},{"$f":"IF(報告書!Y377=\"\",\"\",報告書!Y377)","v":""},{"$f":"IF(報告書!Z377=\"\",\"\",報告書!Z377)","v":""},{"$f":"IF(報告書!AA377=\"\",\"\",報告書!AA377)","v":""},{"$f":"IF(報告書!AB377=\"\",\"\",報告書!AB377)","v":""},{"$f":"IF(報告書!AC377=\"\",\"\",報告書!AC377)","v":""},{"$f":"IF(報告書!AD377=\"\",\"\",報告書!AD377)","v":""},{"$f":"IF(報告書!AE377=\"\",\"\",報告書!AE377)","v":""},{"$f":"IF(報告書!AF377=\"\",\"\",報告書!AF377)","v":""},{"$f":"IF(報告書!AG377=\"\",\"\",報告書!AG377)","v":""},{"$f":"IF(報告書!AH377=\"\",\"\",報告書!AH377)","v":""},{"$f":"IF(報告書!AI377=\"\",\"\",報告書!AI377)","v":""},{"$f":"IF(報告書!AJ377=\"\",\"\",報告書!AJ377)","v":""},{"$f":"IF(報告書!AK377=\"\",\"\",報告書!AK377)","v":""},{"$f":"IF(報告書!AL377=\"\",\"\",報告書!AL377)","v":""},{"$f":"IF(報告書!AM377=\"\",\"\",報告書!AM377)","v":""},{"$f":"IF(報告書!AN377=\"\",\"\",報告書!AN377)","v":""},{"$f":"IF(報告書!AO377=\"\",\"\",報告書!AO377)","v":""},{"$f":"IF(報告書!AP377=\"\",\"\",報告書!AP377)","v":""},{"$f":"IF(報告書!AQ377=\"\",\"\",報告書!AQ377)","v":""},{"$f":"IF(報告書!AR377=\"\",\"\",報告書!AR377)","v":""},{"$f":"IF(報告書!AS377=\"\",\"\",報告書!AS377)","v":""},{"$f":"IF(報告書!AT377=\"\",\"\",報告書!AT377)","v":""}]
[{"$nulls":9},"（",{"$f":"IF(報告書_給水_要是正の指摘あり=\"\",\"\",IF(報告書!K378=\"\",\"\",報告書!K378))","v":""},null," ）建築士事務所",{"$nulls":9},"（",{"$f":"IF(報告書_給水_要是正の指摘あり=\"\",\"\",IF(報告書!X378=\"\",\"\",報告書!X378))","v":""},{"$nulls":3},"）知事登録第",{"$nulls":5},{"$f":"IF(報告書_給水_要是正の指摘あり=\"\",\"\",IF(報告書!AH378=\"\",\"\",報告書!AH378))","v":""},{"$nulls":6},"号"]
[null,null,"【ホ．郵便番号】",{"$nulls":10},{"$f":"IF(報告書_給水_要是正の指摘あり=\"\",\"\",IF(報告書!N379=\"\",\"\",報告書!N379))","v":""},{"$f":"IF(報告書!O379=\"\",\"\",報告書!O379)","v":""},{"$f":"IF(報告書!P379=\"\",\"\",報告書!P379)","v":""},{"$f":"IF(報告書!Q379=\"\",\"\",報告書!Q379)","v":""},{"$f":"IF(報告書!R379=\"\",\"\",報告書!R379)","v":""},{"$f":"IF(報告書!S379=\"\",\"\",報告書!S379)","v":""},{"$f":"IF(報告書!T379=\"\",\"\",報告書!T379)","v":""},{"$f":"IF(報告書!U379=\"\",\"\",報告書!U379)","v":""},{"$f":"IF(報告書!V379=\"\",\"\",報告書!V379)","v":""}]
[null,null,"【ヘ．所在地】",{"$nulls":10},{"$f":"IF(報告書_給水_要是正の指摘あり=\"\",\"\",IF(報告書!N380=\"\",\"\",報告書!N380))","v":""},{"$f":"IF(報告書!O380=\"\",\"\",報告書!O380)","v":""},{"$f":"IF(報告書!P380=\"\",\"\",報告書!P380)","v":""},{"$f":"IF(報告書!Q380=\"\",\"\",報告書!Q380)","v":""},{"$f":"IF(報告書!R380=\"\",\"\",報告書!R380)","v":""},{"$f":"IF(報告書!S380=\"\",\"\",報告書!S380)","v":""},{"$f":"IF(報告書!T380=\"\",\"\",報告書!T380)","v":""},{"$f":"IF(報告書!U380=\"\",\"\",報告書!U380)","v":""},{"$f":"IF(報告書!V380=\"\",\"\",報告書!V380)","v":""},{"$f":"IF(報告書!W380=\"\",\"\",報告書!W380)","v":""},{"$f":"IF(報告書!X380=\"\",\"\",報告書!X380)","v":""},{"$f":"IF(報告書!Y380=\"\",\"\",報告書!Y380)","v":""},{"$f":"IF(報告書!Z380=\"\",\"\",報告書!Z380)","v":""},{"$f":"IF(報告書!AA380=\"\",\"\",報告書!AA380)","v":""},{"$f":"IF(報告書!AB380=\"\",\"\",報告書!AB380)","v":""},{"$f":"IF(報告書!AC380=\"\",\"\",報告書!AC380)","v":""},{"$f":"IF(報告書!AD380=\"\",\"\",報告書!AD380)","v":""},{"$f":"IF(報告書!AE380=\"\",\"\",報告書!AE380)","v":""},{"$f":"IF(報告書!AF380=\"\",\"\",報告書!AF380)","v":""},{"$f":"IF(報告書!AG380=\"\",\"\",報告書!AG380)","v":""},{"$f":"IF(報告書!AH380=\"\",\"\",報告書!AH380)","v":""},{"$f":"IF(報告書!AI380=\"\",\"\",報告書!AI380)","v":""},{"$f":"IF(報告書!AJ380=\"\",\"\",報告書!AJ380)","v":""},{"$f":"IF(報告書!AK380=\"\",\"\",報告書!AK380)","v":""},{"$f":"IF(報告書!AL380=\"\",\"\",報告書!AL380)","v":""},{"$f":"IF(報告書!AM380=\"\",\"\",報告書!AM380)","v":""},{"$f":"IF(報告書!AN380=\"\",\"\",報告書!AN380)","v":""},{"$f":"IF(報告書!AO380=\"\",\"\",報告書!AO380)","v":""},{"$f":"IF(報告書!AP380=\"\",\"\",報告書!AP380)","v":""},{"$f":"IF(報告書!AQ380=\"\",\"\",報告書!AQ380)","v":""},{"$f":"IF(報告書!AR380=\"\",\"\",報告書!AR380)","v":""},{"$f":"IF(報告書!AS380=\"\",\"\",報告書!AS380)","v":""},{"$f":"IF(報告書!AT380=\"\",\"\",報告書!AT380)","v":""}]
[null,null,"【ト．電話番号】",{"$nulls":10},{"$f":"IF(報告書_給水_要是正の指摘あり=\"\",\"\",IF(報告書!N381=\"\",\"\",報告書!N381))","v":""},{"$f":"IF(報告書!O381=\"\",\"\",報告書!O381)","v":""},{"$f":"IF(報告書!P381=\"\",\"\",報告書!P381)","v":""},{"$f":"IF(報告書!Q381=\"\",\"\",報告書!Q381)","v":""},{"$f":"IF(報告書!R381=\"\",\"\",報告書!R381)","v":""},{"$f":"IF(報告書!S381=\"\",\"\",報告書!S381)","v":""},{"$f":"IF(報告書!T381=\"\",\"\",報告書!T381)","v":""},{"$f":"IF(報告書!U381=\"\",\"\",報告書!U381)","v":""},{"$f":"IF(報告書!V381=\"\",\"\",報告書!V381)","v":""},{"$f":"IF(報告書!W381=\"\",\"\",報告書!W381)","v":""},{"$f":"IF(報告書!X381=\"\",\"\",報告書!X381)","v":""},{"$f":"IF(報告書!Y381=\"\",\"\",報告書!Y381)","v":""},{"$f":"IF(報告書!Z381=\"\",\"\",報告書!Z381)","v":""},{"$f":"IF(報告書!AA381=\"\",\"\",報告書!AA381)","v":""},{"$f":"IF(報告書!AB381=\"\",\"\",報告書!AB381)","v":""},{"$f":"IF(報告書!AC381=\"\",\"\",報告書!AC381)","v":""},{"$f":"IF(報告書!AD381=\"\",\"\",報告書!AD381)","v":""}]
[null," （その他の検査者）"]
[null,null,"【イ．資格】",{"$nulls":6},"（",{"$f":"IF(報告書_給水_要是正の指摘あり=\"\",\"\",IF(報告書!K383=\"\",\"\",報告書!K383))","v":""},null," ）建築士",{"$nulls":9},"（",{"$f":"IF(報告書_給水_要是正の指摘あり=\"\",\"\",IF(報告書!X383=\"\",\"\",報告書!X383))","v":""},{"$nulls":5},"）登録第",{"$nulls":3},{"$f":"IF(報告書_給水_要是正の指摘あり=\"\",\"\",IF(報告書!AH383=\"\",\"\",報告書!AH383))","v":""},{"$nulls":6},"号"]
[{"$nulls":9},"建築設備検査員",{"$nulls":22},"第",{"$f":"IF(報告書_給水_要是正の指摘あり=\"\",\"\",IF(報告書!AH384=\"\",\"\",報告書!AH384))","v":""},{"$nulls":6},"号"]
[{"$nulls":9},"登録建築設備検査資格者講習を修了した者",{"$nulls":22},"第",{"$f":"IF(報告書_給水_要是正の指摘あり=\"\",\"\",IF(報告書!AH385=\"\",\"\",報告書!AH385))","v":""},{"$nulls":6},"号"]
[null,null,"【ロ．氏名のフリガナ】",{"$nulls":10},{"$f":"IF(報告書_給水_要是正の指摘あり=\"\",\"\",IF(報告書!N386=\"\",\"\",報告書!N386))","v":""},{"$f":"IF(報告書!O386=\"\",\"\",報告書!O386)","v":""},{"$f":"IF(報告書!P386=\"\",\"\",報告書!P386)","v":""},{"$f":"IF(報告書!Q386=\"\",\"\",報告書!Q386)","v":""},{"$f":"IF(報告書!R386=\"\",\"\",報告書!R386)","v":""},{"$f":"IF(報告書!S386=\"\",\"\",報告書!S386)","v":""},{"$f":"IF(報告書!T386=\"\",\"\",報告書!T386)","v":""},{"$f":"IF(報告書!U386=\"\",\"\",報告書!U386)","v":""},{"$f":"IF(報告書!V386=\"\",\"\",報告書!V386)","v":""},{"$f":"IF(報告書!W386=\"\",\"\",報告書!W386)","v":""},{"$f":"IF(報告書!X386=\"\",\"\",報告書!X386)","v":""},{"$f":"IF(報告書!Y386=\"\",\"\",報告書!Y386)","v":""},{"$f":"IF(報告書!Z386=\"\",\"\",報告書!Z386)","v":""},{"$f":"IF(報告書!AA386=\"\",\"\",報告書!AA386)","v":""},{"$f":"IF(報告書!AB386=\"\",\"\",報告書!AB386)","v":""},{"$f":"IF(報告書!AC386=\"\",\"\",報告書!AC386)","v":""},{"$f":"IF(報告書!AD386=\"\",\"\",報告書!AD386)","v":""},{"$f":"IF(報告書!AE386=\"\",\"\",報告書!AE386)","v":""},{"$f":"IF(報告書!AF386=\"\",\"\",報告書!AF386)","v":""},{"$f":"IF(報告書!AG386=\"\",\"\",報告書!AG386)","v":""},{"$f":"IF(報告書!AH386=\"\",\"\",報告書!AH386)","v":""},{"$f":"IF(報告書!AI386=\"\",\"\",報告書!AI386)","v":""},{"$f":"IF(報告書!AJ386=\"\",\"\",報告書!AJ386)","v":""},{"$f":"IF(報告書!AK386=\"\",\"\",報告書!AK386)","v":""},{"$f":"IF(報告書!AL386=\"\",\"\",報告書!AL386)","v":""},{"$f":"IF(報告書!AM386=\"\",\"\",報告書!AM386)","v":""},{"$f":"IF(報告書!AN386=\"\",\"\",報告書!AN386)","v":""},{"$f":"IF(報告書!AO386=\"\",\"\",報告書!AO386)","v":""},{"$f":"IF(報告書!AP386=\"\",\"\",報告書!AP386)","v":""},{"$f":"IF(報告書!AQ386=\"\",\"\",報告書!AQ386)","v":""},{"$f":"IF(報告書!AR386=\"\",\"\",報告書!AR386)","v":""},{"$f":"IF(報告書!AS386=\"\",\"\",報告書!AS386)","v":""},{"$f":"IF(報告書!AT386=\"\",\"\",報告書!AT386)","v":""}]
[null,null,"【ハ．氏名】",{"$nulls":10},{"$f":"IF(報告書_給水_要是正の指摘あり=\"\",\"\",IF(報告書!N387=\"\",\"\",報告書!N387))","v":""},{"$f":"IF(報告書!O387=\"\",\"\",報告書!O387)","v":""},{"$f":"IF(報告書!P387=\"\",\"\",報告書!P387)","v":""},{"$f":"IF(報告書!Q387=\"\",\"\",報告書!Q387)","v":""},{"$f":"IF(報告書!R387=\"\",\"\",報告書!R387)","v":""},{"$f":"IF(報告書!S387=\"\",\"\",報告書!S387)","v":""},{"$f":"IF(報告書!T387=\"\",\"\",報告書!T387)","v":""},{"$f":"IF(報告書!U387=\"\",\"\",報告書!U387)","v":""},{"$f":"IF(報告書!V387=\"\",\"\",報告書!V387)","v":""},{"$f":"IF(報告書!W387=\"\",\"\",報告書!W387)","v":""},{"$f":"IF(報告書!X387=\"\",\"\",報告書!X387)","v":""},{"$f":"IF(報告書!Y387=\"\",\"\",報告書!Y387)","v":""},{"$f":"IF(報告書!Z387=\"\",\"\",報告書!Z387)","v":""},{"$f":"IF(報告書!AA387=\"\",\"\",報告書!AA387)","v":""},{"$f":"IF(報告書!AB387=\"\",\"\",報告書!AB387)","v":""},{"$f":"IF(報告書!AC387=\"\",\"\",報告書!AC387)","v":""},{"$f":"IF(報告書!AD387=\"\",\"\",報告書!AD387)","v":""},{"$f":"IF(報告書!AE387=\"\",\"\",報告書!AE387)","v":""},{"$f":"IF(報告書!AF387=\"\",\"\",報告書!AF387)","v":""},{"$f":"IF(報告書!AG387=\"\",\"\",報告書!AG387)","v":""},{"$f":"IF(報告書!AH387=\"\",\"\",報告書!AH387)","v":""},{"$f":"IF(報告書!AI387=\"\",\"\",報告書!AI387)","v":""},{"$f":"IF(報告書!AJ387=\"\",\"\",報告書!AJ387)","v":""},{"$f":"IF(報告書!AK387=\"\",\"\",報告書!AK387)","v":""},{"$f":"IF(報告書!AL387=\"\",\"\",報告書!AL387)","v":""},{"$f":"IF(報告書!AM387=\"\",\"\",報告書!AM387)","v":""},{"$f":"IF(報告書!AN387=\"\",\"\",報告書!AN387)","v":""},{"$f":"IF(報告書!AO387=\"\",\"\",報告書!AO387)","v":""},{"$f":"IF(報告書!AP387=\"\",\"\",報告書!AP387)","v":""},{"$f":"IF(報告書!AQ387=\"\",\"\",報告書!AQ387)","v":""},{"$f":"IF(報告書!AR387=\"\",\"\",報告書!AR387)","v":""},{"$f":"IF(報告書!AS387=\"\",\"\",報告書!AS387)","v":""},{"$f":"IF(報告書!AT387=\"\",\"\",報告書!AT387)","v":""}]
[null,null,"【ニ．勤務先】",{"$nulls":10},{"$f":"IF(報告書_給水_要是正の指摘あり=\"\",\"\",IF(報告書!N388=\"\",\"\",報告書!N388))","v":""},{"$f":"IF(報告書!O388=\"\",\"\",報告書!O388)","v":""},{"$f":"IF(報告書!P388=\"\",\"\",報告書!P388)","v":""},{"$f":"IF(報告書!Q388=\"\",\"\",報告書!Q388)","v":""},{"$f":"IF(報告書!R388=\"\",\"\",報告書!R388)","v":""},{"$f":"IF(報告書!S388=\"\",\"\",報告書!S388)","v":""},{"$f":"IF(報告書!T388=\"\",\"\",報告書!T388)","v":""},{"$f":"IF(報告書!U388=\"\",\"\",報告書!U388)","v":""},{"$f":"IF(報告書!V388=\"\",\"\",報告書!V388)","v":""},{"$f":"IF(報告書!W388=\"\",\"\",報告書!W388)","v":""},{"$f":"IF(報告書!X388=\"\",\"\",報告書!X388)","v":""},{"$f":"IF(報告書!Y388=\"\",\"\",報告書!Y388)","v":""},{"$f":"IF(報告書!Z388=\"\",\"\",報告書!Z388)","v":""},{"$f":"IF(報告書!AA388=\"\",\"\",報告書!AA388)","v":""},{"$f":"IF(報告書!AB388=\"\",\"\",報告書!AB388)","v":""},{"$f":"IF(報告書!AC388=\"\",\"\",報告書!AC388)","v":""},{"$f":"IF(報告書!AD388=\"\",\"\",報告書!AD388)","v":""},{"$f":"IF(報告書!AE388=\"\",\"\",報告書!AE388)","v":""},{"$f":"IF(報告書!AF388=\"\",\"\",報告書!AF388)","v":""},{"$f":"IF(報告書!AG388=\"\",\"\",報告書!AG388)","v":""},{"$f":"IF(報告書!AH388=\"\",\"\",報告書!AH388)","v":""},{"$f":"IF(報告書!AI388=\"\",\"\",報告書!AI388)","v":""},{"$f":"IF(報告書!AJ388=\"\",\"\",報告書!AJ388)","v":""},{"$f":"IF(報告書!AK388=\"\",\"\",報告書!AK388)","v":""},{"$f":"IF(報告書!AL388=\"\",\"\",報告書!AL388)","v":""},{"$f":"IF(報告書!AM388=\"\",\"\",報告書!AM388)","v":""},{"$f":"IF(報告書!AN388=\"\",\"\",報告書!AN388)","v":""},{"$f":"IF(報告書!AO388=\"\",\"\",報告書!AO388)","v":""},{"$f":"IF(報告書!AP388=\"\",\"\",報告書!AP388)","v":""},{"$f":"IF(報告書!AQ388=\"\",\"\",報告書!AQ388)","v":""},{"$f":"IF(報告書!AR388=\"\",\"\",報告書!AR388)","v":""},{"$f":"IF(報告書!AS388=\"\",\"\",報告書!AS388)","v":""},{"$f":"IF(報告書!AT388=\"\",\"\",報告書!AT388)","v":""}]
[{"$nulls":9},"（",{"$f":"IF(報告書_給水_要是正の指摘あり=\"\",\"\",IF(報告書!K389=\"\",\"\",報告書!K389))","v":""},null," ）建築士事務所",{"$nulls":9},"（",{"$f":"IF(報告書_給水_要是正の指摘あり=\"\",\"\",IF(報告書!X389=\"\",\"\",報告書!X389))","v":""},{"$nulls":3},"）知事登録第",{"$nulls":5},{"$f":"IF(報告書_給水_要是正の指摘あり=\"\",\"\",IF(報告書!AH389=\"\",\"\",報告書!AH389))","v":""},{"$nulls":6},"号"]
[null,null,"【ホ．郵便番号】",{"$nulls":10},{"$f":"IF(報告書_給水_要是正の指摘あり=\"\",\"\",IF(報告書!N390=\"\",\"\",報告書!N390))","v":""},{"$f":"IF(報告書!O390=\"\",\"\",報告書!O390)","v":""},{"$f":"IF(報告書!P390=\"\",\"\",報告書!P390)","v":""},{"$f":"IF(報告書!Q390=\"\",\"\",報告書!Q390)","v":""},{"$f":"IF(報告書!R390=\"\",\"\",報告書!R390)","v":""},{"$f":"IF(報告書!S390=\"\",\"\",報告書!S390)","v":""},{"$f":"IF(報告書!T390=\"\",\"\",報告書!T390)","v":""},{"$f":"IF(報告書!U390=\"\",\"\",報告書!U390)","v":""},{"$f":"IF(報告書!V390=\"\",\"\",報告書!V390)","v":""}]
[null,null,"【ヘ．所在地】",{"$nulls":10},{"$f":"IF(報告書_給水_要是正の指摘あり=\"\",\"\",IF(報告書!N391=\"\",\"\",報告書!N391))","v":""},{"$f":"IF(報告書!O391=\"\",\"\",報告書!O391)","v":""},{"$f":"IF(報告書!P391=\"\",\"\",報告書!P391)","v":""},{"$f":"IF(報告書!Q391=\"\",\"\",報告書!Q391)","v":""},{"$f":"IF(報告書!R391=\"\",\"\",報告書!R391)","v":""},{"$f":"IF(報告書!S391=\"\",\"\",報告書!S391)","v":""},{"$f":"IF(報告書!T391=\"\",\"\",報告書!T391)","v":""},{"$f":"IF(報告書!U391=\"\",\"\",報告書!U391)","v":""},{"$f":"IF(報告書!V391=\"\",\"\",報告書!V391)","v":""},{"$f":"IF(報告書!W391=\"\",\"\",報告書!W391)","v":""},{"$f":"IF(報告書!X391=\"\",\"\",報告書!X391)","v":""},{"$f":"IF(報告書!Y391=\"\",\"\",報告書!Y391)","v":""},{"$f":"IF(報告書!Z391=\"\",\"\",報告書!Z391)","v":""},{"$f":"IF(報告書!AA391=\"\",\"\",報告書!AA391)","v":""},{"$f":"IF(報告書!AB391=\"\",\"\",報告書!AB391)","v":""},{"$f":"IF(報告書!AC391=\"\",\"\",報告書!AC391)","v":""},{"$f":"IF(報告書!AD391=\"\",\"\",報告書!AD391)","v":""},{"$f":"IF(報告書!AE391=\"\",\"\",報告書!AE391)","v":""},{"$f":"IF(報告書!AF391=\"\",\"\",報告書!AF391)","v":""},{"$f":"IF(報告書!AG391=\"\",\"\",報告書!AG391)","v":""},{"$f":"IF(報告書!AH391=\"\",\"\",報告書!AH391)","v":""},{"$f":"IF(報告書!AI391=\"\",\"\",報告書!AI391)","v":""},{"$f":"IF(報告書!AJ391=\"\",\"\",報告書!AJ391)","v":""},{"$f":"IF(報告書!AK391=\"\",\"\",報告書!AK391)","v":""},{"$f":"IF(報告書!AL391=\"\",\"\",報告書!AL391)","v":""},{"$f":"IF(報告書!AM391=\"\",\"\",報告書!AM391)","v":""},{"$f":"IF(報告書!AN391=\"\",\"\",報告書!AN391)","v":""},{"$f":"IF(報告書!AO391=\"\",\"\",報告書!AO391)","v":""},{"$f":"IF(報告書!AP391=\"\",\"\",報告書!AP391)","v":""},{"$f":"IF(報告書!AQ391=\"\",\"\",報告書!AQ391)","v":""},{"$f":"IF(報告書!AR391=\"\",\"\",報告書!AR391)","v":""},{"$f":"IF(報告書!AS391=\"\",\"\",報告書!AS391)","v":""},{"$f":"IF(報告書!AT391=\"\",\"\",報告書!AT391)","v":""}]
[null,null,"【ト．電話番号】",{"$nulls":10},{"$f":"IF(報告書_給水_要是正の指摘あり=\"\",\"\",IF(報告書!N392=\"\",\"\",報告書!N392))","v":""},{"$f":"IF(報告書!O392=\"\",\"\",報告書!O392)","v":""},{"$f":"IF(報告書!P392=\"\",\"\",報告書!P392)","v":""},{"$f":"IF(報告書!Q392=\"\",\"\",報告書!Q392)","v":""},{"$f":"IF(報告書!R392=\"\",\"\",報告書!R392)","v":""},{"$f":"IF(報告書!S392=\"\",\"\",報告書!S392)","v":""},{"$f":"IF(報告書!T392=\"\",\"\",報告書!T392)","v":""},{"$f":"IF(報告書!U392=\"\",\"\",報告書!U392)","v":""},{"$f":"IF(報告書!V392=\"\",\"\",報告書!V392)","v":""},{"$f":"IF(報告書!W392=\"\",\"\",報告書!W392)","v":""},{"$f":"IF(報告書!X392=\"\",\"\",報告書!X392)","v":""},{"$f":"IF(報告書!Y392=\"\",\"\",報告書!Y392)","v":""},{"$f":"IF(報告書!Z392=\"\",\"\",報告書!Z392)","v":""},{"$f":"IF(報告書!AA392=\"\",\"\",報告書!AA392)","v":""},{"$f":"IF(報告書!AB392=\"\",\"\",報告書!AB392)","v":""},{"$f":"IF(報告書!AC392=\"\",\"\",報告書!AC392)","v":""},{"$f":"IF(報告書!AD392=\"\",\"\",報告書!AD392)","v":""}]
[null," （その他の検査者２）"]
[null,null,"【イ．資格等】",{"$nulls":6},"（",{"$f":"IF(報告書!X424=\"レ\",\"\",IF(報告書!N424=\"\",\"\",IF(報告書!K394=\"\",\"\",報告書!K394)))","v":""},null," ）建築士",{"$nulls":9},"（",{"$f":"IF(報告書!X424=\"レ\",\"\",IF(報告書!N424=\"\",\"\",IF(報告書!X394=\"\",\"\",報告書!X394)))","v":""},{"$nulls":8},")登録第",{"$f":"IF(報告書!X424=\"レ\",\"\",IF(報告書!N424=\"\",\"\",IF(報告書!AH394=\"\",\"\",報告書!AH394)))","v":""},{"$nulls":6},"号"]
[{"$nulls":9},"建築基準適合判定資格者",{"$nulls":22},"第",{"$f":"IF(報告書!X424=\"レ\",\"\",IF(報告書!N424=\"\",\"\",IF(報告書!AH395=\"\",\"\",報告書!AH395)))","v":""},{"$nulls":6},"号"]
[{"$nulls":9},"登録建築設備検査資格者講習を修了した者",{"$nulls":22},"第",{"$f":"IF(報告書!X424=\"レ\",\"\",IF(報告書!N424=\"\",\"\",IF(報告書!AH396=\"\",\"\",報告書!AH396)))","v":""},{"$nulls":6},"号"]
[null,null,"【ロ．氏名のフリガナ】",{"$nulls":10},{"$f":"IF(報告書!X424=\"レ\",\"\",IF(報告書!N424=\"\",\"\",IF(報告書!N397=\"\",\"\",報告書!N397)))","v":""},{"$f":"IF(報告書!O397=\"\",\"\",報告書!O397)","v":""},{"$f":"IF(報告書!P397=\"\",\"\",報告書!P397)","v":""},{"$f":"IF(報告書!Q397=\"\",\"\",報告書!Q397)","v":""},{"$f":"IF(報告書!R397=\"\",\"\",報告書!R397)","v":""},{"$f":"IF(報告書!S397=\"\",\"\",報告書!S397)","v":""},{"$f":"IF(報告書!T397=\"\",\"\",報告書!T397)","v":""},{"$f":"IF(報告書!U397=\"\",\"\",報告書!U397)","v":""},{"$f":"IF(報告書!V397=\"\",\"\",報告書!V397)","v":""},{"$f":"IF(報告書!W397=\"\",\"\",報告書!W397)","v":""},{"$f":"IF(報告書!X397=\"\",\"\",報告書!X397)","v":""},{"$f":"IF(報告書!Y397=\"\",\"\",報告書!Y397)","v":""},{"$f":"IF(報告書!Z397=\"\",\"\",報告書!Z397)","v":""},{"$f":"IF(報告書!AA397=\"\",\"\",報告書!AA397)","v":""},{"$f":"IF(報告書!AB397=\"\",\"\",報告書!AB397)","v":""},{"$f":"IF(報告書!AC397=\"\",\"\",報告書!AC397)","v":""},{"$f":"IF(報告書!AD397=\"\",\"\",報告書!AD397)","v":""},{"$f":"IF(報告書!AE397=\"\",\"\",報告書!AE397)","v":""},{"$f":"IF(報告書!AF397=\"\",\"\",報告書!AF397)","v":""},{"$f":"IF(報告書!AG397=\"\",\"\",報告書!AG397)","v":""},{"$f":"IF(報告書!AH397=\"\",\"\",報告書!AH397)","v":""},{"$f":"IF(報告書!AI397=\"\",\"\",報告書!AI397)","v":""},{"$f":"IF(報告書!AJ397=\"\",\"\",報告書!AJ397)","v":""},{"$f":"IF(報告書!AK397=\"\",\"\",報告書!AK397)","v":""},{"$f":"IF(報告書!AL397=\"\",\"\",報告書!AL397)","v":""},{"$f":"IF(報告書!AM397=\"\",\"\",報告書!AM397)","v":""},{"$f":"IF(報告書!AN397=\"\",\"\",報告書!AN397)","v":""},{"$f":"IF(報告書!AO397=\"\",\"\",報告書!AO397)","v":""},{"$f":"IF(報告書!AP397=\"\",\"\",報告書!AP397)","v":""},{"$f":"IF(報告書!AQ397=\"\",\"\",報告書!AQ397)","v":""},{"$f":"IF(報告書!AR397=\"\",\"\",報告書!AR397)","v":""},{"$f":"IF(報告書!AS397=\"\",\"\",報告書!AS397)","v":""},{"$f":"IF(報告書!AT397=\"\",\"\",報告書!AT397)","v":""}]
[null,null,"【ハ．氏名】",{"$nulls":10},{"$f":"IF(報告書!X424=\"レ\",\"\",IF(報告書!N424=\"\",\"\",IF(報告書!N398=\"\",\"\",報告書!N398)))","v":""},{"$f":"IF(報告書!O398=\"\",\"\",報告書!O398)","v":""},{"$f":"IF(報告書!P398=\"\",\"\",報告書!P398)","v":""},{"$f":"IF(報告書!Q398=\"\",\"\",報告書!Q398)","v":""},{"$f":"IF(報告書!R398=\"\",\"\",報告書!R398)","v":""},{"$f":"IF(報告書!S398=\"\",\"\",報告書!S398)","v":""},{"$f":"IF(報告書!T398=\"\",\"\",報告書!T398)","v":""},{"$f":"IF(報告書!U398=\"\",\"\",報告書!U398)","v":""},{"$f":"IF(報告書!V398=\"\",\"\",報告書!V398)","v":""},{"$f":"IF(報告書!W398=\"\",\"\",報告書!W398)","v":""},{"$f":"IF(報告書!X398=\"\",\"\",報告書!X398)","v":""},{"$f":"IF(報告書!Y398=\"\",\"\",報告書!Y398)","v":""},{"$f":"IF(報告書!Z398=\"\",\"\",報告書!Z398)","v":""},{"$f":"IF(報告書!AA398=\"\",\"\",報告書!AA398)","v":""},{"$f":"IF(報告書!AB398=\"\",\"\",報告書!AB398)","v":""},{"$f":"IF(報告書!AC398=\"\",\"\",報告書!AC398)","v":""},{"$f":"IF(報告書!AD398=\"\",\"\",報告書!AD398)","v":""},{"$f":"IF(報告書!AE398=\"\",\"\",報告書!AE398)","v":""},{"$f":"IF(報告書!AF398=\"\",\"\",報告書!AF398)","v":""},{"$f":"IF(報告書!AG398=\"\",\"\",報告書!AG398)","v":""},{"$f":"IF(報告書!AH398=\"\",\"\",報告書!AH398)","v":""},{"$f":"IF(報告書!AI398=\"\",\"\",報告書!AI398)","v":""},{"$f":"IF(報告書!AJ398=\"\",\"\",報告書!AJ398)","v":""},{"$f":"IF(報告書!AK398=\"\",\"\",報告書!AK398)","v":""},{"$f":"IF(報告書!AL398=\"\",\"\",報告書!AL398)","v":""},{"$f":"IF(報告書!AM398=\"\",\"\",報告書!AM398)","v":""},{"$f":"IF(報告書!AN398=\"\",\"\",報告書!AN398)","v":""},{"$f":"IF(報告書!AO398=\"\",\"\",報告書!AO398)","v":""},{"$f":"IF(報告書!AP398=\"\",\"\",報告書!AP398)","v":""},{"$f":"IF(報告書!AQ398=\"\",\"\",報告書!AQ398)","v":""},{"$f":"IF(報告書!AR398=\"\",\"\",報告書!AR398)","v":""},{"$f":"IF(報告書!AS398=\"\",\"\",報告書!AS398)","v":""},{"$f":"IF(報告書!AT398=\"\",\"\",報告書!AT398)","v":""}]
[null,null,"【ニ．勤務先】",{"$nulls":10},{"$f":"IF(報告書!X424=\"レ\",\"\",IF(報告書!N424=\"\",\"\",IF(報告書!N399=\"\",\"\",報告書!N399)))","v":""},{"$f":"IF(報告書!O399=\"\",\"\",報告書!O399)","v":""},{"$f":"IF(報告書!P399=\"\",\"\",報告書!P399)","v":""},{"$f":"IF(報告書!Q399=\"\",\"\",報告書!Q399)","v":""},{"$f":"IF(報告書!R399=\"\",\"\",報告書!R399)","v":""},{"$f":"IF(報告書!S399=\"\",\"\",報告書!S399)","v":""},{"$f":"IF(報告書!T399=\"\",\"\",報告書!T399)","v":""},{"$f":"IF(報告書!U399=\"\",\"\",報告書!U399)","v":""},{"$f":"IF(報告書!V399=\"\",\"\",報告書!V399)","v":""},{"$f":"IF(報告書!W399=\"\",\"\",報告書!W399)","v":""},{"$f":"IF(報告書!X399=\"\",\"\",報告書!X399)","v":""},{"$f":"IF(報告書!Y399=\"\",\"\",報告書!Y399)","v":""},{"$f":"IF(報告書!Z399=\"\",\"\",報告書!Z399)","v":""},{"$f":"IF(報告書!AA399=\"\",\"\",報告書!AA399)","v":""},{"$f":"IF(報告書!AB399=\"\",\"\",報告書!AB399)","v":""},{"$f":"IF(報告書!AC399=\"\",\"\",報告書!AC399)","v":""},{"$f":"IF(報告書!AD399=\"\",\"\",報告書!AD399)","v":""},{"$f":"IF(報告書!AE399=\"\",\"\",報告書!AE399)","v":""},{"$f":"IF(報告書!AF399=\"\",\"\",報告書!AF399)","v":""},{"$f":"IF(報告書!AG399=\"\",\"\",報告書!AG399)","v":""},{"$f":"IF(報告書!AH399=\"\",\"\",報告書!AH399)","v":""},{"$f":"IF(報告書!AI399=\"\",\"\",報告書!AI399)","v":""},{"$f":"IF(報告書!AJ399=\"\",\"\",報告書!AJ399)","v":""},{"$f":"IF(報告書!AK399=\"\",\"\",報告書!AK399)","v":""},{"$f":"IF(報告書!AL399=\"\",\"\",報告書!AL399)","v":""},{"$f":"IF(報告書!AM399=\"\",\"\",報告書!AM399)","v":""},{"$f":"IF(報告書!AN399=\"\",\"\",報告書!AN399)","v":""},{"$f":"IF(報告書!AO399=\"\",\"\",報告書!AO399)","v":""},{"$f":"IF(報告書!AP399=\"\",\"\",報告書!AP399)","v":""},{"$f":"IF(報告書!AQ399=\"\",\"\",報告書!AQ399)","v":""},{"$f":"IF(報告書!AR399=\"\",\"\",報告書!AR399)","v":""},{"$f":"IF(報告書!AS399=\"\",\"\",報告書!AS399)","v":""},{"$f":"IF(報告書!AT399=\"\",\"\",報告書!AT399)","v":""}]
[{"$nulls":9},"（",{"$f":"IF(報告書!X424=\"レ\",\"\",IF(報告書!N424=\"\",\"\",IF(報告書!K400=\"\",\"\",報告書!K400)))","v":""},null," ）建築士事務所",{"$nulls":9},"（",{"$f":"IF(報告書!X424=\"レ\",\"\",IF(報告書!N424=\"\",\"\",IF(報告書!X400=\"\",\"\",報告書!X400)))","v":""},{"$nulls":8},")知事登録第",{"$f":"IF(報告書!X424=\"レ\",\"\",IF(報告書!N424=\"\",\"\",IF(報告書!AH400=\"\",\"\",報告書!AH400)))","v":""},{"$nulls":6},"号"]
[null,null,"【ホ．郵便番号】",{"$nulls":10},{"$f":"IF(報告書!X424=\"レ\",\"\",IF(報告書!N424=\"\",\"\",IF(報告書!N401=\"\",\"\",報告書!N401)))","v":""},{"$f":"IF(報告書!O401=\"\",\"\",報告書!O401)","v":""},{"$f":"IF(報告書!P401=\"\",\"\",報告書!P401)","v":""},{"$f":"IF(報告書!Q401=\"\",\"\",報告書!Q401)","v":""},{"$f":"IF(報告書!R401=\"\",\"\",報告書!R401)","v":""},{"$f":"IF(報告書!S401=\"\",\"\",報告書!S401)","v":""},{"$f":"IF(報告書!T401=\"\",\"\",報告書!T401)","v":""},{"$f":"IF(報告書!U401=\"\",\"\",報告書!U401)","v":""},{"$f":"IF(報告書!V401=\"\",\"\",報告書!V401)","v":""}]
[null,null,"【ヘ．所在地】",{"$nulls":10},{"$f":"IF(報告書!X424=\"レ\",\"\",IF(報告書!N424=\"\",\"\",IF(報告書!N402=\"\",\"\",報告書!N402)))","v":""},{"$f":"IF(報告書!O402=\"\",\"\",報告書!O402)","v":""},{"$f":"IF(報告書!P402=\"\",\"\",報告書!P402)","v":""},{"$f":"IF(報告書!Q402=\"\",\"\",報告書!Q402)","v":""},{"$f":"IF(報告書!R402=\"\",\"\",報告書!R402)","v":""},{"$f":"IF(報告書!S402=\"\",\"\",報告書!S402)","v":""},{"$f":"IF(報告書!T402=\"\",\"\",報告書!T402)","v":""},{"$f":"IF(報告書!U402=\"\",\"\",報告書!U402)","v":""},{"$f":"IF(報告書!V402=\"\",\"\",報告書!V402)","v":""},{"$f":"IF(報告書!W402=\"\",\"\",報告書!W402)","v":""},{"$f":"IF(報告書!X402=\"\",\"\",報告書!X402)","v":""},{"$f":"IF(報告書!Y402=\"\",\"\",報告書!Y402)","v":""},{"$f":"IF(報告書!Z402=\"\",\"\",報告書!Z402)","v":""},{"$f":"IF(報告書!AA402=\"\",\"\",報告書!AA402)","v":""},{"$f":"IF(報告書!AB402=\"\",\"\",報告書!AB402)","v":""},{"$f":"IF(報告書!AC402=\"\",\"\",報告書!AC402)","v":""},{"$f":"IF(報告書!AD402=\"\",\"\",報告書!AD402)","v":""},{"$f":"IF(報告書!AE402=\"\",\"\",報告書!AE402)","v":""},{"$f":"IF(報告書!AF402=\"\",\"\",報告書!AF402)","v":""},{"$f":"IF(報告書!AG402=\"\",\"\",報告書!AG402)","v":""},{"$f":"IF(報告書!AH402=\"\",\"\",報告書!AH402)","v":""},{"$f":"IF(報告書!AI402=\"\",\"\",報告書!AI402)","v":""},{"$f":"IF(報告書!AJ402=\"\",\"\",報告書!AJ402)","v":""},{"$f":"IF(報告書!AK402=\"\",\"\",報告書!AK402)","v":""},{"$f":"IF(報告書!AL402=\"\",\"\",報告書!AL402)","v":""},{"$f":"IF(報告書!AM402=\"\",\"\",報告書!AM402)","v":""},{"$f":"IF(報告書!AN402=\"\",\"\",報告書!AN402)","v":""},{"$f":"IF(報告書!AO402=\"\",\"\",報告書!AO402)","v":""},{"$f":"IF(報告書!AP402=\"\",\"\",報告書!AP402)","v":""},{"$f":"IF(報告書!AQ402=\"\",\"\",報告書!AQ402)","v":""},{"$f":"IF(報告書!AR402=\"\",\"\",報告書!AR402)","v":""},{"$f":"IF(報告書!AS402=\"\",\"\",報告書!AS402)","v":""},{"$f":"IF(報告書!AT402=\"\",\"\",報告書!AT402)","v":""}]
[null,null,"【ト．電話番号】",{"$nulls":10},{"$f":"IF(報告書!X424=\"レ\",\"\",IF(報告書!N424=\"\",\"\",IF(報告書!N403=\"\",\"\",報告書!N403)))","v":""},{"$f":"IF(報告書!O403=\"\",\"\",報告書!O403)","v":""},{"$f":"IF(報告書!P403=\"\",\"\",報告書!P403)","v":""},{"$f":"IF(報告書!Q403=\"\",\"\",報告書!Q403)","v":""},{"$f":"IF(報告書!R403=\"\",\"\",報告書!R403)","v":""},{"$f":"IF(報告書!S403=\"\",\"\",報告書!S403)","v":""},{"$f":"IF(報告書!T403=\"\",\"\",報告書!T403)","v":""},{"$f":"IF(報告書!U403=\"\",\"\",報告書!U403)","v":""},{"$f":"IF(報告書!V403=\"\",\"\",報告書!V403)","v":""},{"$f":"IF(報告書!W403=\"\",\"\",報告書!W403)","v":""},{"$f":"IF(報告書!X403=\"\",\"\",報告書!X403)","v":""},{"$f":"IF(報告書!Y403=\"\",\"\",報告書!Y403)","v":""},{"$f":"IF(報告書!Z403=\"\",\"\",報告書!Z403)","v":""},{"$f":"IF(報告書!AA403=\"\",\"\",報告書!AA403)","v":""},{"$f":"IF(報告書!AB403=\"\",\"\",報告書!AB403)","v":""},{"$f":"IF(報告書!AC403=\"\",\"\",報告書!AC403)","v":""},{"$f":"IF(報告書!AD403=\"\",\"\",報告書!AD403)","v":""}]
[]
[]
[]
[]
[]
[null,"【11．給水設備及び排水設備の概要】"]
[null,null,"【イ．飲料水の配管設備】",{"$nulls":11},{"$f":"IF(報告書_給水_要是正の指摘あり=\"\",\"\",報告書!O410)","v":""},"給水タンク （",{"$nulls":5},{"$f":"IF(報告書_給水_要是正の指摘あり=\"\",\"\",IF(報告書!V410=\"\",\"\",報告書!V410))","v":""},null,"基",{"$f":"IF(報告書_給水_要是正の指摘あり=\"\",\"\",IF(報告書!Y410=\"\",\"\",報告書!Y410))","v":""},null,"ｍ3）",{"$nulls":3},{"$f":"IF(報告書_給水_要是正の指摘あり=\"\",\"\",報告書!AE410)","v":""},"貯水タンク （",{"$nulls":5},{"$f":"IF(報告書_給水_要是正の指摘あり=\"\",\"\",IF(報告書!AL410=\"\",\"\",報告書!AL410))","v":""},null,"基",{"$f":"IF(報告書_給水_要是正の指摘あり=\"\",\"\",IF(報告書!AO410=\"\",\"\",報告書!AO410))","v":""},null,"ｍ3）"]
[{"$nulls":14},{"$f":"IF(報告書!X424=\"レ\",\"\",IF(報告書!N424=\"\",\"\",報告書!O411))","v":""},"その他 （",{"$nulls":18},"）"]
[null,null,"【ロ．排水設備】",{"$nulls":11},{"$f":"IF(報告書_給水_要是正の指摘あり=\"\",\"\",報告書!O412)","v":""},"排水槽 （",{"$nulls":3},{"$f":"IF(報告書_給水_要是正の指摘あり=\"\",\"\",報告書!T412)","v":""},"汚水槽",{"$nulls":3},{"$f":"IF(報告書_給水_要是正の指摘あり=\"\",\"\",報告書!Y412)","v":""},"雑排水槽",{"$nulls":4},{"$f":"IF(報告書_給水_要是正の指摘あり=\"\",\"\",報告書!AE412)","v":""},"合併槽",{"$nulls":3},{"$f":"IF(報告書_給水_要是正の指摘あり=\"\",\"\",報告書!AJ412)","v":""},"雨水槽・湧水槽）"]
[{"$nulls":14},{"$f":"IF(報告書_給水_要是正の指摘あり=\"\",\"\",報告書!O413)","v":""},"排水再利用配管設備",{"$nulls":11},"その他 （",{"$nulls":18},"）"]
[null,null,"【ハ．圧力タンクの有無】",{"$nulls":11},{"$f":"IF(報告書_給水_要是正の指摘あり=\"\",\"\",報告書!O414)","v":""},"有",null,null,{"$f":"IF(報告書_給水_要是正の指摘あり=\"\",\"\",報告書!S414)","v":""},"無"]
[null,null,"【ニ．給湯方式】",{"$nulls":8},{"$f":"IF(報告書_給水_要是正の指摘あり=\"\",\"\",報告書!L415)","v":""},"局所式",{"$nulls":4},{"$f":"IF(報告書_給水_要是正の指摘あり=\"\",\"\",報告書!R415)","v":""},"中央式"]
[null,null,"【ホ．湯沸器】",{"$nulls":8},{"$f":"IF(報告書_給水_要是正の指摘あり=\"\",\"\",報告書!L416)","v":""},"開放式燃焼器",{"$nulls":7},{"$f":"IF(報告書_給水_要是正の指摘あり=\"\",\"\",報告書!U416)","v":""},"半密閉式燃焼器",{"$nulls":8},{"$f":"IF(報告書_給水_要是正の指摘あり=\"\",\"\",報告書!AE416)","v":""},"密閉式燃焼器"]
[{"$nulls":11},{"$f":"IF(報告書_給水_要是正の指摘あり=\"\",\"\",報告書!L417)","v":""},"その他 （",{"$nulls":3},{"$f":"IF(報告書_給水_要是正の指摘あり=\"\",\"\",IF(報告書!Q417=\"\",\"\",報告書!Q417))","v":""},{"$nulls":19},"）"]
[]
[]
[]
[]
[]
[null,"【18．給水設備及び排水設備の検査の状況】"]
[null,null,"【イ．指摘の内容】",{"$nulls":11},"要是正の指摘あり （",{"$nulls":9},"既存不適格）",{"$nulls":8},"指摘なし"]
[null,null,"【ロ．指摘の概要】"]
[]
[]
[]
[]
[null,null,"【ハ．改善予定の有無】",{"$nulls":11},"有",null,null,"（平成",null,null,"年",null,null,"月に改善予定）",{"$nulls":9},"無"]
[]
[]
[]
[]
[]
[null,"【19．給水設備及び排水設備の不具合の発生状況】"]
[null,null,"【イ．不具合】",{"$nulls":9},"有",null,null,"無"]
[null,null,"【ロ．不具合記録】",{"$nulls":9},"有",null,null,"無"]
[null,null,"【ハ．改善の状況】",{"$nulls":9},"実施済",{"$nulls":4},"改善予定",{"$nulls":5},"（平成",null,null,"年",null,null,"月に改善予定）",{"$nulls":8},"予定なし"]
{"$rows_empty":10}
[null,"【12．備考】"]
[null,null,"【国土交通大臣が定める検査項目の有無】",{"$nulls":19},{"$f":"IF(報告書!N63=\"\",\"\",IF(報告書!W451=\"\",\"\",報告書!W451))","v":""},"有（",null,{"$f":"IF(報告書!N63=\"\",\"\",IF(報告書!Z451=\"\",\"\",報告書!Z451))","v":""},null,"・",{"$f":"IF(報告書!N63=\"\",\"\",IF(報告書!AC451=\"\",\"\",報告書!AC451))","v":""},null,"・",{"$f":"IF(報告書!N63=\"\",\"\",IF(報告書!AF451=\"\",\"\",報告書!AF451))","v":""},null,null,"）",null,null,{"$f":"IF(報告書!N63=\"\",\"\",IF(報告書!AL451=\"\",\"\",報告書!AL451))","v":""},"無"]
[null,null,{"$f":"IF(報告書!N63=\"\",\"\",IF(報告書!C452=\"\",\"\",報告書!C452))","v":""}]
[null,null,{"$f":"IF(報告書!N63=\"\",\"\",IF(報告書!C453=\"\",\"\",報告書!C453))","v":""}]
[null,null,{"$f":"IF(報告書!X63=\"レ\",\"\",IF(報告書!N63=\"\",\"\",IF(報告書!C454=\"\",\"\",報告書!C454)))","v":""}]
[null,null,{"$f":"IF(報告書!X63=\"レ\",\"\",IF(報告書!N63=\"\",\"\",IF(報告書!C455=\"\",\"\",報告書!C455)))","v":""}]
[null,null,{"$f":"IF(報告書!X63=\"レ\",\"\",IF(報告書!N63=\"\",\"\",IF(報告書!C456=\"\",\"\",報告書!C456)))","v":""}]
[null,null,{"$f":"IF(報告書!X63=\"レ\",\"\",IF(報告書!N63=\"\",\"\",IF(報告書!C457=\"\",\"\",報告書!C457)))","v":""}]
[null,null,{"$f":"IF(報告書!X63=\"レ\",\"\",IF(報告書!N63=\"\",\"\",IF(報告書!C458=\"\",\"\",報告書!C458)))","v":""}]
[null,null,{"$f":"IF(報告書!X63=\"レ\",\"\",IF(報告書!N63=\"\",\"\",IF(報告書!C459=\"\",\"\",報告書!C459)))","v":""}]
[null,null,{"$f":"IF(報告書!X63=\"レ\",\"\",IF(報告書!N63=\"\",\"\",IF(報告書!C460=\"\",\"\",報告書!C460)))","v":""}]
[null,null,{"$f":"IF(報告書!X63=\"レ\",\"\",IF(報告書!N63=\"\",\"\",IF(報告書!C461=\"\",\"\",報告書!C461)))","v":""}]
[null,null,{"$f":"IF(報告書!X63=\"レ\",\"\",IF(報告書!N63=\"\",\"\",IF(報告書!C462=\"\",\"\",報告書!C462)))","v":""}]
[null,null,{"$f":"IF(報告書!X63=\"レ\",\"\",IF(報告書!N63=\"\",\"\",IF(報告書!C463=\"\",\"\",報告書!C463)))","v":""}]
[null,null,{"$f":"IF(報告書!X63=\"レ\",\"\",IF(報告書!N63=\"\",\"\",IF(報告書!C464=\"\",\"\",報告書!C464)))","v":""}]
[null,null,{"$f":"IF(報告書!X63=\"レ\",\"\",IF(報告書!N63=\"\",\"\",IF(報告書!C465=\"\",\"\",報告書!C465)))","v":""}]
[null,null,{"$f":"IF(報告書!X63=\"レ\",\"\",IF(報告書!N63=\"\",\"\",IF(報告書!C466=\"\",\"\",報告書!C466)))","v":""}]
[null,null,{"$f":"IF(報告書!X63=\"レ\",\"\",IF(報告書!N63=\"\",\"\",IF(報告書!C467=\"\",\"\",報告書!C467)))","v":""}]
[null,null,{"$f":"IF(報告書!X63=\"レ\",\"\",IF(報告書!N63=\"\",\"\",IF(報告書!C468=\"\",\"\",報告書!C468)))","v":""}]
[null,null,{"$f":"IF(報告書!X63=\"レ\",\"\",IF(報告書!N63=\"\",\"\",IF(報告書!C469=\"\",\"\",報告書!C469)))","v":""}]
[null,null,{"$f":"IF(報告書!X63=\"レ\",\"\",IF(報告書!N63=\"\",\"\",IF(報告書!C470=\"\",\"\",報告書!C470)))","v":""}]
[]
[]
[null,"（注意）"]
[]
[null,"　この様式には、第三十六号の六様式に記入した内容と同一の内容を記入してください。第二面は、"]
[null,"同様式第二面において指摘があつた建築設備についてのみ作成し、第一面に添えてください。"]
[{"$nulls":54},"順位","№","設備名","第三面","設+三"]
[]
[null,"建築設備に係る不具合の状況"]
[]
[null,"不具合を把",{"$nulls":5},"不具合の概要",{"$nulls":9},"考えられる原因",{"$nulls":9},"改善（予定）",{"$nulls":5},"改善措置の概要等"]
[null,"握した年月",{"$nulls":25},"年月"]
[null,"換気",{"$nulls":5},{"$f":"IF(報告書!H484=\"\",\"\",報告書!H484)","v":""}]
[{"$nulls":7},{"$f":"IF(報告書!H485=\"\",\"\",報告書!H485)","v":""}]
[{"$nulls":7},{"$f":"IF(報告書!H486=\"\",\"\",報告書!H486)","v":""}]
[{"$nulls":7},{"$f":"IF(報告書!H487=\"\",\"\",報告書!H487)","v":""}]
[{"$nulls":7},{"$f":"IF(報告書!H488=\"\",\"\",報告書!H488)","v":""}]
[{"$nulls":7},{"$f":"IF(報告書!H489=\"\",\"\",報告書!H489)","v":""}]
[{"$nulls":7},{"$f":"IF(報告書!H490=\"\",\"\",報告書!H490)","v":""}]
[{"$nulls":7},{"$f":"IF(報告書!H491=\"\",\"\",報告書!H491)","v":""}]
[{"$nulls":7},{"$f":"IF(報告書!H492=\"\",\"\",報告書!H492)","v":""}]
[{"$nulls":7},{"$f":"IF(報告書!H493=\"\",\"\",報告書!H493)","v":""}]
[null,"排煙",{"$nulls":5},{"$f":"IF(報告書!H499=\"\",\"\",報告書!H499)","v":""}]
[{"$nulls":7},{"$f":"IF(報告書!H500=\"\",\"\",報告書!H500)","v":""}]
[{"$nulls":7},{"$f":"IF(報告書!H501=\"\",\"\",報告書!H501)","v":""}]
[{"$nulls":7},{"$f":"IF(報告書!H502=\"\",\"\",報告書!H502)","v":""}]
[{"$nulls":7},{"$f":"IF(報告書!H503=\"\",\"\",報告書!H503)","v":""}]
[{"$nulls":7},{"$f":"IF(報告書!H504=\"\",\"\",報告書!H504)","v":""}]
[{"$nulls":7},{"$f":"IF(報告書!H505=\"\",\"\",報告書!H505)","v":""}]
[{"$nulls":7},{"$f":"IF(報告書!H506=\"\",\"\",報告書!H506)","v":""}]
[{"$nulls":7},{"$f":"IF(報告書!H507=\"\",\"\",報告書!H507)","v":""}]
[{"$nulls":7},{"$f":"IF(報告書!H508=\"\",\"\",報告書!H508)","v":""}]
[null,"非照",{"$nulls":5},{"$f":"IF(報告書!H514=\"\",\"\",報告書!H514)","v":""}]
[{"$nulls":7},{"$f":"IF(報告書!H515=\"\",\"\",報告書!H515)","v":""}]
[{"$nulls":7},{"$f":"IF(報告書!H516=\"\",\"\",報告書!H516)","v":""}]
[{"$nulls":7},{"$f":"IF(報告書!H517=\"\",\"\",報告書!H517)","v":""}]
[{"$nulls":7},{"$f":"IF(報告書!H518=\"\",\"\",報告書!H518)","v":""}]
[{"$nulls":7},{"$f":"IF(報告書!H519=\"\",\"\",報告書!H519)","v":""}]
[{"$nulls":7},{"$f":"IF(報告書!H520=\"\",\"\",報告書!H520)","v":""}]
[{"$nulls":7},{"$f":"IF(報告書!H521=\"\",\"\",報告書!H521)","v":""}]
[{"$nulls":7},{"$f":"IF(報告書!H522=\"\",\"\",報告書!H522)","v":""}]
[{"$nulls":7},{"$f":"IF(報告書!H523=\"\",\"\",報告書!H523)","v":""}]
[null,"水",{"$nulls":5},{"$f":"IF(報告書!H529=\"\",\"\",報告書!H529)","v":""}]
[{"$nulls":7},{"$f":"IF(報告書!H530=\"\",\"\",報告書!H530)","v":""}]
[{"$nulls":7},{"$f":"IF(報告書!H531=\"\",\"\",報告書!H531)","v":""}]
[{"$nulls":7},{"$f":"IF(報告書!H532=\"\",\"\",報告書!H532)","v":""}]
[{"$nulls":7},{"$f":"IF(報告書!H533=\"\",\"\",報告書!H533)","v":""}]
[{"$nulls":7},{"$f":"IF(報告書!H534=\"\",\"\",報告書!H534)","v":""}]
[{"$nulls":7},{"$f":"IF(報告書!H535=\"\",\"\",報告書!H535)","v":""}]
[{"$nulls":7},{"$f":"IF(報告書!H536=\"\",\"\",報告書!H536)","v":""}]
[{"$nulls":7},{"$f":"IF(報告書!H537=\"\",\"\",報告書!H537)","v":""}]
[{"$nulls":7},{"$f":"IF(報告書!H538=\"\",\"\",報告書!H538)","v":""}]
[{"$nulls":54},{"$f":"IF(BD523=\"\",\"\",RANK(BD523,$BD$523:$BD$562,1))","v":""},{"$f":"IF(BF523=0,\"\",1)","v":""},{"$f":"IF(BF523=0,\"\",\"換気設備\")","v":""},{"$f":"報告書!H484","v":0},{"$f":"IF(BC523=\"\",\"\",BE523&\"　\"&BF523)","v":""},1,{"$f":"VLOOKUP(BH523,$BC$523:$BC$562,1)","v":{"$error":"#N/A"}},{"$f":"IF($BC$563=0,\"\",VLOOKUP(BH523,BC523:BG562,5))","v":""}]
[{"$nulls":54},{"$f":"IF(BD524=\"\",\"\",RANK(BD524,$BD$523:$BD$562,1))","v":""},{"$f":"IF(BF524=0,\"\",2)","v":""},"",{"$f":"報告書!H485","v":0},{"$f":"IF(BC524=\"\",\"\",BE524&\"　\"&BF524)","v":""},2,{"$error":"#N/A"},{"$f":"IF($BC$563=0,\"\",IF(BH524=BI524,VLOOKUP(BH524,$BC$523:$BG$562,5),\"\"))","v":""}]
[{"$nulls":54},"",{"$f":"IF(BF525=0,\"\",3)","v":""},"",{"$f":"報告書!H486","v":0},"",3,{"$error":"#N/A"},""]
[{"$nulls":54},"",{"$f":"IF(BF526=0,\"\",4)","v":""},"",{"$f":"報告書!H487","v":0},"",4,{"$error":"#N/A"},""]
[{"$nulls":54},"",{"$f":"IF(BF527=0,\"\",5)","v":""},"",{"$f":"報告書!H488","v":0},"",5,{"$error":"#N/A"},""]
[{"$nulls":54},"",{"$f":"IF(BF528=0,\"\",6)","v":""},"",{"$f":"報告書!H489","v":0},"",6,{"$error":"#N/A"},""]
[{"$nulls":54},"",{"$f":"IF(BF529=0,\"\",7)","v":""},"",{"$f":"報告書!H490","v":0},"",7,{"$error":"#N/A"},""]
[{"$nulls":54},"",{"$f":"IF(BF530=0,\"\",8)","v":""},"",{"$f":"報告書!H491","v":0},"",8,{"$error":"#N/A"},""]
[{"$nulls":54},"",{"$f":"IF(BF531=0,\"\",9)","v":""},"",{"$f":"報告書!H492","v":0},"",9,{"$error":"#N/A"},""]
[{"$nulls":54},"",{"$f":"IF(BF532=0,\"\",10)","v":""},"",{"$f":"報告書!H493","v":0},"",10,{"$error":"#N/A"},""]
[{"$nulls":54},"",{"$f":"IF(BF533=0,\"\",11)","v":""},{"$f":"IF(BF533=0,\"\",\"排煙設備\")","v":""},{"$f":"報告書!H499","v":0},""]
[{"$nulls":54},"",{"$f":"IF(BF534=0,\"\",12)","v":""},{"$f":"IF(BF534=0,\"\",\"排煙設備\")","v":""},{"$f":"報告書!H500","v":0},""]
[{"$nulls":54},"",{"$f":"IF(BF535=0,\"\",13)","v":""},"",{"$f":"報告書!H501","v":0},""]
[{"$nulls":54},"",{"$f":"IF(BF536=0,\"\",14)","v":""},"",{"$f":"報告書!H502","v":0},""]
[{"$nulls":54},"",{"$f":"IF(BF537=0,\"\",15)","v":""},"",{"$f":"報告書!H503","v":0},""]
[{"$nulls":54},"",{"$f":"IF(BF538=0,\"\",16)","v":""},"",{"$f":"報告書!H504","v":0},""]
[{"$nulls":54},"",{"$f":"IF(BF539=0,\"\",17)","v":""},"",{"$f":"報告書!H505","v":0},""]
[{"$nulls":54},"",{"$f":"IF(BF540=0,\"\",18)","v":""},"",{"$f":"報告書!H506","v":0},""]
[{"$nulls":54},"",{"$f":"IF(BF541=0,\"\",19)","v":""},"",{"$f":"報告書!H507","v":0},""]
[{"$nulls":54},"",{"$f":"IF(BF542=0,\"\",20)","v":""},"",{"$f":"報告書!H508","v":0},""]
[{"$nulls":54},"",{"$f":"IF(BF543=0,\"\",21)","v":""},{"$f":"IF(BF543=0,\"\",\"非常用の照明装置\")","v":""},{"$f":"報告書!H514","v":0},""]
[{"$nulls":54},"",{"$f":"IF(BF544=0,\"\",22)","v":""},{"$f":"IF(BF544=0,\"\",\"非常用の照明装置\")","v":""},{"$f":"報告書!H515","v":0},""]
[{"$nulls":54},"",{"$f":"IF(BF545=0,\"\",23)","v":""},"",{"$f":"報告書!H516","v":0},""]
[{"$nulls":54},"",{"$f":"IF(BF546=0,\"\",24)","v":""},"",{"$f":"報告書!H517","v":0},""]
[{"$nulls":54},"",{"$f":"IF(BF547=0,\"\",25)","v":""},"",{"$f":"報告書!H518","v":0},""]
[{"$nulls":54},"",{"$f":"IF(BF548=0,\"\",26)","v":""},"",{"$f":"報告書!H519","v":0},""]
[{"$nulls":54},"",{"$f":"IF(BF549=0,\"\",27)","v":""},"",{"$f":"報告書!H520","v":0},""]
[{"$nulls":54},"",{"$f":"IF(BF550=0,\"\",28)","v":""},"",{"$f":"報告書!H521","v":0},""]
[{"$nulls":54},"",{"$f":"IF(BF551=0,\"\",29)","v":""},"",{"$f":"報告書!H522","v":0},""]
[{"$nulls":54},"",{"$f":"IF(BF552=0,\"\",30)","v":""},"",{"$f":"報告書!H523","v":0},""]
[{"$nulls":54},"",{"$f":"IF(BF553=0,\"\",31)","v":""},{"$f":"IF(BF553=0,\"\",\"給水設備及び排水設備\")","v":""},{"$f":"報告書!H529","v":0},""]
[{"$nulls":54},"",{"$f":"IF(BF554=0,\"\",32)","v":""},{"$f":"IF(BF554=0,\"\",\"給水設備及び排水設備\")","v":""},{"$f":"報告書!H530","v":0},""]
[{"$nulls":54},"",{"$f":"IF(BF555=0,\"\",33)","v":""},"",{"$f":"報告書!H531","v":0},""]
[{"$nulls":54},"",{"$f":"IF(BF556=0,\"\",34)","v":""},"",{"$f":"報告書!H532","v":0},""]
[{"$nulls":54},"",{"$f":"IF(BF557=0,\"\",35)","v":""},"",{"$f":"報告書!H533","v":0},""]
[{"$nulls":54},"",{"$f":"IF(BF558=0,\"\",36)","v":""},"",{"$f":"報告書!H534","v":0},""]
[{"$nulls":54},"",{"$f":"IF(BF559=0,\"\",37)","v":""},"",{"$f":"報告書!H535","v":0},""]
[{"$nulls":54},"",{"$f":"IF(BF560=0,\"\",38)","v":""},"",{"$f":"報告書!H536","v":0},""]
[{"$nulls":54},"",{"$f":"IF(BF561=0,\"\",39)","v":""},"",{"$f":"報告書!H537","v":0},""]
[{"$nulls":54},{"$f":"IF(BD562=\"\",\"\",RANK(BD562,$BD$523:$BD$562,1))","v":""},{"$f":"IF(BF562=0,\"\",40)","v":""},"",{"$f":"報告書!H538","v":0},""]
[{"$nulls":54},{"$f":"SUM(BC523:BC562)","v":0}]

{"sheet":"プルダウンリスト","index":16,"n_rows":507,"n_cols":3,"rows_kept":507,"hidden":true}
["検査結果表プルダウンリスト（各検査結果表の特記事項欄と関係写真のプルダウンにて使用）"]
["罫線で囲っている範囲が定義名の範囲となる。行を追加する場合は、表の間に挿入すれば範囲が自動で更新されるが、"]
["末端に追加した場合は、定義の変更が必要となる。"]
["換気設備"]
[]
[" 1(1)",{"$f":"換気検査結果表!H25","v":"給気機の外気取り入れ口並びに直接外気に開放された給気口及び排気口への雨水等の防止措置の状況"}]
[" 1(2)",{"$f":"換気検査結果表!H26","v":"給気機の外気取り入れ口及び排気機の排気口の取付けの状況"}]
[" 1(3)",{"$f":"換気検査結果表!H27","v":"各居室の給気口及び排気口の設置位置"}]
[" 1(4)",{"$f":"換気検査結果表!H28","v":"各居室の給気口及び排気口の取付けの状況"}]
[" 1(5)",{"$f":"換気検査結果表!H29","v":"風道の取付けの状況"}]
[" 1(6)",{"$f":"換気検査結果表!H30","v":"風道の材質"}]
[" 1(7)",{"$f":"換気検査結果表!H31","v":"給気機又は排気機の設置の状況"}]
[" 1(8)",{"$f":"換気検査結果表!H32","v":"換気扇による換気の状況"}]
[" 1(9)",{"$f":"換気検査結果表!H33","v":"各居室の換気量"}]
["1(10)",{"$f":"換気検査結果表!H34","v":"中央管理室における制御及び作動状態の監視の状況"}]
["1(11)",{"$f":"換気検査結果表!H35","v":"空気調和設備の設置の状況"}]
["1(12)",{"$f":"換気検査結果表!H36","v":"空気調和設備及び配管の劣化及び損傷の状況"}]
["1(13)",{"$f":"換気検査結果表!H37","v":"空気調和設備の運転の状況"}]
["1(14)",{"$f":"換気検査結果表!H38","v":"空気ろ過器の点検口"}]
["1(15)",{"$f":"換気検査結果表!H39","v":"冷却塔と建築物の他の部分との離隔距離"}]
["1(16)",{"$f":"換気検査結果表!H40","v":"各居室の温度"}]
["1(17)",{"$f":"換気検査結果表!H41","v":"各居室の相対湿度"}]
["1(18)",{"$f":"換気検査結果表!H42","v":"各居室の浮遊粉じん量"}]
["1(19)",{"$f":"換気検査結果表!H43","v":"各居室の一酸化炭素含有率"}]
["1(20)",{"$f":"換気検査結果表!H44","v":"各居室の二酸化炭素含有率"}]
["1(21)",{"$f":"換気検査結果表!H45","v":"各居室の気流"}]
[]
[" 2(1)",{"$f":"換気検査結果表!G54","v":"排気筒、排気フード及び煙突の材質"}]
[" 2(2)",{"$f":"換気検査結果表!G55","v":"排気筒、排気フード及び煙突の取付けの状況"}]
[" 2(3)",{"$f":"換気検査結果表!G56","v":"給気口、給気筒、排気口、排気筒、排気フード及び煙突の大きさ"}]
[" 2(4)",{"$f":"換気検査結果表!G57","v":"給気口、排気口及び排気フードの位置"}]
[" 2(5)",{"$f":"換気検査結果表!G58","v":"給気口、給気筒、排気口、排気筒、排気フード及び煙突の設置の状況"}]
[" 2(6)",{"$f":"換気検査結果表!G59","v":"排気筒及び煙突の断熱の状況"}]
[" 2(7)",{"$f":"換気検査結果表!G60","v":"排気筒及び煙突と可燃物、電線等との離隔距離"}]
[" 2(8)",{"$f":"換気検査結果表!G61","v":"煙突等への防火ダンパー、風道等の設置の状況"}]
["2(10)",{"$f":"換気検査結果表!G63","v":"煙突に連結した排気筒及び半密閉式瞬間湯沸器等の設置の状況"}]
["2(11)",{"$f":"換気検査結果表!G64","v":"換気扇による換気の状況"}]
["2(12)",{"$f":"換気検査結果表!G65","v":"給気機又は排気機の設置の状況"}]
["2(13)",{"$f":"換気検査結果表!G66","v":"機械換気設備の換気量"}]
[]
[" 3(1)",{"$f":"換気検査結果表!G72","v":"防火ダンパーの設置の状況"}]
[" 3(2)",{"$f":"換気検査結果表!G73","v":"防火ダンパーの取付けの状況"}]
[" 3(3)",{"$f":"換気検査結果表!G74","v":"防火ダンパーの作動の状況"}]
[" 3(4)",{"$f":"換気検査結果表!G75","v":"防火ダンパーの劣化及び損傷の状況"}]
[" 3(5)",{"$f":"換気検査結果表!G76","v":"防火ダンパーの点検口の有無及び大きさ並びに検査口の有無"}]
[" 3(6)",{"$f":"換気検査結果表!G77","v":"防火ダンパーの温度ヒューズ"}]
[" 3(7)",{"$f":"換気検査結果表!G78","v":"壁及び床の防火区画貫通部の措置の状況"}]
[" 3(8)",{"$f":"換気検査結果表!G79","v":"連動型防火ダンパーの煙感知器、熱煙複合式感知器及び熱感知器の位置"}]
[" 3(9)",{"$f":"換気検査結果表!G80","v":"連動型防火ダンパーの煙感知器、熱煙複合式感知器及び熱感知器との連動の状況"}]
[]
[{"$f":"IF(換気検査結果表!C87=\"\",\"\",\" 4\" & 換気検査結果表!C87)","v":""},{"$f":"IF(換気検査結果表!C87=\"\",\"\", 換気検査結果表!D87)","v":""}]
[{"$f":"IF(換気検査結果表!C88=\"\",\"\",\" 4\" & 換気検査結果表!C88)","v":""},{"$f":"IF(換気検査結果表!C88=\"\",\"\", 換気検査結果表!D88)","v":""}]
[{"$f":"IF(換気検査結果表!C89=\"\",\"\",\" 4\" & 換気検査結果表!C89)","v":""},{"$f":"IF(換気検査結果表!C89=\"\",\"\", 換気検査結果表!D89)","v":""}]
[{"$f":"IF(換気検査結果表!C90=\"\",\"\",\" 4\" & 換気検査結果表!C90)","v":""},{"$f":"IF(換気検査結果表!C90=\"\",\"\", 換気検査結果表!D90)","v":""}]
[{"$f":"IF(換気検査結果表!C91=\"\",\"\",\" 4\" & 換気検査結果表!C91)","v":""},{"$f":"IF(換気検査結果表!C91=\"\",\"\", 換気検査結果表!D91)","v":""}]
[{"$f":"IF(換気検査結果表!C92=\"\",\"\",\" 4\" & 換気検査結果表!C92)","v":""},{"$f":"IF(換気検査結果表!C92=\"\",\"\", 換気検査結果表!D92)","v":""}]
[{"$f":"IF(換気検査結果表!C93=\"\",\"\",\" 4\" & 換気検査結果表!C93)","v":""},{"$f":"IF(換気検査結果表!C93=\"\",\"\", 換気検査結果表!D93)","v":""}]
[{"$f":"IF(換気検査結果表!C94=\"\",\"\",\" 4\" & 換気検査結果表!C94)","v":""},{"$f":"IF(換気検査結果表!C94=\"\",\"\", 換気検査結果表!D94)","v":""}]
[{"$f":"IF(換気検査結果表!C95=\"\",\"\",\" 4\" & 換気検査結果表!C95)","v":""},{"$f":"IF(換気検査結果表!C95=\"\",\"\", 換気検査結果表!D95)","v":""}]
[{"$f":"IF(換気検査結果表!C96=\"\",\"\",\"4\" & 換気検査結果表!C96)","v":""},{"$f":"IF(換気検査結果表!C96=\"\",\"\", 換気検査結果表!D96)","v":""}]
[]
["排煙設備"]
[]
[" 1(1)",{"$f":"排煙検査結果表!H25","v":"排煙機の設置の状況"}]
[" 1(2)",{"$f":"排煙検査結果表!H26","v":"排煙風道との接続の状況"}]
[" 1(3)",{"$f":"排煙検査結果表!H27","v":"煙排出口の設置の状況"}]
[" 1(4)",{"$f":"排煙検査結果表!H28","v":"煙排出口の周囲の状況"}]
[" 1(5)",{"$f":"排煙検査結果表!H29","v":"屋外に設置された煙排出口への雨水等の防止措置の状況"}]
[" 1(6)",{"$f":"排煙検査結果表!H30","v":"排煙口の開放と連動起動の状況"}]
[" 1(7)",{"$f":"排煙検査結果表!H31","v":"作動の状況"}]
[" 1(8)",{"$f":"排煙検査結果表!H32","v":"電源を必要とする排煙機の予備電源による作動の状況"}]
[" 1(9)",{"$f":"排煙検査結果表!H33","v":"排煙機の排煙風量"}]
["1(10)",{"$f":"排煙検査結果表!H34","v":"中央管理室における制御及び作動状態の監視の状況"}]
["1(11)",{"$f":"排煙検査結果表!H35","v":"排煙口の位置"}]
["1(12)",{"$f":"排煙検査結果表!H36","v":"排煙口の周囲の状況"}]
["1(13)",{"$f":"排煙検査結果表!H37","v":"排煙口の取付けの状況"}]
["1(14)",{"$f":"排煙検査結果表!H38","v":"手動開放装置の周囲の状況"}]
["1(15)",{"$f":"排煙検査結果表!H39","v":"手動開放装置の操作方法の表示の状況"}]
["1(16)",{"$f":"排煙検査結果表!H40","v":"手動開放装置による開放の状況"}]
["1(17)",{"$f":"排煙検査結果表!H41","v":"排煙口の開放の状況"}]
["1(18)",{"$f":"排煙検査結果表!H42","v":"排煙口の排煙風量"}]
["1(19)",{"$f":"排煙検査結果表!H43","v":"中央管理室における制御及び作動状態の監視の状況"}]
["1(20)",{"$f":"排煙検査結果表!H44","v":"煙感知器による作動の状況"}]
["1(21)",{"$f":"排煙検査結果表!H45","v":"排煙風道の劣化及び損傷の状況"}]
["1(22)",{"$f":"排煙検査結果表!H46","v":"排煙風道の取付けの状況"}]
["1(23)",{"$f":"排煙検査結果表!H47","v":"排煙風道の材質"}]
["1(24)",{"$f":"排煙検査結果表!H48","v":"防煙壁の貫通措置の状況"}]
["1(25)",{"$f":"排煙検査結果表!H49","v":"排煙風道と可燃物、電線等との離隔距離及び断熱の状況"}]
["1(26)",{"$f":"排煙検査結果表!H50","v":"防火ダンパーの取付けの状況"}]
["1(27)",{"$f":"排煙検査結果表!H51","v":"防火ダンパーの作動の状況"}]
["1(28)",{"$f":"排煙検査結果表!H52","v":"防火ダンパーの劣化及び損傷の状況"}]
["1(29)",{"$f":"排煙検査結果表!H53","v":"防火ダンパーの点検口の有無及び大きさ並びに検査口の有無"}]
["1(30)",{"$f":"排煙検査結果表!H54","v":"防火ダンパーの温度ヒューズ"}]
["1(31)",{"$f":"排煙検査結果表!H55","v":"壁及び床の防火区画貫通部の措置の状況"}]
["1(32)",{"$f":"排煙検査結果表!H56","v":"排煙口及び給気口の大きさ及び位置"}]
["1(33)",{"$f":"排煙検査結果表!H57","v":"排煙口及び給気口の周囲の状況"}]
["1(34)",{"$f":"排煙検査結果表!H58","v":"排煙口及び給気口の取付けの状況"}]
["1(35)",{"$f":"排煙検査結果表!H59","v":"手動開放装置の周囲の状況"}]
["1(36)",{"$f":"排煙検査結果表!H60","v":"手動開放装置の操作方法の表示の状況"}]
["1(37)",{"$f":"排煙検査結果表!H61","v":"排煙口の排煙風量"}]
["1(38)",{"$f":"排煙検査結果表!H62","v":"中央管理室における制御及び作動状態の監視の状況"}]
["1(39)",{"$f":"排煙検査結果表!H63","v":"煙感知器による作動の状況"}]
["1(40)",{"$f":"排煙検査結果表!H64","v":"給気風道の劣化及び損傷の状況"}]
["1(41)",{"$f":"排煙検査結果表!H65","v":"給気風道の材質"}]
["1(42)",{"$f":"排煙検査結果表!H66","v":"給気風道の取付けの状況"}]
["1(43)",{"$f":"排煙検査結果表!H67","v":"防煙壁の貫通措置の状況"}]
["1(44)",{"$f":"排煙検査結果表!H68","v":"給気送風機の設置の状況"}]
["1(45)",{"$f":"排煙検査結果表!H69","v":"給気風道との接続の状況"}]
["1(46)",{"$f":"排煙検査結果表!H70","v":"排煙口の開放と連動起動の状況"}]
["1(47)",{"$f":"排煙検査結果表!H71","v":"作動の状況"}]
["1(48)",{"$f":"排煙検査結果表!H72","v":"電源を必要とする給気送風機の予備電源による作動の状況"}]
["1(49)",{"$f":"排煙検査結果表!H73","v":"給気送風機の給気風量"}]
["1(50)",{"$f":"排煙検査結果表!H74","v":"中央管理室における制御及び作動状態の監視の状況"}]
["1(51)",{"$f":"排煙検査結果表!H75","v":"吸込口の設置位置"}]
["1(52)",{"$f":"排煙検査結果表!H76","v":"吸込口の周囲の状況"}]
["1(53)",{"$f":"排煙検査結果表!H77","v":"屋外に設置された吸込口への雨水等の防止措置の状況"}]
[]
[" 2(1)",{"$f":"排煙検査結果表!H86","v":"排煙機、排煙口及び給気口の作動の状況"}]
[" 2(2)",{"$f":"排煙検査結果表!H87","v":"給気口の周囲の状況"}]
[" 2(3)",{"$f":"排煙検査結果表!H88","v":"排煙風道の劣化及び損傷の状況"}]
[" 2(4)",{"$f":"排煙検査結果表!H89","v":"排煙風道の取付けの状況"}]
[" 2(5)",{"$f":"排煙検査結果表!H90","v":"排煙風道の材質"}]
[" 2(6)",{"$f":"排煙検査結果表!H91","v":"給気口の周囲の状況"}]
[" 2(7)",{"$f":"排煙検査結果表!H92","v":"給気口の取付けの状況"}]
[" 2(8)",{"$f":"排煙検査結果表!H93","v":"給気口の手動開放装置の周囲の状況"}]
[" 2(9)",{"$f":"排煙検査結果表!H94","v":"給気口の手動開放装置の操作方法の表示の状況"}]
["2(10)",{"$f":"排煙検査結果表!H95","v":"給気口の手動開放装置による開放の状況"}]
["2(11)",{"$f":"排煙検査結果表!H96","v":"給気口の開放の状況"}]
["2(12)",{"$f":"排煙検査結果表!H97","v":"給気風道の劣化及び損傷の状況"}]
["2(13)",{"$f":"排煙検査結果表!H98","v":"給気風道の取付けの状況"}]
["2(14)",{"$f":"排煙検査結果表!H99","v":"給気風道の材質"}]
["2(15)",{"$f":"排煙検査結果表!H100","v":"給気送風機の設置の状況"}]
["2(16)",{"$f":"排煙検査結果表!H101","v":"給気風道との接続の状況"}]
["2(17)",{"$f":"排煙検査結果表!H102","v":"給気口の開放と連動起動の状況"}]
["2(18)",{"$f":"排煙検査結果表!H103","v":"給気送風機の作動の状況"}]
["2(19)",{"$f":"排煙検査結果表!H104","v":"電源を必要とする給気送風機の予備電源による作動の状況"}]
["2(20)",{"$f":"排煙検査結果表!H105","v":"中央管理室における制御及び作動状態の監視の状況"}]
["2(21)",{"$f":"排煙検査結果表!H106","v":"吸込口の設置位置"}]
["2(22)",{"$f":"排煙検査結果表!H107","v":"吸込口の周囲の状況"}]
["2(23)",{"$f":"排煙検査結果表!H108","v":"屋外に設置された吸込口への雨水等の防止措置の状況"}]
["2(24)",{"$f":"排煙検査結果表!H109","v":"遮煙開口部の排出風速"}]
["2(25)",{"$f":"排煙検査結果表!H110","v":"空気逃し口の大きさ及び位置"}]
["2(26)",{"$f":"排煙検査結果表!H111","v":"空気逃し口の周囲の状況"}]
["2(27)",{"$f":"排煙検査結果表!H112","v":"空気逃し口の取付けの状況"}]
["2(28)",{"$f":"排煙検査結果表!H113","v":"空気逃し口の作動の状況"}]
["2(29)",{"$f":"排煙検査結果表!H114","v":"圧力調整装置の大きさ及び位置"}]
["2(30)",{"$f":"排煙検査結果表!H115","v":"圧力調整装置の周囲の状況"}]
["2(31)",{"$f":"排煙検査結果表!H116","v":"圧力調整装置の取付けの状況"}]
["2(32)",{"$f":"排煙検査結果表!H117","v":"圧力調整装置の作動の状況"}]
[]
[" 3(1)",{"$f":"排煙検査結果表!H127","v":"手動降下装置の作動の状況"}]
[" 3(2)",{"$f":"排煙検査結果表!H128","v":"手動降下装置による連動の状況"}]
[" 3(3)",{"$f":"排煙検査結果表!H129","v":"煙感知器による連動の状況"}]
[" 3(4)",{"$f":"排煙検査結果表!H130","v":"可動防煙壁の材質"}]
[" 3(5)",{"$f":"排煙検査結果表!H131","v":"可動防煙壁の防煙区画"}]
[" 3(6)",{"$f":"排煙検査結果表!H132","v":"中央管理室における制御及び作動状態の監視の状況"}]
[]
[" 4(1)",{"$f":"排煙検査結果表!H139","v":"自家用発電機室の防火区画等の貫通措置の状況"}]
[" 4(2)",{"$f":"排煙検査結果表!H140","v":"発電機の発電容量"}]
[" 4(3)",{"$f":"排煙検査結果表!H141","v":"発電機及び原動機の状況"}]
[" 4(4)",{"$f":"排煙検査結果表!H142","v":"燃料油、潤滑油及び冷却水の状況"}]
[" 4(5)",{"$f":"排煙検査結果表!H143","v":"始動用の空気槽の圧力"}]
[" 4(6)",{"$f":"排煙検査結果表!H144","v":"セル始動用蓄電池及び電気ケーブルの接続の状況"}]
[" 4(7)",{"$f":"排煙検査結果表!H145","v":"燃料及び冷却水の漏洩の状況"}]
[" 4(8)",{"$f":"排煙検査結果表!H146","v":"計器類及びランプ類の指示及び点灯の状況"}]
[" 4(9)",{"$f":"排煙検査結果表!H147","v":"自家用発電装置の取付けの状況"}]
["4(10)",{"$f":"排煙検査結果表!H148","v":"自家用発電機室の給排気の状況（屋内に設置されている場合に限る。）"}]
["4(11)",{"$f":"排煙検査結果表!H149","v":"接地線の接続の状況"}]
["4(12)",{"$f":"排煙検査結果表!H150","v":"絶縁抵抗"}]
["4(13)",{"$f":"排煙検査結果表!H151","v":"電源の切替えの状況"}]
["4(14)",{"$f":"排煙検査結果表!H152","v":"始動の状況"}]
["4(15)",{"$f":"排煙検査結果表!H153","v":"運転の状況"}]
["4(16)",{"$f":"排煙検査結果表!H154","v":"排気の状況"}]
["4(17)",{"$f":"排煙検査結果表!H155","v":"コンプレッサー、燃料ポンプ、冷却水ポンプ等の補機類の作動の状況"}]
["4(18)",{"$f":"排煙検査結果表!H156","v":"直結エンジンの設置の状況"}]
["4(19)",{"$f":"排煙検査結果表!H157","v":"燃料油、潤滑油及び冷却水の状況"}]
["4(20)",{"$f":"排煙検査結果表!H158","v":"セル始動用蓄電池及び電気ケーブルの接続の状況"}]
["4(21)",{"$f":"排煙検査結果表!H159","v":"計器類及びランプ類の指示及び点灯の状況"}]
["4(22)",{"$f":"排煙検査結果表!H160","v":"給気部及び排気管の取付けの状況"}]
["4(23)",{"$f":"排煙検査結果表!H161","v":"Ｖベルト"}]
["4(24)",{"$f":"排煙検査結果表!H162","v":"接地線の接続の状況"}]
["4(25)",{"$f":"排煙検査結果表!H163","v":"絶縁抵抗"}]
["4(26)",{"$f":"排煙検査結果表!H164","v":"始動及び停止並びに運転の状況"}]
[]
[{"$f":"IF(排煙検査結果表!C172=\"\",\"\",\" 5\" & 排煙検査結果表!C172)","v":""},{"$f":"IF(排煙検査結果表!C172=\"\",\"\",排煙検査結果表!D172)","v":""}]
[{"$f":"IF(排煙検査結果表!C173=\"\",\"\",\" 5\" & 排煙検査結果表!C173)","v":""},{"$f":"IF(排煙検査結果表!C173=\"\",\"\",排煙検査結果表!D173)","v":""}]
[{"$f":"IF(排煙検査結果表!C174=\"\",\"\",\" 5\" & 排煙検査結果表!C174)","v":""},{"$f":"IF(排煙検査結果表!C174=\"\",\"\",排煙検査結果表!D174)","v":""}]
[{"$f":"IF(排煙検査結果表!C175=\"\",\"\",\" 5\" & 排煙検査結果表!C175)","v":""},{"$f":"IF(排煙検査結果表!C175=\"\",\"\",排煙検査結果表!D175)","v":""}]
[{"$f":"IF(排煙検査結果表!C176=\"\",\"\",\" 5\" & 排煙検査結果表!C176)","v":""},{"$f":"IF(排煙検査結果表!C176=\"\",\"\",排煙検査結果表!D176)","v":""}]
[{"$f":"IF(排煙検査結果表!C177=\"\",\"\",\" 5\" & 排煙検査結果表!C177)","v":""},{"$f":"IF(排煙検査結果表!C177=\"\",\"\",排煙検査結果表!D177)","v":""}]
[{"$f":"IF(排煙検査結果表!C178=\"\",\"\",\" 5\" & 排煙検査結果表!C178)","v":""},{"$f":"IF(排煙検査結果表!C178=\"\",\"\",排煙検査結果表!D178)","v":""}]
[{"$f":"IF(排煙検査結果表!C179=\"\",\"\",\" 5\" & 排煙検査結果表!C179)","v":""},{"$f":"IF(排煙検査結果表!C179=\"\",\"\",排煙検査結果表!D179)","v":""}]
[{"$f":"IF(排煙検査結果表!C180=\"\",\"\",\" 5\" & 排煙検査結果表!C180)","v":""},{"$f":"IF(排煙検査結果表!C180=\"\",\"\",排煙検査結果表!D180)","v":""}]
[{"$f":"IF(排煙検査結果表!C181=\"\",\"\",\"5\" & 排煙検査結果表!C181)","v":""},{"$f":"IF(排煙検査結果表!C181=\"\",\"\",排煙検査結果表!D181)","v":""}]
[]
["非常用照明装置"]
[]
[" 1(1)",{"$f":"非照検査結果表!G25","v":"使用電球、ランプ等 "}]
[" 1(2)",{"$f":"非照検査結果表!G26","v":"照明器具の取付けの状況"}]
[]
[" 2(1)",{"$f":"非照検査結果表!G32","v":"予備電源への切替え及び器具の点灯の状況並びに予備電源の性能"}]
[" 2(2)",{"$f":"非照検査結果表!G33","v":"照度の状況"}]
[" 2(3)",{"$f":"非照検査結果表!G34","v":"非常用電源分岐回路の表示の状況"}]
[" 2(4)",{"$f":"非照検査結果表!G35","v":"配電管等の防火区画の貫通措置の状況（隠蔽部分及び埋設部分を除く。）"}]
[]
[" 3(1)",{"$f":"非照検査結果表!G43","v":"照明器具の取付けの状況及び配線の接続の状況（隠蔽部分及び埋設部分を除く。）"}]
[" 3(2)",{"$f":"非照検査結果表!G44","v":"電気回路の接続の状況"}]
[" 3(3)",{"$f":"非照検査結果表!G45","v":"接続部（幹線分岐及びボックス内に限る。）の耐熱処理の状況"}]
[" 3(4)",{"$f":"非照検査結果表!G46","v":"予備電源から非常用の照明器具間の配線の耐熱処理の状況（隠蔽部分及び埋設部分を除く。）"}]
[" 3(5)",{"$f":"非照検査結果表!G47","v":"常用の電源から蓄電池設備への切替えの状況"}]
[" 3(6)",{"$f":"非照検査結果表!G48","v":"蓄電池設備と自家用発電装置併用の場合の切替えの状況"}]
[]
[" 4(1)",{"$f":"非照検査結果表!G55","v":"充電ランプの点灯の状況"}]
[" 4(2)",{"$f":"非照検査結果表!G56","v":"誘導灯及び非常用照明兼用器具の専用回路の確保の状況"}]
[]
[" 5(1)",{"$f":"非照検査結果表!H63","v":"蓄電池室の防火区画等の貫通措置の状況"}]
[" 5(2)",{"$f":"非照検査結果表!H64","v":"蓄電池室の換気の状況"}]
[" 5(3)",{"$f":"非照検査結果表!H65","v":"蓄電池の設置の状況"}]
[" 5(4)",{"$f":"非照検査結果表!H66","v":"電圧 "}]
[" 5(5)",{"$f":"非照検査結果表!H67","v":"電解液比重 "}]
[" 5(6)",{"$f":"非照検査結果表!H68","v":"電解液の温度"}]
[" 5(7)",{"$f":"非照検査結果表!H69","v":"充電器室の防火区画等の貫通措置の状況"}]
[" 5(8)",{"$f":"非照検査結果表!H70","v":"キュービクルの取付けの状況"}]
[]
[" 6(1)",{"$f":"非照検査結果表!H77","v":"自家用発電機室の防火区画等の貫通措置の状況"}]
[" 6(2)",{"$f":"非照検査結果表!H78","v":"発電機の発電容量"}]
[" 6(3)",{"$f":"非照検査結果表!H79","v":"発電機及び原動機の状況"}]
[" 6(4)",{"$f":"非照検査結果表!H80","v":"燃料油、潤滑油及び冷却水の状況"}]
[" 6(5)",{"$f":"非照検査結果表!H81","v":"始動用の空気槽の圧力"}]
[" 6(6)",{"$f":"非照検査結果表!H82","v":"セル始動用蓄電池及び電気ケーブルの接続の状況"}]
[" 6(7)",{"$f":"非照検査結果表!H83","v":"燃料及び冷却水の漏洩の状況"}]
[" 6(8)",{"$f":"非照検査結果表!H84","v":"計器類及びランプ類の指示及び点灯の状況"}]
[" 6(9)",{"$f":"非照検査結果表!H85","v":"自家用発電装置の取付けの状況"}]
["6(10)",{"$f":"非照検査結果表!H86","v":"自家用発電機室の給排気の状況（屋内に設置されている場合に限る。）"}]
["6(11)",{"$f":"非照検査結果表!H87","v":"接地線の接続の状況"}]
["6(12)",{"$f":"非照検査結果表!H88","v":"絶縁抵抗"}]
["6(13)",{"$f":"非照検査結果表!H89","v":"電源の切替えの状況"}]
["6(14)",{"$f":"非照検査結果表!H90","v":"始動の状況"}]
["6(15)",{"$f":"非照検査結果表!H91","v":"運転の状況"}]
["6(16)",{"$f":"非照検査結果表!H92","v":"排気の状況"}]
["6(17)",{"$f":"非照検査結果表!H93","v":"コンプレッサー、燃料ポンプ、冷却水ポンプ等の補機類の作動の状況"}]
[]
[{"$f":"IF(非照検査結果表!C100=\"\",\"\",\" 7\" & 非照検査結果表!C100)","v":""},{"$f":"IF(非照検査結果表!C100=\"\",\"\", 非照検査結果表!D100)","v":""}]
[{"$f":"IF(非照検査結果表!C101=\"\",\"\",\" 7\" & 非照検査結果表!C101)","v":""},{"$f":"IF(非照検査結果表!C101=\"\",\"\", 非照検査結果表!D101)","v":""}]
[{"$f":"IF(非照検査結果表!C102=\"\",\"\",\" 7\" & 非照検査結果表!C102)","v":""},{"$f":"IF(非照検査結果表!C102=\"\",\"\", 非照検査結果表!D102)","v":""}]
[{"$f":"IF(非照検査結果表!C103=\"\",\"\",\" 7\" & 非照検査結果表!C103)","v":""},{"$f":"IF(非照検査結果表!C103=\"\",\"\", 非照検査結果表!D103)","v":""}]
[{"$f":"IF(非照検査結果表!C104=\"\",\"\",\" 7\" & 非照検査結果表!C104)","v":""},{"$f":"IF(非照検査結果表!C104=\"\",\"\", 非照検査結果表!D104)","v":""}]
[{"$f":"IF(非照検査結果表!C105=\"\",\"\",\" 7\" & 非照検査結果表!C105)","v":""},{"$f":"IF(非照検査結果表!C105=\"\",\"\", 非照検査結果表!D105)","v":""}]
[{"$f":"IF(非照検査結果表!C106=\"\",\"\",\" 7\" & 非照検査結果表!C106)","v":""},{"$f":"IF(非照検査結果表!C106=\"\",\"\", 非照検査結果表!D106)","v":""}]
[{"$f":"IF(非照検査結果表!C107=\"\",\"\",\" 7\" & 非照検査結果表!C107)","v":""},{"$f":"IF(非照検査結果表!C107=\"\",\"\", 非照検査結果表!D107)","v":""}]
[{"$f":"IF(非照検査結果表!C108=\"\",\"\",\" 7\" & 非照検査結果表!C108)","v":""},{"$f":"IF(非照検査結果表!C108=\"\",\"\", 非照検査結果表!D108)","v":""}]
[{"$f":"IF(非照検査結果表!C109=\"\",\"\",\"7\" & 非照検査結果表!C109)","v":""},{"$f":"IF(非照検査結果表!C109=\"\",\"\", 非照検査結果表!D109)","v":""}]
[]
["給排水設備"]
[]
[" 1(1)",{"$f":"水検査結果表!H25","v":"配管の取付けの状況"}]
[" 1(2)",{"$f":"水検査結果表!H26","v":"配管の腐食及び漏水の状況"}]
[" 1(3)",{"$f":"水検査結果表!H27","v":"配管が貫通する箇所の損傷防止措置の状況"}]
[" 1(4)",{"$f":"水検査結果表!H28","v":"継手類の取付けの状況"}]
[" 1(5)",{"$f":"水検査結果表!H29","v":"保温措置の状況"}]
[" 1(6)",{"$f":"水検査結果表!H30","v":"防火区画等の貫通措置の状況"}]
[" 1(7)",{"$f":"水検査結果表!H31","v":"配管の支持金物"}]
[" 1(8)",{"$f":"水検査結果表!H32","v":"飲料水系統配管の汚染防止措置の状況"}]
[" 1(9)",{"$f":"水検査結果表!H33","v":"止水弁の設置の状況"}]
["1(10)",{"$f":"水検査結果表!H34","v":"ウォーターハンマーの防止措置の状況"}]
["1(11)",{"$f":"水検査結果表!H35","v":"給湯管及び膨張管の設置の状況"}]
[]
[" 2(1)",{"$f":"水検査結果表!H42","v":"給水タンク等の設置の状況"}]
[" 2(2)",{"$f":"水検査結果表!H43","v":"給水タンク等の通気管、水抜き管、オーバーフロー管等の設置の状況"}]
[" 2(3)",{"$f":"水検査結果表!H44","v":"給水タンク等の腐食及び漏水の状況"}]
[" 2(4)",{"$f":"水検査結果表!H45","v":"給水用圧力タンクの安全装置の状況"}]
[" 2(5)",{"$f":"水検査結果表!H46","v":"給水ポンプの運転の状況"}]
[" 2(6)",{"$f":"水検査結果表!H47","v":"給水タンク及びポンプ等の取付けの状況"}]
[" 2(7)",{"$f":"水検査結果表!H48","v":"給水タンク等の内部の状況"}]
[" 2(8)",{"$f":"水検査結果表!H49","v":"給湯設備（ガス湯沸器を除く。）の取付けの状況"}]
[" 2(9)",{"$f":"水検査結果表!H50","v":"ガス湯沸器の取付けの状況"}]
["2(10)",{"$f":"水検査結果表!H51","v":"給湯設備の腐食及び漏水の状況"}]
[]
[" 3(1)",{"$f":"水検査結果表!H58","v":"排水槽のマンホールの大きさ"}]
[" 3(2)",{"$f":"水検査結果表!H59","v":"排水槽の通気の状況"}]
[" 3(3)",{"$f":"水検査結果表!H60","v":"排水漏れの状況"}]
[" 3(4)",{"$f":"水検査結果表!H61","v":"排水ポンプの設置の状況"}]
[" 3(5)",{"$f":"水検査結果表!H62","v":"排水ポンプの運転の状況"}]
[" 3(6)",{"$f":"水検査結果表!H63","v":"地下街の非常用の排水設備の処理能力及び予備電源の状況"}]
[" 3(7)",{"$f":"水検査結果表!H64","v":"雑用水の用途"}]
[" 3(8)",{"$f":"水検査結果表!H65","v":"雑用水給水栓の表示の状況"}]
[" 3(9)",{"$f":"水検査結果表!H66","v":"配管の標識等"}]
["3(10)",{"$f":"水検査結果表!H67","v":"雑用水タンク、ポンプ等の設置の状況"}]
["3(11)",{"$f":"水検査結果表!H68","v":"消毒装置"}]
["3(12)",{"$f":"水検査結果表!H69","v":"衛生器具の取付けの状況"}]
["3(13)",{"$f":"水検査結果表!H70","v":"排水トラップの取付けの状況"}]
["3(14)",{"$f":"水検査結果表!H71","v":"阻集器の構造、機能及び設置の状況"}]
["3(15)",{"$f":"水検査結果表!H72","v":"公共下水道等への接続の状況"}]
["3(16)",{"$f":"水検査結果表!H73","v":"雨水排水立て管の接続の状況"}]
["3(17)",{"$f":"水検査結果表!H74","v":"排水の状況"}]
["3(18)",{"$f":"水検査結果表!H75","v":"掃除口の取付けの状況"}]
["3(19)",{"$f":"水検査結果表!H76","v":"雨水系統との接続の状況"}]
["3(20)",{"$f":"水検査結果表!H77","v":"間接排水の状況"}]
["3(21)",{"$f":"水検査結果表!H78","v":"通気開口部の状況"}]
["3(22)",{"$f":"水検査結果表!H79","v":"通気管の状況"}]
[]
[{"$f":"IF(水検査結果表!C84=\"\",\"\",\" 4\" & 水検査結果表!C84)","v":""},{"$f":"IF(水検査結果表!C84=\"\",\"\", 水検査結果表!D84)","v":""}]
[{"$f":"IF(水検査結果表!C85=\"\",\"\",\" 4\" & 水検査結果表!C85)","v":""},{"$f":"IF(水検査結果表!C85=\"\",\"\", 水検査結果表!D85)","v":""}]
[{"$f":"IF(水検査結果表!C86=\"\",\"\",\" 4\" & 水検査結果表!C86)","v":""},{"$f":"IF(水検査結果表!C86=\"\",\"\", 水検査結果表!D86)","v":""}]
[{"$f":"IF(水検査結果表!C87=\"\",\"\",\" 4\" & 水検査結果表!C87)","v":""},{"$f":"IF(水検査結果表!C87=\"\",\"\", 水検査結果表!D87)","v":""}]
[{"$f":"IF(水検査結果表!C88=\"\",\"\",\" 4\" & 水検査結果表!C88)","v":""},{"$f":"IF(水検査結果表!C88=\"\",\"\", 水検査結果表!D88)","v":""}]
[{"$f":"IF(水検査結果表!C89=\"\",\"\",\" 4\" & 水検査結果表!C89)","v":""},{"$f":"IF(水検査結果表!C89=\"\",\"\", 水検査結果表!D89)","v":""}]
[{"$f":"IF(水検査結果表!C90=\"\",\"\",\" 4\" & 水検査結果表!C90)","v":""},{"$f":"IF(水検査結果表!C90=\"\",\"\", 水検査結果表!D90)","v":""}]
[{"$f":"IF(水検査結果表!C91=\"\",\"\",\" 4\" & 水検査結果表!C91)","v":""},{"$f":"IF(水検査結果表!C91=\"\",\"\", 水検査結果表!D91)","v":""}]
[{"$f":"IF(水検査結果表!C92=\"\",\"\",\" 4\" & 水検査結果表!C92)","v":""},{"$f":"IF(水検査結果表!C92=\"\",\"\", 水検査結果表!D92)","v":""}]
[{"$f":"IF(水検査結果表!C93=\"\",\"\",\"4\" & 水検査結果表!C93)","v":""},{"$f":"IF(水検査結果表!C93=\"\",\"\", 水検査結果表!D93)","v":""}]
[]
["報告書－第三面－不具合把握年月（現在の月～10年前＋不明）"]
[]
[0,{"$f":"IF(OR(YEAR(EDATE(NOW(),$A315))>2019,AND(YEAR(EDATE(NOW(),$A315))=2019,MONTH(EDATE(NOW(),$A315))>4)),\"令和\" & YEAR(EDATE(NOW(),$A315))-2018 & \"年\" & MONTH(EDATE(NOW(),$A315)) & \"月\",\"平成\" & YEAR(EDATE(NOW(),$A315))-1988 & \"年\" & MONTH(EDATE(NOW(),$A315)) & \"月\")","v":"令和3年4月"}]
[-1,{"$f":"IF(OR(YEAR(EDATE(NOW(),$A316))>2019,AND(YEAR(EDATE(NOW(),$A316))=2019,MONTH(EDATE(NOW(),$A316))>4)),\"令和\" & YEAR(EDATE(NOW(),$A316))-2018 & \"年\" & MONTH(EDATE(NOW(),$A316)) & \"月\",\"平成\" & YEAR(EDATE(NOW(),$A316))-1988 & \"年\" & MONTH(EDATE(NOW(),$A316)) & \"月\")","v":"令和3年3月"}]
[-2,"令和3年2月"]
[-3,"令和3年1月"]
[-4,"令和2年12月"]
[-5,"令和2年11月"]
[-6,"令和2年10月"]
[-7,"令和2年9月"]
[-8,"令和2年8月"]
[-9,"令和2年7月"]
[-10,"令和2年6月"]
[-11,"令和2年5月"]
[-12,"令和2年4月"]
[-13,"令和2年3月"]
[-14,"令和2年2月"]
[-15,"令和2年1月"]
[-16,"令和1年12月"]
[-17,"令和1年11月"]
[-18,"令和1年10月"]
[-19,"令和1年9月"]
[-20,"令和1年8月"]
[-21,"令和1年7月"]
[-22,"令和1年6月"]
[-23,"令和1年5月"]
[-24,"平成31年4月"]
[-25,"平成31年3月"]
[-26,"平成31年2月"]
[-27,"平成31年1月"]
[-28,"平成30年12月"]
[-29,"平成30年11月"]
[-30,"平成30年10月"]
[-31,"平成30年9月"]
[-32,"平成30年8月"]
[-33,"平成30年7月"]
[-34,"平成30年6月"]
[-35,"平成30年5月"]
[-36,"平成30年4月"]
[-37,"平成30年3月"]
[-38,"平成30年2月"]
[-39,"平成30年1月"]
[-40,"平成29年12月"]
[-41,"平成29年11月"]
[-42,"平成29年10月"]
[-43,"平成29年9月"]
[-44,"平成29年8月"]
[-45,"平成29年7月"]
[-46,"平成29年6月"]
[-47,"平成29年5月"]
[-48,"平成29年4月"]
[-49,"平成29年3月"]
[-50,"平成29年2月"]
[-51,"平成29年1月"]
[-52,"平成28年12月"]
[-53,"平成28年11月"]
[-54,"平成28年10月"]
[-55,"平成28年9月"]
[-56,"平成28年8月"]
[-57,"平成28年7月"]
[-58,"平成28年6月"]
[-59,"平成28年5月"]
[-60,"平成28年4月"]
[-61,"平成28年3月"]
[-62,"平成28年2月"]
[-63,"平成28年1月"]
[-64,"平成27年12月"]
[-65,{"$f":"IF(OR(YEAR(EDATE(NOW(),$A380))>2019,AND(YEAR(EDATE(NOW(),$A380))=2019,MONTH(EDATE(NOW(),$A380))>4)),\"令和\" & YEAR(EDATE(NOW(),$A380))-2018 & \"年\" & MONTH(EDATE(NOW(),$A380)) & \"月\",\"平成\" & YEAR(EDATE(NOW(),$A380))-1988 & \"年\" & MONTH(EDATE(NOW(),$A380)) & \"月\")","v":"平成27年11月"}]
[-66,"平成27年10月"]
[-67,"平成27年9月"]
[-68,"平成27年8月"]
[-69,"平成27年7月"]
[-70,"平成27年6月"]
[-71,"平成27年5月"]
[-72,"平成27年4月"]
[-73,"平成27年3月"]
[-74,"平成27年2月"]
[-75,"平成27年1月"]
[-76,"平成26年12月"]
[-77,"平成26年11月"]
[-78,"平成26年10月"]
[-79,"平成26年9月"]
[-80,"平成26年8月"]
[-81,"平成26年7月"]
[-82,"平成26年6月"]
[-83,"平成26年5月"]
[-84,"平成26年4月"]
[-85,"平成26年3月"]
[-86,"平成26年2月"]
[-87,"平成26年1月"]
[-88,"平成25年12月"]
[-89,"平成25年11月"]
[-90,"平成25年10月"]
[-91,"平成25年9月"]
[-92,"平成25年8月"]
[-93,"平成25年7月"]
[-94,"平成25年6月"]
[-95,"平成25年5月"]
[-96,"平成25年4月"]
[-97,"平成25年3月"]
[-98,"平成25年2月"]
[-99,"平成25年1月"]
[-100,"平成24年12月"]
[-101,"平成24年11月"]
[-102,"平成24年10月"]
[-103,"平成24年9月"]
[-104,"平成24年8月"]
[-105,"平成24年7月"]
[-106,"平成24年6月"]
[-107,"平成24年5月"]
[-108,"平成24年4月"]
[-109,"平成24年3月"]
[-110,"平成24年2月"]
[-111,"平成24年1月"]
[-112,"平成23年12月"]
[-113,"平成23年11月"]
[-114,"平成23年10月"]
[-115,"平成23年9月"]
[-116,"平成23年8月"]
[-117,"平成23年7月"]
[-118,"平成23年6月"]
[-119,"平成23年5月"]
[-120,"平成23年4月"]
[null,"不明"]
[]
[]
[]
[]
[]
["改善予定年月（-3年(現在未使用)、+5年をシステム日付から取得。）",null,"報告書第三面用"]
[]
[0,null,"－"]
[0,"予定なし","未定"]
[0,"未定","改善済"]
[0,{"$f":"IF(OR(YEAR(EDATE(NOW(),$A447))>2019,AND(YEAR(EDATE(NOW(),$A447))=2019,MONTH(EDATE(NOW(),$A447))>4)),\"(\" & YEAR(EDATE(NOW(),$A447))-2018 & \"年\" & MONTH(EDATE(NOW(),$A447)) & \"月)\",\"(\" & YEAR(EDATE(NOW(),$A447))-1988 & \"年\" & MONTH(EDATE(NOW(),$A447)) & \"月)\")","v":"(3年4月)"},{"$f":"IF(OR(YEAR(EDATE(NOW(),$A447))>2019,AND(YEAR(EDATE(NOW(),$A447))=2019,MONTH(EDATE(NOW(),$A447))>4)),\"令和\" & YEAR(EDATE(NOW(),$A447))-2018 & \"年\" & MONTH(EDATE(NOW(),$A447)) & \"月\",\"平成\" & YEAR(EDATE(NOW(),$A447))-1988 & \"年\" & MONTH(EDATE(NOW(),$A447)) & \"月\")","v":"令和3年4月"}]
[1,{"$f":"IF(OR(YEAR(EDATE(NOW(),$A448))>2019,AND(YEAR(EDATE(NOW(),$A448))=2019,MONTH(EDATE(NOW(),$A448))>4)),\"(\" & YEAR(EDATE(NOW(),$A448))-2018 & \"年\" & MONTH(EDATE(NOW(),$A448)) & \"月)\",\"(\" & YEAR(EDATE(NOW(),$A448))-1988 & \"年\" & MONTH(EDATE(NOW(),$A448)) & \"月)\")","v":"(3年5月)"},{"$f":"IF(OR(YEAR(EDATE(NOW(),$A448))>2019,AND(YEAR(EDATE(NOW(),$A448))=2019,MONTH(EDATE(NOW(),$A448))>4)),\"令和\" & YEAR(EDATE(NOW(),$A448))-2018 & \"年\" & MONTH(EDATE(NOW(),$A448)) & \"月\",\"平成\" & YEAR(EDATE(NOW(),$A448))-1988 & \"年\" & MONTH(EDATE(NOW(),$A448)) & \"月\")","v":"令和3年5月"}]
[2,"(3年6月)",{"$f":"IF(OR(YEAR(EDATE(NOW(),$A449))>2019,AND(YEAR(EDATE(NOW(),$A449))=2019,MONTH(EDATE(NOW(),$A449))>4)),\"令和\" & YEAR(EDATE(NOW(),$A449))-2018 & \"年\" & MONTH(EDATE(NOW(),$A449)) & \"月\",\"平成\" & YEAR(EDATE(NOW(),$A449))-1988 & \"年\" & MONTH(EDATE(NOW(),$A449)) & \"月\")","v":"令和3年6月"}]
[3,"(3年7月)","令和3年7月"]
[4,"(3年8月)","令和3年8月"]
[5,"(3年9月)","令和3年9月"]
[6,"(3年10月)","令和3年10月"]
[7,"(3年11月)","令和3年11月"]
[8,"(3年12月)","令和3年12月"]
[9,"(4年1月)","令和4年1月"]
[10,"(4年2月)","令和4年2月"]
[11,"(4年3月)","令和4年3月"]
[12,"(4年4月)","令和4年4月"]
[13,"(4年5月)","令和4年5月"]
[14,"(4年6月)","令和4年6月"]
[15,"(4年7月)","令和4年7月"]
[16,"(4年8月)","令和4年8月"]
[17,"(4年9月)","令和4年9月"]
[18,"(4年10月)","令和4年10月"]
[19,"(4年11月)","令和4年11月"]
[20,"(4年12月)","令和4年12月"]
[21,"(5年1月)","令和5年1月"]
[22,"(5年2月)","令和5年2月"]
[23,"(5年3月)","令和5年3月"]
[24,"(5年4月)","令和5年4月"]
[25,"(5年5月)","令和5年5月"]
[26,"(5年6月)","令和5年6月"]
[27,"(5年7月)","令和5年7月"]
[28,"(5年8月)","令和5年8月"]
[29,"(5年9月)","令和5年9月"]
[30,"(5年10月)","令和5年10月"]
[31,"(5年11月)","令和5年11月"]
[32,"(5年12月)","令和5年12月"]
[33,"(6年1月)","令和6年1月"]
[34,"(6年2月)","令和6年2月"]
[35,"(6年3月)","令和6年3月"]
[36,"(6年4月)","令和6年4月"]
[37,"(6年5月)","令和6年5月"]
[38,"(6年6月)","令和6年6月"]
[39,"(6年7月)","令和6年7月"]
[40,"(6年8月)","令和6年8月"]
[41,"(6年9月)","令和6年9月"]
[42,"(6年10月)","令和6年10月"]
[43,"(6年11月)","令和6年11月"]
[44,"(6年12月)","令和6年12月"]
[45,"(7年1月)","令和7年1月"]
[46,"(7年2月)","令和7年2月"]
[47,"(7年3月)","令和7年3月"]
[48,"(7年4月)","令和7年4月"]
[49,"(7年5月)","令和7年5月"]
[50,"(7年6月)","令和7年6月"]
[51,"(7年7月)","令和7年7月"]
[52,"(7年8月)","令和7年8月"]
[53,"(7年9月)","令和7年9月"]
[54,"(7年10月)","令和7年10月"]
[55,"(7年11月)","令和7年11月"]
[56,"(7年12月)","令和7年12月"]
[57,"(8年1月)","令和8年1月"]
[58,"(8年2月)","令和8年2月"]
[59,"(8年3月)","令和8年3月"]
[60,"(8年4月)","令和8年4月"]

{"sheet":"移行ツール設定v13","index":17,"n_rows":492,"n_cols":7,"rows_kept":492,"hidden":true}
["移行ツール設定 V13"]
["対象バージョンに該当するセル位置を記載する。基本は上から順番になっているが、フリガナを含む項目はフリガナ項目より先に行っている。"]
[]
["№","現ワークシート名","旧ワークシート名","フィールド名（自身の識別用）","現セル位置","旧セル位置","特殊条件"]
[1,"報告書","報告書","建築物基本番号_都区市コード","AD1","AD1"]
[2,"報告書","報告書","建築物基本番号_地区コード1","AF1","AF1"]
[3,"報告書","報告書","建築物基本番号_地区コード2","AG1","AG1"]
[4,"報告書","報告書","建築物基本番号_町名コード1","AI1","AI1"]
[5,"報告書","報告書","建築物基本番号_町名コード2","AJ1","AJ1"]
[6,"報告書","報告書","建築物基本番号_丁目コード1","AL1","AL1"]
[7,"報告書","報告書","建築物基本番号_丁目コード2","AM1","AM1"]
[8,"報告書","報告書","建築物基本番号_建築物固有番号1","AO1","AO1"]
[9,"報告書","報告書","建築物基本番号_建築物固有番号2","AP1","AP1"]
[10,"報告書","報告書","建築物基本番号_建築物固有番号3","AQ1","AQ1"]
[11,"報告書","報告書","建築物基本番号_建築物固有番号4","AR1","AR1"]
[12,"報告書","報告書","建築物基本番号_予備","AT1","AT1"]
[13,"報告書","報告書","センター受付番号","AL2","AL2"]
[14,"報告書","報告書","特定行政庁名","C14","C14"]
[15,"報告書","報告書","報告者氏名1","AE18","AE18"]
[16,"報告書","報告書","報告者氏名2","AE19","AE19"]
[17,"報告書","報告書","検査者氏名","AE22","AE22"]
[18,"報告書","報告書","所有者名","N32","N32","カナ含む"]
[19,"報告書","報告書","所有者フリガナ","N31","N31","式"]
[20,"報告書","報告書","所有者郵便番号","N33","N33"]
[21,"報告書","報告書","所有者住所","N34","N34"]
[22,"報告書","報告書","所有者電話番号","N35","N35"]
[23,"報告書","報告書","管理者名","N43","N43","カナ含む"]
[24,"報告書","報告書","管理者フリガナ","N42","N42","式"]
[25,"報告書","報告書","管理者郵便番号","N44","N44"]
[26,"報告書","報告書","管理者住所","N45","N45"]
[27,"報告書","報告書","管理者電話番号","N46","N46"]
[28,"報告書","報告書","建物所在地","N53","N53"]
[29,"報告書","報告書","建物名称","N55","N55","カナ含む"]
[30,"報告書","報告書","建物フリガナ","N54","N54","式"]
[31,"報告書","報告書","建物用途","N56","N56"]
[32,"報告書","報告書","全体要是正あり","N63","N63"]
[33,"報告書","報告書","全体既存不適格","X63","X63"]
[34,"報告書","報告書","全体指摘なし","AG63","AG63"]
[35,"報告書","報告書","指摘の概要1","N64","N64"]
[36,"報告書","報告書","指摘の概要2","N65","N65"]
[37,"報告書","報告書","指摘の概要3","N66","N66"]
[38,"報告書","報告書","指摘の概要4","N67","N67"]
[39,"報告書","報告書","指摘の概要5","N68","N68"]
[40,"報告書","報告書","改善予定あり","N69","N69"]
[41,"報告書","報告書","改善予定元号","R69",null,"右詰文字"]
[42,"報告書","報告書","改善予定年","S69","S69"]
[43,"報告書","報告書","改善予定月","V69","V69"]
[44,"報告書","報告書","改善予定なし","AG69","AG69"]
[45,"報告書","報告書","その他特記事項1","N70","N70"]
[46,"報告書","報告書","その他特記事項2","N71","N71"]
[47,"報告書","報告書","その他特記事項3","N72","N72"]
[48,"報告書","報告書","その他特記事項4","N73","N73"]
[49,"報告書","報告書","その他特記事項5","N74","N74"]
[50,"報告書","報告書","副本返送先名称","C91","C91"]
[51,"報告書","報告書","副本返送先郵便番号","C92","C92"]
[52,"報告書","報告書","副本返送先住所","C93","C93"]
[53,"報告書","報告書","副本返送先電話番号","C94","C94"]
[54,"報告書","報告書","連絡先名称","Z91","Z91"]
[55,"報告書","報告書","連絡先郵便番号","Z92","Z92"]
[56,"報告書","報告書","連絡先住所","Z93","Z93"]
[57,"報告書","報告書","連絡先電話番号","Z94","Z94"]
[58,"報告書","報告書","第一面備考","C95","C95"]
[59,"報告書","報告書","地上階数","P101","P101"]
[60,"報告書","報告書","地下階数","X101","X101"]
[61,"報告書","報告書","建築面積","M102","M102"]
[62,"報告書","報告書","延べ面積","M103","M103"]
[63,"報告書","報告書","報告対象床面積","X103","X103"]
[64,"報告書","報告書","検査対象換気","O104","O104"]
[65,"報告書","報告書","検査対象排煙","V104","V104"]
[66,"報告書","報告書","検査対象非常用照明装置","AC104","AC104"]
[67,"報告書","報告書","検査対象給排水","O105","O105"]
[68,"報告書","報告書","確認済証交付元号","T112","T112"]
[69,"報告書","報告書","確認済証交付年","V112","V112"]
[70,"報告書","報告書","確認済証交付月","Y112","Y112"]
[71,"報告書","報告書","確認済証交付日","AB112","AB112"]
[72,"報告書","報告書","確認済証番号","AG112","AG112"]
[73,"報告書","報告書","確認済証交付者建築主事","Q113","Q113"]
[74,"報告書","報告書","確認済証交付者指定確認検査機関","W113","W113"]
[75,"報告書","報告書","確認済証交付者指定確認検査機関名","AG113","AG113"]
[76,"報告書","報告書","検査済証交付元号","T114","T114"]
[77,"報告書","報告書","検査済証交付年","V114","V114"]
[78,"報告書","報告書","検査済証交付月","Y114","Y114"]
[79,"報告書","報告書","検査済証交付日","AB114","AB114"]
[80,"報告書","報告書","検査済証番号","AG114","AG114"]
[81,"報告書","報告書","検査済証交付者建築主事","Q115","Q115"]
[82,"報告書","報告書","検査済証交付者指定確認検査機関","W115","W115"]
[83,"報告書","報告書","検査済証交付者指定確認検査機関名","AG115","AG115"]
[84,"報告書","報告書","今回検査日元号","Q122",null,"右詰文字"]
[85,"報告書","報告書","今回検査日年","R122","R122"]
[86,"報告書","報告書","今回検査日月","U122","U122"]
[87,"報告書","報告書","今回検査日日","X122","X122"]
[88,"報告書","報告書","前回検査実施","L123","L123"]
[89,"報告書","報告書","前回検査日元号","Q123",null,"右詰文字"]
[90,"報告書","報告書","前回検査日年","R123","R123"]
[91,"報告書","報告書","前回検査日月","U123","U123"]
[92,"報告書","報告書","前回検査日日","X123","X123"]
[93,"報告書","報告書","前回検査未実施","AE123","AE123"]
[94,"報告書","報告書","前回検査書類の写し有","U124","U124"]
[95,"報告書","報告書","前回検査書類の写し無","X124","X124"]
[96,"報告書","報告書","換気代表検査者資格建築士","K132","K132"]
[97,"報告書","報告書","換気代表検査者資格建築士登録","X132","X132"]
[98,"報告書","報告書","換気代表検査者資格建築士番号","AH132","AH132"]
[99,"報告書","報告書","換気代表検査者資格建築設備検査員番号","AH133","AH133"]
[100,"報告書","報告書","換気代表検査者氏名","N136","N136","カナ含む"]
[101,"報告書","報告書","換気代表検査者フリガナ","N135","N135","式"]
[102,"報告書","報告書","換気代表検査者勤務先","N137","N137"]
[103,"報告書","報告書","換気代表検査者勤務先資格","K138","K138"]
[104,"報告書","報告書","換気代表検査者勤務先資格登録","X138","X138"]
[105,"報告書","報告書","換気代表検査者勤務先資格番号","AH138","AH138"]
[106,"報告書","報告書","換気代表検査者郵便番号","N139","N139"]
[107,"報告書","報告書","換気代表検査者所在地","N140","N140"]
[108,"報告書","報告書","換気代表検査者電話番号","N141","N141"]
[109,"報告書","報告書","換気他1検査者資格建築士","K143","K143"]
[110,"報告書","報告書","換気他1検査者資格建築士登録","X143","X143"]
[111,"報告書","報告書","換気他1検査者資格建築士番号","AH143","AH143"]
[112,"報告書","報告書","換気他1検査者資格建築設備検査員番号","AH144","AH144"]
[113,"報告書","報告書","換気他1検査者氏名","N147","N147","カナ含む"]
[114,"報告書","報告書","換気他1検査者フリガナ","N146","N146","式"]
[115,"報告書","報告書","換気他1検査者勤務先","N148","N148"]
[116,"報告書","報告書","換気他1検査者勤務先資格","K149","K149"]
[117,"報告書","報告書","換気他1検査者勤務先資格登録","X149","X149"]
[118,"報告書","報告書","換気他1検査者勤務先資格番号","AH149","AH149"]
[119,"報告書","報告書","換気他1検査者郵便番号","N150","N150"]
[120,"報告書","報告書","換気他1検査者所在地","N151","N151"]
[121,"報告書","報告書","換気他1検査者電話番号","N152","N152"]
[122,"報告書","報告書","換気他2検査者資格建築士","K154","K154"]
[123,"報告書","報告書","換気他2検査者資格建築士登録","X154","X154"]
[124,"報告書","報告書","換気他2検査者資格建築士番号","AH154","AH154"]
[125,"報告書","報告書","換気他2検査者資格建築設備検査員番号","AH155","AH155"]
[126,"報告書","報告書","換気他2検査者氏名","N158","N158","カナ含む"]
[127,"報告書","報告書","換気他2検査者フリガナ","N157","N157","式"]
[128,"報告書","報告書","換気他2検査者勤務先","N159","N159"]
[129,"報告書","報告書","換気他2検査者勤務先資格","K160","K160"]
[130,"報告書","報告書","換気他2検査者勤務先資格登録","X160","X160"]
[131,"報告書","報告書","換気他2検査者勤務先資格番号","AH160","AH160"]
[132,"報告書","報告書","換気他2検査者郵便番号","N161","N161"]
[133,"報告書","報告書","換気他2検査者所在地","N162","N162"]
[134,"報告書","報告書","換気他2検査者電話番号","N163","N163"]
[135,"報告書","報告書","換気無窓居室自然換気","L170","L170"]
[136,"報告書","報告書","換気無窓居室機械換気","AC170","AC170"]
[137,"報告書","報告書","換気無窓居室機械換気系統","AK170","AK170"]
[138,"報告書","報告書","換気無窓居室機械換気室","AO170","AO170"]
[139,"報告書","報告書","換気無窓居室中央管理","L171","L171"]
[140,"報告書","報告書","換気無窓居室中央管理系統","AA171","AA171"]
[141,"報告書","報告書","換気無窓居室中央管理室","AE171","AE171"]
[142,"報告書","報告書","換気無窓居室その他","L172","L172"]
[143,"報告書","報告書","換気無窓居室その他系統","Q172","Q172"]
[144,"報告書","報告書","換気無窓居室その他室","U172","U172"]
[145,"報告書","報告書","換気無窓居室無","AC172","AC172"]
[146,"報告書","報告書","換気火気使用室自然換気","L173","L173"]
[147,"報告書","報告書","換気火気使用室機械換気","AC173","AC173"]
[148,"報告書","報告書","換気火気使用室機械換気系統","AK173","AK173"]
[149,"報告書","報告書","換気火気使用室機械換気室","AO173","AO173"]
[150,"報告書","報告書","換気火気使用室その他","L174","L174"]
[151,"報告書","報告書","換気火気使用室その他系統","Q174","Q174"]
[152,"報告書","報告書","換気火気使用室その他室","U174","U174"]
[153,"報告書","報告書","換気火気使用室無","AC174","AC174"]
[154,"報告書","報告書","換気居室等自然換気","L175","L175"]
[155,"報告書","報告書","換気居室等機械換気","AC175","AC175"]
[156,"報告書","報告書","換気居室等機械換気系統","AK175","AK175"]
[157,"報告書","報告書","換気居室等機械換気室","AO175","AO175"]
[158,"報告書","報告書","換気居室等中央管理室","L176","L176"]
[159,"報告書","報告書","換気居室等中央管理室系統","AA176","AA176"]
[160,"報告書","報告書","換気居室等中央管理室室","AE176","AE176"]
[161,"報告書","報告書","換気居室等その他","L177","L177"]
[162,"報告書","報告書","換気居室等その他系統","Q177","Q177"]
[163,"報告書","報告書","換気居室等その他室","U177","U177"]
[164,"報告書","報告書","換気居室等無","AC177","AC177"]
[165,"報告書","報告書","換気防火ダンパー有","S180","S180"]
[166,"報告書","報告書","換気防火ダンパー無","V180","V180"]
[167,"報告書","報告書","換気要是正あり","N186","N186"]
[168,"報告書","報告書","換気既存不適格","X186","X186"]
[169,"報告書","報告書","換気指摘なし","AG186","AG186"]
[170,"報告書","報告書","換気指摘の概要1","N187","N187"]
[171,"報告書","報告書","換気指摘の概要2","N188","N188"]
[172,"報告書","報告書","換気指摘の概要3","N189","N189"]
[173,"報告書","報告書","換気指摘の概要4","N190","N190"]
[174,"報告書","報告書","換気指摘の概要5","N191","N191"]
[175,"報告書","報告書","換気改善予定あり","N192","N192"]
[176,"報告書","報告書","換気改善予定元号","R192",null,"右詰文字"]
[177,"報告書","報告書","換気改善予定年","S192","S192"]
[178,"報告書","報告書","換気改善予定月","V192","V192"]
[179,"報告書","報告書","換気改善予定なし","AG192","AG192"]
[180,"報告書","報告書","換気不具合あり","L199","L199"]
[181,"報告書","報告書","換気不具合なし","O199","O199"]
[182,"報告書","報告書","換気不具合記録あり","L200","L200"]
[183,"報告書","報告書","換気不具合記録なし","O200","O200"]
[184,"報告書","報告書","換気不具合改善実施済","L201","L201"]
[185,"報告書","報告書","換気不具合改善予定あり","Q201","Q201"]
[186,"報告書","報告書","換気不具合改善予定元号","X201",null,"右詰文字"]
[187,"報告書","報告書","換気不具合改善予定年","Y201","Y201"]
[188,"報告書","報告書","換気不具合改善予定月","AB201","AB201"]
[189,"報告書","報告書","換気不具合改善予定なし","AL201","AL201"]
[190,"報告書","報告書","排煙代表検査者資格建築士","K214","K214"]
[191,"報告書","報告書","排煙代表検査者資格建築士登録","X214","X214"]
[192,"報告書","報告書","排煙代表検査者資格建築士番号","AH214","AH214"]
[193,"報告書","報告書","排煙代表検査者資格建築設備検査員番号","AH215","AH215"]
[194,"報告書","報告書","排煙代表検査者氏名","N218","N218","カナ含む"]
[195,"報告書","報告書","排煙代表検査者フリガナ","N217","N217","式"]
[196,"報告書","報告書","排煙代表検査者勤務先","N219","N219"]
[197,"報告書","報告書","排煙代表検査者勤務先資格","K220","K220"]
[198,"報告書","報告書","排煙代表検査者勤務先資格登録","X220","X220"]
[199,"報告書","報告書","排煙代表検査者勤務先資格番号","AH220","AH220"]
[200,"報告書","報告書","排煙代表検査者郵便番号","N221","N221"]
[201,"報告書","報告書","排煙代表検査者所在地","N222","N222"]
[202,"報告書","報告書","排煙代表検査者電話番号","N223","N223"]
[203,"報告書","報告書","排煙他1検査者資格建築士","K225","K225"]
[204,"報告書","報告書","排煙他1検査者資格建築士登録","X225","X225"]
[205,"報告書","報告書","排煙他1検査者資格建築士番号","AH225","AH225"]
[206,"報告書","報告書","排煙他1検査者資格建築設備検査員番号","AH226","AH226"]
[207,"報告書","報告書","排煙他1検査者氏名","N229","N229","カナ含む"]
[208,"報告書","報告書","排煙他1検査者フリガナ","N228","N228","式"]
[209,"報告書","報告書","排煙他1検査者勤務先","N230","N230"]
[210,"報告書","報告書","排煙他1検査者勤務先資格","K231","K231"]
[211,"報告書","報告書","排煙他1検査者勤務先資格登録","X231","X231"]
[212,"報告書","報告書","排煙他1検査者勤務先資格番号","AH231","AH231"]
[213,"報告書","報告書","排煙他1検査者郵便番号","N232","N232"]
[214,"報告書","報告書","排煙他1検査者所在地","N233","N233"]
[215,"報告書","報告書","排煙他1検査者電話番号","N234","N234"]
[216,"報告書","報告書","排煙他2検査者資格建築士","K236","K236"]
[217,"報告書","報告書","排煙他2検査者資格建築士登録","X236","X236"]
[218,"報告書","報告書","排煙他2検査者資格建築士番号","AH236","AH236"]
[219,"報告書","報告書","排煙他2検査者資格建築設備検査員番号","AH237","AH237"]
[220,"報告書","報告書","排煙他2検査者氏名","N240","N240","カナ含む"]
[221,"報告書","報告書","排煙他2検査者フリガナ","N239","N239","式"]
[222,"報告書","報告書","排煙他2検査者勤務先","N241","N241"]
[223,"報告書","報告書","排煙他2検査者勤務先資格","K242","K242"]
[224,"報告書","報告書","排煙他2検査者勤務先資格登録","X242","X242"]
[225,"報告書","報告書","排煙他2検査者勤務先資格番号","AH242","AH242"]
[226,"報告書","報告書","排煙他2検査者郵便番号","N243","N243"]
[227,"報告書","報告書","排煙他2検査者所在地","N244","N244"]
[228,"報告書","報告書","排煙他2検査者電話番号","N245","N245"]
[229,"報告書","報告書","排煙避難安全区画避難安全検証法","R250","R250"]
[230,"報告書","報告書","排煙避難安全区画避難安全検証法階","AC250","AC250"]
[231,"報告書","報告書","排煙避難安全階避難安全検証法","AG250","AG250"]
[232,"報告書","報告書","排煙避難安全階避難安全検証法階","AQ250","AQ250"]
[233,"報告書","報告書","排煙避難安全全館避難安全検証法","K251","K251"]
[234,"報告書","報告書","排煙避難安全その他","V251","V251"]
[235,"報告書","報告書","排煙避難安全その他内容","AA251","AA251"]
[236,"報告書","報告書","排煙特避階段吸引式","K253","K253"]
[237,"報告書","報告書","排煙特避階段吸引式区画","P253","P253"]
[238,"報告書","報告書","排煙特避階段給気式","V253","V253"]
[239,"報告書","報告書","排煙特避階段給気式区画","AA253","AA253"]
[240,"報告書","報告書","排煙特避階段加圧式","AG253","AG253"]
[241,"報告書","報告書","排煙特避階段加圧式区画","AL253","AL253"]
[242,"報告書","報告書","排煙特避階段無","AR253","AR253"]
[243,"報告書","報告書","排煙非常エレ吸引式","K255","K255"]
[244,"報告書","報告書","排煙非常エレ吸引式区画","P255","P255"]
[245,"報告書","報告書","排煙非常エレ給気式","V255","V255"]
[246,"報告書","報告書","排煙非常エレ給気式区画","AA255","AA255"]
[247,"報告書","報告書","排煙非常エレ加圧式","AG255","AG255"]
[248,"報告書","報告書","排煙非常エレ加圧式区画","AL255","AL255"]
[249,"報告書","報告書","排煙非常エレ無","AR255","AR255"]
[250,"報告書","報告書","排煙エレ付室吸引式","K257","K257"]
[251,"報告書","報告書","排煙エレ付室吸引式区画","P257","P257"]
[252,"報告書","報告書","排煙エレ付室給気式","V257","V257"]
[253,"報告書","報告書","排煙エレ付室給気式区画","AA257","AA257"]
[254,"報告書","報告書","排煙エレ付室加圧式","AG257","AG257"]
[255,"報告書","報告書","排煙エレ付室加圧式区画","AL257","AL257"]
[256,"報告書","報告書","排煙エレ付室無","AR257","AR257"]
[257,"報告書","報告書","排煙居室等吸引式","K258","K258"]
[258,"報告書","報告書","排煙居室等吸引式区画","P258","P258"]
[259,"報告書","報告書","排煙居室等給気式","V258","V258"]
[260,"報告書","報告書","排煙居室等給気式区画","AA258","AA258"]
[261,"報告書","報告書","排煙居室等無","AR258","AR258"]
[262,"報告書","報告書","排煙予備電源蓄電池","K259","K259"]
[263,"報告書","報告書","排煙予備電源自家用発電","P259","P259"]
[264,"報告書","報告書","排煙予備電源直結エンジン","Y259","Y259"]
[265,"報告書","報告書","排煙予備電源その他","AG259","AG259"]
[266,"報告書","報告書","排煙予備電源その他内容","AL259","AL259"]
[267,"報告書","報告書","排煙要是正あり","N263","N263"]
[268,"報告書","報告書","排煙既存不適格","X263","X263"]
[269,"報告書","報告書","排煙指摘なし","AG263","AG263"]
[270,"報告書","報告書","排煙指摘の概要1","N264","N264"]
[271,"報告書","報告書","排煙指摘の概要2","N265","N265"]
[272,"報告書","報告書","排煙指摘の概要3","N266","N266"]
[273,"報告書","報告書","排煙指摘の概要4","N267","N267"]
[274,"報告書","報告書","排煙指摘の概要5","N268","N268"]
[275,"報告書","報告書","排煙改善予定あり","N269","N269"]
[276,"報告書","報告書","排煙改善予定元号","R269",null,"右詰文字"]
[277,"報告書","報告書","排煙改善予定年","S269","S269"]
[278,"報告書","報告書","排煙改善予定月","V269","V269"]
[279,"報告書","報告書","排煙改善予定なし","AG269","AG269"]
[280,"報告書","報告書","排煙不具合あり","L276","L276"]
[281,"報告書","報告書","排煙不具合なし","O276","O276"]
[282,"報告書","報告書","排煙不具合記録あり","L277","L277"]
[283,"報告書","報告書","排煙不具合記録なし","O277","O277"]
[284,"報告書","報告書","排煙不具合改善実施済","L278","L278"]
[285,"報告書","報告書","排煙不具合改善予定あり","Q278","Q278"]
[286,"報告書","報告書","排煙不具合改善予定元号","X278",null,"右詰文字"]
[287,"報告書","報告書","排煙不具合改善予定年","Y278","Y278"]
[288,"報告書","報告書","排煙不具合改善予定月","AB278","AB278"]
[289,"報告書","報告書","排煙不具合改善予定なし","AL278","AL278"]
[290,"報告書","報告書","非照代表検査者資格建築士","K291","K291"]
[291,"報告書","報告書","非照代表検査者資格建築士登録","X291","X291"]
[292,"報告書","報告書","非照代表検査者資格建築士番号","AH291","AH291"]
[293,"報告書","報告書","非照代表検査者資格建築設備検査員番号","AH292","AH292"]
[294,"報告書","報告書","非照代表検査者氏名","N295","N295","カナ含む"]
[295,"報告書","報告書","非照代表検査者フリガナ","N294","N294","式"]
[296,"報告書","報告書","非照代表検査者勤務先","N296","N296"]
[297,"報告書","報告書","非照代表検査者勤務先資格","K297","K297"]
[298,"報告書","報告書","非照代表検査者勤務先資格登録","X297","X297"]
[299,"報告書","報告書","非照代表検査者勤務先資格番号","AH297","AH297"]
[300,"報告書","報告書","非照代表検査者郵便番号","N298","N298"]
[301,"報告書","報告書","非照代表検査者所在地","N299","N299"]
[302,"報告書","報告書","非照代表検査者電話番号","N300","N300"]
[303,"報告書","報告書","非照他1検査者資格建築士","K302","K302"]
[304,"報告書","報告書","非照他1検査者資格建築士登録","X302","X302"]
[305,"報告書","報告書","非照他1検査者資格建築士番号","AH302","AH302"]
[306,"報告書","報告書","非照他1検査者資格建築設備検査員番号","AH303","AH303"]
[307,"報告書","報告書","非照他1検査者氏名","N306","N306","カナ含む"]
[308,"報告書","報告書","非照他1検査者フリガナ","N305","N305","式"]
[309,"報告書","報告書","非照他1検査者勤務先","N307","N307"]
[310,"報告書","報告書","非照他1検査者勤務先資格","K308","K308"]
[311,"報告書","報告書","非照他1検査者勤務先資格登録","X308","X308"]
[312,"報告書","報告書","非照他1検査者勤務先資格番号","AH308","AH308"]
[313,"報告書","報告書","非照他1検査者郵便番号","N309","N309"]
[314,"報告書","報告書","非照他1検査者所在地","N310","N310"]
[315,"報告書","報告書","非照他1検査者電話番号","N311","N311"]
[316,"報告書","報告書","非照他2検査者資格建築士","K313","K313"]
[317,"報告書","報告書","非照他2検査者資格建築士登録","X313","X313"]
[318,"報告書","報告書","非照他2検査者資格建築士番号","AH313","AH313"]
[319,"報告書","報告書","非照他2検査者資格建築設備検査員番号","AH314","AH314"]
[320,"報告書","報告書","非照他2検査者氏名","N317","N317","カナ含む"]
[321,"報告書","報告書","非照他2検査者フリガナ","N316","N316","式"]
[322,"報告書","報告書","非照他2検査者勤務先","N318","N318"]
[323,"報告書","報告書","非照他2検査者勤務先資格","K319","K319"]
[324,"報告書","報告書","非照他2検査者勤務先資格登録","X319","X319"]
[325,"報告書","報告書","非照他2検査者勤務先資格番号","AH319","AH319"]
[326,"報告書","報告書","非照他2検査者郵便番号","N320","N320"]
[327,"報告書","報告書","非照他2検査者所在地","N321","N321"]
[328,"報告書","報告書","非照他2検査者電話番号","N322","N322"]
[329,"報告書","報告書","非照照明器具白熱灯","K329","K329"]
[330,"報告書","報告書","非照照明器具白熱灯灯数","P329","P329"]
[331,"報告書","報告書","非照照明器具蛍光灯","U329","U329"]
[332,"報告書","報告書","非照照明器具蛍光灯灯数","Z329","Z329"]
[333,"報告書","報告書","非照照明器具LEDランプ","AE329","AE329"]
[334,"報告書","報告書","非照照明器具LEDランプ灯数","AL329","AL329"]
[335,"報告書","報告書","非照照明器具その他","K330","K330"]
[336,"報告書","報告書","非照照明器具その他灯数","P330","P330"]
[337,"報告書","報告書","非照予備電源蓄電池内蔵","K333","K333"]
[338,"報告書","報告書","非照予備電源蓄電池内蔵居室灯数","W333","W333"]
[339,"報告書","報告書","非照予備電源蓄電池内蔵廊下灯数","AC333","AC333"]
[340,"報告書","報告書","非照予備電源蓄電池内蔵階段灯数","AI333","AI333"]
[341,"報告書","報告書","非照予備電源蓄電池別置","K334","K334"]
[342,"報告書","報告書","非照予備電源蓄電池別置居室灯数","W334","W334"]
[343,"報告書","報告書","非照予備電源蓄電池別置廊下灯数","AC334","AC334"]
[344,"報告書","報告書","非照予備電源蓄電池別置階段灯数","AI334","AI334"]
[345,"報告書","報告書","非照予備電源蓄電池自家用発電","K335","K335"]
[346,"報告書","報告書","非照予備電源蓄電池自家用発電居室灯数","W335","W335"]
[347,"報告書","報告書","非照予備電源蓄電池自家用発電廊下灯数","AC335","AC335"]
[348,"報告書","報告書","非照予備電源蓄電池自家用発電階段灯数","AI335","AI335"]
[349,"報告書","報告書","非照予備電源蓄電池併用","K336","K336"]
[350,"報告書","報告書","非照予備電源蓄電池併用居室灯数","AF336","AF336"]
[351,"報告書","報告書","非照予備電源蓄電池併用廊下灯数","AL336","AL336"]
[352,"報告書","報告書","非照予備電源蓄電池併用階段灯数","AR336","AR336"]
[353,"報告書","報告書","非照予備電源蓄電池その他","K337","K337"]
[354,"報告書","報告書","非照予備電源蓄電池その他内容","P337","P337"]
[355,"報告書","報告書","非照要是正あり","N344","N344"]
[356,"報告書","報告書","非照既存不適格","X344","X344"]
[357,"報告書","報告書","非照指摘なし","AG344","AG344"]
[358,"報告書","報告書","非照指摘の概要1","N345","N345"]
[359,"報告書","報告書","非照指摘の概要2","N346","N346"]
[360,"報告書","報告書","非照指摘の概要3","N347","N347"]
[361,"報告書","報告書","非照指摘の概要4","N348","N348"]
[362,"報告書","報告書","非照指摘の概要5","N349","N349"]
[363,"報告書","報告書","非照改善予定あり","N350","N350"]
[364,"報告書","報告書","非照改善予定元号","R350",null,"右詰文字"]
[365,"報告書","報告書","非照改善予定年","S350","S350"]
[366,"報告書","報告書","非照改善予定月","V350","V350"]
[367,"報告書","報告書","非照改善予定なし","AG350","AG350"]
[368,"報告書","報告書","非照不具合あり","L357","L357"]
[369,"報告書","報告書","非照不具合なし","O357","O357"]
[370,"報告書","報告書","非照不具合記録あり","L358","L358"]
[371,"報告書","報告書","非照不具合記録なし","O358","O358"]
[372,"報告書","報告書","非照不具合改善実施済","L359","L359"]
[373,"報告書","報告書","非照不具合改善予定あり","Q359","Q359"]
[374,"報告書","報告書","非照不具合改善予定元号","X359",null,"右詰文字"]
[375,"報告書","報告書","非照不具合改善予定年","Y359","Y359"]
[376,"報告書","報告書","非照不具合改善予定月","AB359","AB359"]
[377,"報告書","報告書","非照不具合改善予定なし","AL359","AL359"]
[378,"報告書","報告書","水代表検査者資格建築士","K372","K372"]
[379,"報告書","報告書","水代表検査者資格建築士登録","X372","X372"]
[380,"報告書","報告書","水代表検査者資格建築士番号","AH372","AH372"]
[381,"報告書","報告書","水代表検査者資格建築設備検査員番号","AH373","AH373"]
[382,"報告書","報告書","水代表検査者氏名","N376","N376","カナ含む"]
[383,"報告書","報告書","水代表検査者フリガナ","N375","N375","式"]
[384,"報告書","報告書","水代表検査者勤務先","N377","N377"]
[385,"報告書","報告書","水代表検査者勤務先資格","K378","K378"]
[386,"報告書","報告書","水代表検査者勤務先資格登録","X378","X378"]
[387,"報告書","報告書","水代表検査者勤務先資格番号","AH378","AH378"]
[388,"報告書","報告書","水代表検査者郵便番号","N379","N379"]
[389,"報告書","報告書","水代表検査者所在地","N380","N380"]
[390,"報告書","報告書","水代表検査者電話番号","N381","N381"]
[391,"報告書","報告書","水他1検査者資格建築士","K383","K383"]
[392,"報告書","報告書","水他1検査者資格建築士登録","X383","X383"]
[393,"報告書","報告書","水他1検査者資格建築士番号","AH383","AH383"]
[394,"報告書","報告書","水他1検査者資格建築設備検査員番号","AH384","AH384"]
[395,"報告書","報告書","水他1検査者氏名","N387","N387","カナ含む"]
[396,"報告書","報告書","水他1検査者フリガナ","N386","N386","式"]
[397,"報告書","報告書","水他1検査者勤務先","N388","N388"]
[398,"報告書","報告書","水他1検査者勤務先資格","K389","K389"]
[399,"報告書","報告書","水他1検査者勤務先資格登録","X389","X389"]
[400,"報告書","報告書","水他1検査者勤務先資格番号","AH389","AH389"]
[401,"報告書","報告書","水他1検査者郵便番号","N390","N390"]
[402,"報告書","報告書","水他1検査者所在地","N391","N391"]
[403,"報告書","報告書","水他1検査者電話番号","N392","N392"]
[404,"報告書","報告書","水他2検査者資格建築士","K394","K394"]
[405,"報告書","報告書","水他2検査者資格建築士登録","X394","X394"]
[406,"報告書","報告書","水他2検査者資格建築士番号","AH394","AH394"]
[407,"報告書","報告書","水他2検査者資格建築設備検査員番号","AH395","AH395"]
[408,"報告書","報告書","水他2検査者氏名","N398","N398","カナ含む"]
[409,"報告書","報告書","水他2検査者フリガナ","N397","N397","式"]
[410,"報告書","報告書","水他2検査者勤務先","N399","N399"]
[411,"報告書","報告書","水他2検査者勤務先資格","K400","K400"]
[412,"報告書","報告書","水他2検査者勤務先資格登録","X400","X400"]
[413,"報告書","報告書","水他2検査者勤務先資格番号","AH400","AH400"]
[414,"報告書","報告書","水他2検査者郵便番号","N401","N401"]
[415,"報告書","報告書","水他2検査者所在地","N402","N402"]
[416,"報告書","報告書","水他2検査者電話番号","N403","N403"]
[417,"報告書","報告書","水飲料水給水タンク","O410","O410"]
[418,"報告書","報告書","水飲料水給水タンク基数","V410","V410"]
[419,"報告書","報告書","水飲料水給水タンク容量","Y410","Y410"]
[420,"報告書","報告書","水飲料水貯水タンク","AE410","AE410"]
[421,"報告書","報告書","水飲料水貯水タンク基数","AL410","AL410"]
[422,"報告書","報告書","水飲料水貯水タンク容量","AO410","AO410"]
[423,"報告書","報告書","水飲料水その他","O411","O411"]
[424,"報告書","報告書","水飲料水その他内容","T411","T411"]
[425,"報告書","報告書","水排水設備排水槽","O412","O412"]
[426,"報告書","報告書","水排水設備排水槽汚水槽","T412","T412"]
[427,"報告書","報告書","水排水設備排水槽雑排水槽","Y412","Y412"]
[428,"報告書","報告書","水排水設備排水槽合併槽","AE412","AE412"]
[429,"報告書","報告書","水排水設備排水槽雨水湧水槽","AJ412","AJ412"]
[430,"報告書","報告書","水排水設備排水槽排水再利用","O413","O413"]
[431,"報告書","報告書","水排水設備排水槽その他","AA413","AA413"]
[432,"報告書","報告書","水排水設備排水槽その他内容","AF413","AF413"]
[433,"報告書","報告書","水圧力タンクあり","O414","O414"]
[434,"報告書","報告書","水圧力タンクなし","S414","S414"]
[435,"報告書","報告書","水給湯方式局所式","L415","L415"]
[436,"報告書","報告書","水給湯方式中央式","R415","R415"]
[437,"報告書","報告書","水湯沸器開放式燃焼器","L416","L416"]
[438,"報告書","報告書","水湯沸器半密閉式燃焼器","U416","U416"]
[439,"報告書","報告書","水湯沸器密閉式燃焼器","AE416","AE416"]
[440,"報告書","報告書","水湯沸器その他","L417","L417"]
[441,"報告書","報告書","水湯沸器その他内容","Q417","Q417"]
[442,"報告書","報告書","水要是正あり","N424","N424"]
[443,"報告書","報告書","水既存不適格","X424","X424"]
[444,"報告書","報告書","水指摘なし","AG424","AG424"]
[445,"報告書","報告書","水指摘の概要1","N425","N425"]
[446,"報告書","報告書","水指摘の概要2","N426","N426"]
[447,"報告書","報告書","水指摘の概要3","N427","N427"]
[448,"報告書","報告書","水指摘の概要4","N428","N428"]
[449,"報告書","報告書","水指摘の概要5","N429","N429"]
[450,"報告書","報告書","水改善予定あり","N430","N430"]
[451,"報告書","報告書","水改善予定元号","R430",null,"右詰文字"]
[452,"報告書","報告書","水改善予定年","S430","S430"]
[453,"報告書","報告書","水改善予定月","V430","V430"]
[454,"報告書","報告書","水改善予定なし","AG430","AG430"]
[455,"報告書","報告書","水不具合あり","L437","L437"]
[456,"報告書","報告書","水不具合なし","O437","O437"]
[457,"報告書","報告書","水不具合記録あり","L438","L438"]
[458,"報告書","報告書","水不具合記録なし","O438","O438"]
[459,"報告書","報告書","水不具合改善実施済","L439","L439"]
[460,"報告書","報告書","水不具合改善予定あり","Q439","Q439"]
[461,"報告書","報告書","水不具合改善予定元号","X439",null,"右詰文字"]
[462,"報告書","報告書","水不具合改善予定年","Y439","Y439"]
[463,"報告書","報告書","水不具合改善予定月","AB439","AB439"]
[464,"報告書","報告書","水不具合改善予定なし","AL439","AL439"]
[465,"報告書","報告書","備考大臣項目あり","W451","W451"]
[466,"報告書","報告書","備考大臣項目あり換気","Z451","Z451"]
[467,"報告書","報告書","備考大臣項目あり排煙","AC451","AC451"]
[468,"報告書","報告書","備考大臣項目あり給排水","AF451","AF451"]
[469,"報告書","報告書","備考大臣項目なし","AL451","AL451"]
[470,"報告書","報告書","備考1","C452","C452"]
[471,"報告書","報告書","備考2","C453","C453"]
[472,"報告書","報告書","備考3","C454","C454"]
[473,"報告書","報告書","備考4","C455","C455"]
[474,"報告書","報告書","備考5","C456","C456"]
[475,"報告書","報告書","備考6","C457","C457"]
[476,"報告書","報告書","備考7","C458","C458"]
[477,"報告書","報告書","備考8","C459","C459"]
[478,"報告書","報告書","備考9","C460","C460"]
[479,"報告書","報告書","備考10","C461","C461"]
[480,"報告書","報告書","備考11","C462","C462"]
[481,"報告書","報告書","備考12","C463","C463"]
[482,"報告書","報告書","備考13","C464","C464"]
[483,"報告書","報告書","備考14","C465","C465"]
[484,"報告書","報告書","備考15","C466","C466"]
[485,"報告書","報告書","備考16","C467","C467"]
[486,"報告書","報告書","備考17","C468","C468"]
[487,"報告書","報告書","備考18","C469","C469"]
[488,"報告書","報告書","備考19","C470","C470"]

{"sheet":"移行ツール設定v12","index":18,"n_rows":499,"n_cols":7,"rows_kept":499,"hidden":true}
["移行ツール設定 V12"]
["対象バージョンに該当するセル位置を記載する。基本は上から順番になっているが、フリガナを含む項目はフリガナ項目より先に行っている。"]
[]
["№","現ワークシート名","旧ワークシート名","フィールド名（自身の識別用）","現セル位置","旧セル位置","特殊条件"]
[1,"報告書","報告書","建築物基本番号_都区市コード","AD1","AD1"]
[2,"報告書","報告書","建築物基本番号_地区コード1","AF1","AF1"]
[3,"報告書","報告書","建築物基本番号_地区コード2","AG1","AG1"]
[4,"報告書","報告書","建築物基本番号_町名コード1","AI1","AI1"]
[5,"報告書","報告書","建築物基本番号_町名コード2","AJ1","AJ1"]
[6,"報告書","報告書","建築物基本番号_丁目コード1","AL1","AL1"]
[7,"報告書","報告書","建築物基本番号_丁目コード2","AM1","AM1"]
[8,"報告書","報告書","建築物基本番号_建築物固有番号1","AO1","AO1"]
[9,"報告書","報告書","建築物基本番号_建築物固有番号2","AP1","AP1"]
[10,"報告書","報告書","建築物基本番号_建築物固有番号3","AQ1","AQ1"]
[11,"報告書","報告書","建築物基本番号_建築物固有番号4","AR1","AR1"]
[12,"報告書","報告書","建築物基本番号_予備","AT1","AT1"]
[13,"報告書","報告書","センター受付番号","AL2","AL2"]
[14,"報告書","報告書","特定行政庁名","C14","C14"]
[15,"報告書","報告書","報告者氏名1","AE18","AE18"]
[16,"報告書","報告書","報告者氏名2","AE19","AE19"]
[17,"報告書","報告書","検査者氏名","AE22","AE22"]
[18,"報告書","報告書","所有者名","N32","N32","カナ含む"]
[19,"報告書","報告書","所有者フリガナ","N31","N31","式"]
[20,"報告書","報告書","所有者郵便番号","N33","N33"]
[21,"報告書","報告書","所有者住所","N34","N34"]
[22,"報告書","報告書","所有者電話番号","N35","N35"]
[23,"報告書","報告書","管理者名","N43","N43","カナ含む"]
[24,"報告書","報告書","管理者フリガナ","N42","N42","式"]
[25,"報告書","報告書","管理者郵便番号","N44","N44"]
[26,"報告書","報告書","管理者住所","N45","N45"]
[27,"報告書","報告書","管理者電話番号","N46","N46"]
[28,"報告書","報告書","建物所在地","N53","N53"]
[29,"報告書","報告書","建物名称","N55","N55","カナ含む"]
[30,"報告書","報告書","建物フリガナ","N54","N54","式"]
[31,"報告書","報告書","建物用途","N56","N56"]
[32,"報告書","報告書","全体要是正あり","N63","N63"]
[33,"報告書","報告書","全体既存不適格","X63","X63"]
[34,"報告書","報告書","全体指摘なし","AG63","AG63"]
[35,"報告書","報告書","指摘の概要1","N64","N64"]
[36,"報告書","報告書","指摘の概要2","N65","N65"]
[37,"報告書","報告書","指摘の概要3","N66","N66"]
[38,"報告書","報告書","指摘の概要4","N67","N67"]
[39,"報告書","報告書","指摘の概要5","N68","N68"]
[40,"報告書","報告書","改善予定あり","N69","N69"]
[41,"報告書","報告書","改善予定元号","R69",null,"右詰文字"]
[42,"報告書","報告書","改善予定年","S69","S69"]
[43,"報告書","報告書","改善予定月","V69","V69"]
[44,"報告書","報告書","改善予定なし","AG69","AG69"]
[45,"報告書","報告書","その他特記事項1","N70","N70"]
[46,"報告書","報告書","その他特記事項2","N71","N71"]
[47,"報告書","報告書","その他特記事項3","N72","N72"]
[48,"報告書","報告書","その他特記事項4","N73","N73"]
[49,"報告書","報告書","その他特記事項5","N74","N74"]
[50,"報告書","報告書","副本返送先名称","C91","C91"]
[51,"報告書","報告書","副本返送先郵便番号","C92","C92"]
[52,"報告書","報告書","副本返送先住所","C93","C93"]
[53,"報告書","報告書","副本返送先電話番号","C94","C94"]
[54,"報告書","報告書","連絡先名称","Z91","Z91"]
[55,"報告書","報告書","連絡先郵便番号","Z92","Z92"]
[56,"報告書","報告書","連絡先住所","Z93","Z93"]
[57,"報告書","報告書","連絡先電話番号","Z94","Z94"]
[58,"報告書","報告書","第一面備考","C95","C95"]
[59,"報告書","報告書","地上階数","P101","P101"]
[60,"報告書","報告書","地下階数","X101","X101"]
[61,"報告書","報告書","建築面積","M102","M102"]
[62,"報告書","報告書","延べ面積","M103","M103"]
[63,"報告書","報告書","報告対象床面積","X103","X103"]
[64,"報告書","報告書","検査対象換気","O104","O104"]
[65,"報告書","報告書","検査対象排煙","V104","V104"]
[66,"報告書","報告書","検査対象非常用照明装置","AC104","AC104"]
[67,"報告書","報告書","検査対象給排水","O105","O105"]
[68,"報告書","報告書","確認済証交付元号","T112","T112"]
[69,"報告書","報告書","確認済証交付年","V112","V112"]
[70,"報告書","報告書","確認済証交付月","Y112","Y112"]
[71,"報告書","報告書","確認済証交付日","AB112","AB112"]
[72,"報告書","報告書","確認済証番号","AG112","AG112"]
[73,"報告書","報告書","確認済証交付者建築主事","Q113","Q113"]
[74,"報告書","報告書","確認済証交付者指定確認検査機関","W113","W113"]
[75,"報告書","報告書","確認済証交付者指定確認検査機関名","AG113","AG113"]
[76,"報告書","報告書","検査済証交付元号","T114","T114"]
[77,"報告書","報告書","検査済証交付年","V114","V114"]
[78,"報告書","報告書","検査済証交付月","Y114","Y114"]
[79,"報告書","報告書","検査済証交付日","AB114","AB114"]
[80,"報告書","報告書","検査済証番号","AG114","AG114"]
[81,"報告書","報告書","検査済証交付者建築主事","Q115","Q115"]
[82,"報告書","報告書","検査済証交付者指定確認検査機関","W115","W115"]
[83,"報告書","報告書","検査済証交付者指定確認検査機関名","AG115","AG115"]
[84,"報告書","報告書","今回検査日元号","Q122",null,"右詰文字"]
[85,"報告書","報告書","今回検査日年","R122","R122"]
[86,"報告書","報告書","今回検査日月","U122","U122"]
[87,"報告書","報告書","今回検査日日","X122","X122"]
[88,"報告書","報告書","前回検査実施","L123","L123"]
[89,"報告書","報告書","前回検査日元号","Q123",null,"右詰文字"]
[90,"報告書","報告書","前回検査日年","R123","R123"]
[91,"報告書","報告書","前回検査日月","U123","U123"]
[92,"報告書","報告書","前回検査日日","X123","X123"]
[93,"報告書","報告書","前回検査未実施","AE123","AE123"]
[94,"報告書","報告書","前回検査書類の写し有","U124","U124"]
[95,"報告書","報告書","前回検査書類の写し無","X124","X124"]
[96,"報告書","報告書","換気代表検査者資格建築士","K132","K132"]
[97,"報告書","報告書","換気代表検査者資格建築士登録","X132","X132"]
[98,"報告書","報告書","換気代表検査者資格建築士番号","AH132","AH132"]
[99,"報告書","報告書","換気代表検査者資格建築設備検査員番号","AH133","AH133"]
[100,"報告書","報告書","換気代表検査者氏名","N136","N136","カナ含む"]
[101,"報告書","報告書","換気代表検査者フリガナ","N135","N135","式"]
[102,"報告書","報告書","換気代表検査者勤務先","N137","N137"]
[103,"報告書","報告書","換気代表検査者勤務先資格","K138","K138"]
[104,"報告書","報告書","換気代表検査者勤務先資格登録","X138","X138"]
[105,"報告書","報告書","換気代表検査者勤務先資格番号","AH138","AH138"]
[106,"報告書","報告書","換気代表検査者郵便番号","N139","N139"]
[107,"報告書","報告書","換気代表検査者所在地","N140","N140"]
[108,"報告書","報告書","換気代表検査者電話番号","N141","N141"]
[109,"報告書","報告書","換気他1検査者資格建築士","K143","K143"]
[110,"報告書","報告書","換気他1検査者資格建築士登録","X143","X143"]
[111,"報告書","報告書","換気他1検査者資格建築士番号","AH143","AH143"]
[112,"報告書","報告書","換気他1検査者資格建築設備検査員番号","AH144","AH144"]
[113,"報告書","報告書","換気他1検査者氏名","N147","N147","カナ含む"]
[114,"報告書","報告書","換気他1検査者フリガナ","N146","N146","式"]
[115,"報告書","報告書","換気他1検査者勤務先","N148","N148"]
[116,"報告書","報告書","換気他1検査者勤務先資格","K149","K149"]
[117,"報告書","報告書","換気他1検査者勤務先資格登録","X149","X149"]
[118,"報告書","報告書","換気他1検査者勤務先資格番号","AH149","AH149"]
[119,"報告書","報告書","換気他1検査者郵便番号","N150","N150"]
[120,"報告書","報告書","換気他1検査者所在地","N151","N151"]
[121,"報告書","報告書","換気他1検査者電話番号","N152","N152"]
[122,"報告書","報告書","換気他2検査者資格建築士","K154","K154"]
[123,"報告書","報告書","換気他2検査者資格建築士登録","X154","X154"]
[124,"報告書","報告書","換気他2検査者資格建築士番号","AH154","AH154"]
[125,"報告書","報告書","換気他2検査者資格建築設備検査員番号","AH155","AH155"]
[126,"報告書","報告書","換気他2検査者氏名","N158","N158","カナ含む"]
[127,"報告書","報告書","換気他2検査者フリガナ","N157","N157","式"]
[128,"報告書","報告書","換気他2検査者勤務先","N159","N159"]
[129,"報告書","報告書","換気他2検査者勤務先資格","K160","K160"]
[130,"報告書","報告書","換気他2検査者勤務先資格登録","X160","X160"]
[131,"報告書","報告書","換気他2検査者勤務先資格番号","AH160","AH160"]
[132,"報告書","報告書","換気他2検査者郵便番号","N161","N161"]
[133,"報告書","報告書","換気他2検査者所在地","N162","N162"]
[134,"報告書","報告書","換気他2検査者電話番号","N163","N163"]
[135,"報告書","報告書","換気無窓居室自然換気","L170","L170"]
[136,"報告書","報告書","換気無窓居室機械換気","AC170","AC170"]
[137,"報告書","報告書","換気無窓居室機械換気系統","AK170","AK170"]
[138,"報告書","報告書","換気無窓居室機械換気室","AO170","AO170"]
[139,"報告書","報告書","換気無窓居室中央管理","L171","L171"]
[140,"報告書","報告書","換気無窓居室中央管理系統","AA171","AA171"]
[141,"報告書","報告書","換気無窓居室中央管理室","AE171","AE171"]
[142,"報告書","報告書","換気無窓居室その他","L172","L172"]
[143,"報告書","報告書","換気無窓居室その他系統","Q172","Q172"]
[144,"報告書","報告書","換気無窓居室その他室","U172","U172"]
[145,"報告書","報告書","換気無窓居室無","AC172","AC172"]
[146,"報告書","報告書","換気火気使用室自然換気","L173","L173"]
[147,"報告書","報告書","換気火気使用室機械換気","AC173","AC173"]
[148,"報告書","報告書","換気火気使用室機械換気系統","AK173","AK173"]
[149,"報告書","報告書","換気火気使用室機械換気室","AO173","AO173"]
[150,"報告書","報告書","換気火気使用室その他","L174","L174"]
[151,"報告書","報告書","換気火気使用室その他系統","Q174","Q174"]
[152,"報告書","報告書","換気火気使用室その他室","U174","U174"]
[153,"報告書","報告書","換気火気使用室無","AC174","AC174"]
[154,"報告書","報告書","換気居室等自然換気","L175","L175"]
[155,"報告書","報告書","換気居室等機械換気","AC175","AC175"]
[156,"報告書","報告書","換気居室等機械換気系統","AK175","AK175"]
[157,"報告書","報告書","換気居室等機械換気室","AO175","AO175"]
[158,"報告書","報告書","換気居室等中央管理室","L176","L176"]
[159,"報告書","報告書","換気居室等中央管理室系統","AA176","AA176"]
[160,"報告書","報告書","換気居室等中央管理室室","AE176","AE176"]
[161,"報告書","報告書","換気居室等その他","L177","L177"]
[162,"報告書","報告書","換気居室等その他系統","Q177","Q177"]
[163,"報告書","報告書","換気居室等その他室","U177","U177"]
[164,"報告書","報告書","換気居室等無","AC177","AC177"]
[165,"報告書","報告書","換気空調個別パッケージ",null,"S178"]
[166,"報告書","報告書","換気空調全空気",null,"AC178"]
[167,"報告書","報告書","換気空調ヒートポンプ",null,"AI178"]
[168,"報告書","報告書","換気空調ファンコイルユニット併用",null,"S179"]
[169,"報告書","報告書","換気空調その他",null,"AI179"]
[170,"報告書","報告書","換気空調その他内容",null,"AN179"]
[171,"報告書","報告書","換気防火ダンパー有","S180","S180"]
[172,"報告書","報告書","換気防火ダンパー無","V180","V180"]
[173,"報告書","報告書","換気要是正あり","N186","N186"]
[174,"報告書","報告書","換気既存不適格","X186","X186"]
[175,"報告書","報告書","換気指摘なし","AG186","AG186"]
[176,"報告書","報告書","換気指摘の概要1","N187","N187"]
[177,"報告書","報告書","換気指摘の概要2","N188","N188"]
[178,"報告書","報告書","換気指摘の概要3","N189","N189"]
[179,"報告書","報告書","換気指摘の概要4","N190","N190"]
[180,"報告書","報告書","換気指摘の概要5","N191","N191"]
[181,"報告書","報告書","換気改善予定あり","N192","N192"]
[182,"報告書","報告書","換気改善予定元号","R192",null,"右詰文字"]
[183,"報告書","報告書","換気改善予定年","S192","S192"]
[184,"報告書","報告書","換気改善予定月","V192","V192"]
[185,"報告書","報告書","換気改善予定なし","AG192","AG192"]
[186,"報告書","報告書","換気不具合あり","L199","L199"]
[187,"報告書","報告書","換気不具合なし","O199","O199"]
[188,"報告書","報告書","換気不具合記録あり","L200","L200"]
[189,"報告書","報告書","換気不具合記録なし","O200","O200"]
[190,"報告書","報告書","換気不具合改善実施済","L201","L201"]
[191,"報告書","報告書","換気不具合改善予定あり","Q201","Q201"]
[192,"報告書","報告書","換気不具合改善予定元号","X201",null,"右詰文字"]
[193,"報告書","報告書","換気不具合改善予定年","Y201","Y201"]
[194,"報告書","報告書","換気不具合改善予定月","AB201","AB201"]
[195,"報告書","報告書","換気不具合改善予定なし","AL201","AL201"]
[196,"報告書","報告書","排煙代表検査者資格建築士","K214","K214"]
[197,"報告書","報告書","排煙代表検査者資格建築士登録","X214","X214"]
[198,"報告書","報告書","排煙代表検査者資格建築士番号","AH214","AH214"]
[199,"報告書","報告書","排煙代表検査者資格建築設備検査員番号","AH215","AH215"]
[200,"報告書","報告書","排煙代表検査者氏名","N218","N218","カナ含む"]
[201,"報告書","報告書","排煙代表検査者フリガナ","N217","N217","式"]
[202,"報告書","報告書","排煙代表検査者勤務先","N219","N219"]
[203,"報告書","報告書","排煙代表検査者勤務先資格","K220","K220"]
[204,"報告書","報告書","排煙代表検査者勤務先資格登録","X220","X220"]
[205,"報告書","報告書","排煙代表検査者勤務先資格番号","AH220","AH220"]
[206,"報告書","報告書","排煙代表検査者郵便番号","N221","N221"]
[207,"報告書","報告書","排煙代表検査者所在地","N222","N222"]
[208,"報告書","報告書","排煙代表検査者電話番号","N223","N223"]
[209,"報告書","報告書","排煙他1検査者資格建築士","K225","K225"]
[210,"報告書","報告書","排煙他1検査者資格建築士登録","X225","X225"]
[211,"報告書","報告書","排煙他1検査者資格建築士番号","AH225","AH225"]
[212,"報告書","報告書","排煙他1検査者資格建築設備検査員番号","AH226","AH226"]
[213,"報告書","報告書","排煙他1検査者氏名","N229","N229","カナ含む"]
[214,"報告書","報告書","排煙他1検査者フリガナ","N228","N228","式"]
[215,"報告書","報告書","排煙他1検査者勤務先","N230","N230"]
[216,"報告書","報告書","排煙他1検査者勤務先資格","K231","K231"]
[217,"報告書","報告書","排煙他1検査者勤務先資格登録","X231","X231"]
[218,"報告書","報告書","排煙他1検査者勤務先資格番号","AH231","AH231"]
[219,"報告書","報告書","排煙他1検査者郵便番号","N232","N232"]
[220,"報告書","報告書","排煙他1検査者所在地","N233","N233"]
[221,"報告書","報告書","排煙他1検査者電話番号","N234","N234"]
[222,"報告書","報告書","排煙他2検査者資格建築士","K236","K236"]
[223,"報告書","報告書","排煙他2検査者資格建築士登録","X236","X236"]
[224,"報告書","報告書","排煙他2検査者資格建築士番号","AH236","AH236"]
[225,"報告書","報告書","排煙他2検査者資格建築設備検査員番号","AH237","AH237"]
[226,"報告書","報告書","排煙他2検査者氏名","N240","N240","カナ含む"]
[227,"報告書","報告書","排煙他2検査者フリガナ","N239","N239","式"]
[228,"報告書","報告書","排煙他2検査者勤務先","N241","N241"]
[229,"報告書","報告書","排煙他2検査者勤務先資格","K242","K242"]
[230,"報告書","報告書","排煙他2検査者勤務先資格登録","X242","X242"]
[231,"報告書","報告書","排煙他2検査者勤務先資格番号","AH242","AH242"]
[232,"報告書","報告書","排煙他2検査者郵便番号","N243","N243"]
[233,"報告書","報告書","排煙他2検査者所在地","N244","N244"]
[234,"報告書","報告書","排煙他2検査者電話番号","N245","N245"]
[235,"報告書","報告書","排煙避難安全区画避難安全検証法","R250"]
[236,"報告書","報告書","排煙避難安全区画避難安全検証法階","AC250"]
[237,"報告書","報告書","排煙避難安全階避難安全検証法","AG250","V250"]
[238,"報告書","報告書","排煙避難安全階避難安全検証法階","AQ250","AF250"]
[239,"報告書","報告書","排煙避難安全全館避難安全検証法","K251","AK250"]
[240,"報告書","報告書","排煙避難安全その他","V251","V251"]
[241,"報告書","報告書","排煙避難安全その他内容","AA251","AA251"]
[242,"報告書","報告書","排煙特避階段吸引式","K253","K253"]
[243,"報告書","報告書","排煙特避階段吸引式区画","P253","P253"]
[244,"報告書","報告書","排煙特避階段給気式","V253","V253"]
[245,"報告書","報告書","排煙特避階段給気式区画","AA253","AA253"]
[246,"報告書","報告書","排煙特避階段加圧式","AG253","AG253"]
[247,"報告書","報告書","排煙特避階段加圧式区画","AL253","AL253"]
[248,"報告書","報告書","排煙特避階段無","AR253","AR253"]
[249,"報告書","報告書","排煙非常エレ吸引式","K255","K255"]
[250,"報告書","報告書","排煙非常エレ吸引式区画","P255","P255"]
[251,"報告書","報告書","排煙非常エレ給気式","V255","V255"]
[252,"報告書","報告書","排煙非常エレ給気式区画","AA255","AA255"]
[253,"報告書","報告書","排煙非常エレ加圧式","AG255","AG255"]
[254,"報告書","報告書","排煙非常エレ加圧式区画","AL255","AL255"]
[255,"報告書","報告書","排煙非常エレ無","AR255","AR255"]
[256,"報告書","報告書","排煙エレ付室吸引式","K257","K257"]
[257,"報告書","報告書","排煙エレ付室吸引式区画","P257","P257"]
[258,"報告書","報告書","排煙エレ付室給気式","V257","V257"]
[259,"報告書","報告書","排煙エレ付室給気式区画","AA257","AA257"]
[260,"報告書","報告書","排煙エレ付室加圧式","AG257","AG257"]
[261,"報告書","報告書","排煙エレ付室加圧式区画","AL257","AL257"]
[262,"報告書","報告書","排煙エレ付室無","AR257","AR257"]
[263,"報告書","報告書","排煙居室等吸引式","K258","K258"]
[264,"報告書","報告書","排煙居室等吸引式区画","P258","P258"]
[265,"報告書","報告書","排煙居室等給気式","V258","V258"]
[266,"報告書","報告書","排煙居室等給気式区画","AA258","AA258"]
[267,"報告書","報告書","排煙居室等無","AR258","AR258"]
[268,"報告書","報告書","排煙予備電源蓄電池","K259","V259"]
[269,"報告書","報告書","排煙予備電源自家用発電","P259","AA259"]
[270,"報告書","報告書","排煙予備電源直結エンジン","Y259","AJ259"]
[271,"報告書","報告書","排煙予備電源その他","AG259"]
[272,"報告書","報告書","排煙予備電源その他内容","AL259"]
[273,"報告書","報告書","排煙予備電源無",null,"AR259"]
[274,"報告書","報告書","排煙要是正あり","N263","N263"]
[275,"報告書","報告書","排煙既存不適格","X263","X263"]
[276,"報告書","報告書","排煙指摘なし","AG263","AG263"]
[277,"報告書","報告書","排煙指摘の概要1","N264","N264"]
[278,"報告書","報告書","排煙指摘の概要2","N265","N265"]
[279,"報告書","報告書","排煙指摘の概要3","N266","N266"]
[280,"報告書","報告書","排煙指摘の概要4","N267","N267"]
[281,"報告書","報告書","排煙指摘の概要5","N268","N268"]
[282,"報告書","報告書","排煙改善予定あり","N269","N269"]
[283,"報告書","報告書","排煙改善予定元号","R269",null,"右詰文字"]
[284,"報告書","報告書","排煙改善予定年","S269","S269"]
[285,"報告書","報告書","排煙改善予定月","V269","V269"]
[286,"報告書","報告書","排煙改善予定なし","AG269","AG269"]
[287,"報告書","報告書","排煙不具合あり","L276","L276"]
[288,"報告書","報告書","排煙不具合なし","O276","O276"]
[289,"報告書","報告書","排煙不具合記録あり","L277","L277"]
[290,"報告書","報告書","排煙不具合記録なし","O277","O277"]
[291,"報告書","報告書","排煙不具合改善実施済","L278","L278"]
[292,"報告書","報告書","排煙不具合改善予定あり","Q278","Q278"]
[293,"報告書","報告書","排煙不具合改善予定元号","X278",null,"右詰文字"]
[294,"報告書","報告書","排煙不具合改善予定年","Y278","Y278"]
[295,"報告書","報告書","排煙不具合改善予定月","AB278","AB278"]
[296,"報告書","報告書","排煙不具合改善予定なし","AL278","AL278"]
[297,"報告書","報告書","非照代表検査者資格建築士","K291","K291"]
[298,"報告書","報告書","非照代表検査者資格建築士登録","X291","X291"]
[299,"報告書","報告書","非照代表検査者資格建築士番号","AH291","AH291"]
[300,"報告書","報告書","非照代表検査者資格建築設備検査員番号","AH292","AH292"]
[301,"報告書","報告書","非照代表検査者氏名","N295","N295","カナ含む"]
[302,"報告書","報告書","非照代表検査者フリガナ","N294","N294","式"]
[303,"報告書","報告書","非照代表検査者勤務先","N296","N296"]
[304,"報告書","報告書","非照代表検査者勤務先資格","K297","K297"]
[305,"報告書","報告書","非照代表検査者勤務先資格登録","X297","X297"]
[306,"報告書","報告書","非照代表検査者勤務先資格番号","AH297","AH297"]
[307,"報告書","報告書","非照代表検査者郵便番号","N298","N298"]
[308,"報告書","報告書","非照代表検査者所在地","N299","N299"]
[309,"報告書","報告書","非照代表検査者電話番号","N300","N300"]
[310,"報告書","報告書","非照他1検査者資格建築士","K302","K302"]
[311,"報告書","報告書","非照他1検査者資格建築士登録","X302","X302"]
[312,"報告書","報告書","非照他1検査者資格建築士番号","AH302","AH302"]
[313,"報告書","報告書","非照他1検査者資格建築設備検査員番号","AH303","AH303"]
[314,"報告書","報告書","非照他1検査者氏名","N306","N306","カナ含む"]
[315,"報告書","報告書","非照他1検査者フリガナ","N305","N305","式"]
[316,"報告書","報告書","非照他1検査者勤務先","N307","N307"]
[317,"報告書","報告書","非照他1検査者勤務先資格","K308","K308"]
[318,"報告書","報告書","非照他1検査者勤務先資格登録","X308","X308"]
[319,"報告書","報告書","非照他1検査者勤務先資格番号","AH308","AH308"]
[320,"報告書","報告書","非照他1検査者郵便番号","N309","N309"]
[321,"報告書","報告書","非照他1検査者所在地","N310","N310"]
[322,"報告書","報告書","非照他1検査者電話番号","N311","N311"]
[323,"報告書","報告書","非照他2検査者資格建築士","K313","K313"]
[324,"報告書","報告書","非照他2検査者資格建築士登録","X313","X313"]
[325,"報告書","報告書","非照他2検査者資格建築士番号","AH313","AH313"]
[326,"報告書","報告書","非照他2検査者資格建築設備検査員番号","AH314","AH314"]
[327,"報告書","報告書","非照他2検査者氏名","N317","N317","カナ含む"]
[328,"報告書","報告書","非照他2検査者フリガナ","N316","N316","式"]
[329,"報告書","報告書","非照他2検査者勤務先","N318","N318"]
[330,"報告書","報告書","非照他2検査者勤務先資格","K319","K319"]
[331,"報告書","報告書","非照他2検査者勤務先資格登録","X319","X319"]
[332,"報告書","報告書","非照他2検査者勤務先資格番号","AH319","AH319"]
[333,"報告書","報告書","非照他2検査者郵便番号","N320","N320"]
[334,"報告書","報告書","非照他2検査者所在地","N321","N321"]
[335,"報告書","報告書","非照他2検査者電話番号","N322","N322"]
[336,"報告書","報告書","非照照明器具白熱灯","K329","K329"]
[337,"報告書","報告書","非照照明器具白熱灯灯数","P329","P329"]
[338,"報告書","報告書","非照照明器具蛍光灯","U329","U329"]
[339,"報告書","報告書","非照照明器具蛍光灯灯数","Z329","Z329"]
[340,"報告書","報告書","非照照明器具その他","AE329","AE329"]
[341,"報告書","報告書","非照照明器具LEDランプ灯数","AL329","AQ329"]
[342,"報告書","報告書","非照照明器具その他","K330"]
[343,"報告書","報告書","非照照明器具その他灯数","P330"]
[344,"報告書","報告書","非照予備電源蓄電池内蔵","K333","K333"]
[345,"報告書","報告書","非照予備電源蓄電池内蔵居室灯数","W333","W333"]
[346,"報告書","報告書","非照予備電源蓄電池内蔵廊下灯数","AC333","AC333"]
[347,"報告書","報告書","非照予備電源蓄電池内蔵階段灯数","AI333","AI333"]
[348,"報告書","報告書","非照予備電源蓄電池別置","K334","K334"]
[349,"報告書","報告書","非照予備電源蓄電池別置居室灯数","W334","W334"]
[350,"報告書","報告書","非照予備電源蓄電池別置廊下灯数","AC334","AC334"]
[351,"報告書","報告書","非照予備電源蓄電池別置階段灯数","AI334","AI334"]
[352,"報告書","報告書","非照予備電源蓄電池自家用発電","K335","K335"]
[353,"報告書","報告書","非照予備電源蓄電池自家用発電居室灯数","W335","W335"]
[354,"報告書","報告書","非照予備電源蓄電池自家用発電廊下灯数","AC335","AC335"]
[355,"報告書","報告書","非照予備電源蓄電池自家用発電階段灯数","AI335","AI335"]
[356,"報告書","報告書","非照予備電源蓄電池併用","K336","K336"]
[357,"報告書","報告書","非照予備電源蓄電池併用居室灯数","AF336","AF336"]
[358,"報告書","報告書","非照予備電源蓄電池併用廊下灯数","AL336","AL336"]
[359,"報告書","報告書","非照予備電源蓄電池併用階段灯数","AR336","AR336"]
[360,"報告書","報告書","非照予備電源蓄電池その他","K337"]
[361,"報告書","報告書","非照予備電源蓄電池その他内容","P337"]
[362,"報告書","報告書","非照要是正あり","N344","N344"]
[363,"報告書","報告書","非照既存不適格","X344","X344"]
[364,"報告書","報告書","非照指摘なし","AG344","AG344"]
[365,"報告書","報告書","非照指摘の概要1","N345","N345"]
[366,"報告書","報告書","非照指摘の概要2","N346","N346"]
[367,"報告書","報告書","非照指摘の概要3","N347","N347"]
[368,"報告書","報告書","非照指摘の概要4","N348","N348"]
[369,"報告書","報告書","非照指摘の概要5","N349","N349"]
[370,"報告書","報告書","非照改善予定あり","N350","N350"]
[371,"報告書","報告書","非照改善予定元号","R350",null,"右詰文字"]
[372,"報告書","報告書","非照改善予定年","S350","S350"]
[373,"報告書","報告書","非照改善予定月","V350","V350"]
[374,"報告書","報告書","非照改善予定なし","AG350","AG350"]
[375,"報告書","報告書","非照不具合あり","L357","L357"]
[376,"報告書","報告書","非照不具合なし","O357","O357"]
[377,"報告書","報告書","非照不具合記録あり","L358","L358"]
[378,"報告書","報告書","非照不具合記録なし","O358","O358"]
[379,"報告書","報告書","非照不具合改善実施済","L359","L359"]
[380,"報告書","報告書","非照不具合改善予定あり","Q359","Q359"]
[381,"報告書","報告書","非照不具合改善予定元号","X359",null,"右詰文字"]
[382,"報告書","報告書","非照不具合改善予定年","Y359","Y359"]
[383,"報告書","報告書","非照不具合改善予定月","AB359","AB359"]
[384,"報告書","報告書","非照不具合改善予定なし","AL359","AL359"]
[385,"報告書","報告書","水代表検査者資格建築士","K372","K372"]
[386,"報告書","報告書","水代表検査者資格建築士登録","X372","X372"]
[387,"報告書","報告書","水代表検査者資格建築士番号","AH372","AH372"]
[388,"報告書","報告書","水代表検査者資格建築設備検査員番号","AH373","AH373"]
[389,"報告書","報告書","水代表検査者氏名","N376","N376","カナ含む"]
[390,"報告書","報告書","水代表検査者フリガナ","N375","N375","式"]
[391,"報告書","報告書","水代表検査者勤務先","N377","N377"]
[392,"報告書","報告書","水代表検査者勤務先資格","K378","K378"]
[393,"報告書","報告書","水代表検査者勤務先資格登録","X378","X378"]
[394,"報告書","報告書","水代表検査者勤務先資格番号","AH378","AH378"]
[395,"報告書","報告書","水代表検査者郵便番号","N379","N379"]
[396,"報告書","報告書","水代表検査者所在地","N380","N380"]
[397,"報告書","報告書","水代表検査者電話番号","N381","N381"]
[398,"報告書","報告書","水他1検査者資格建築士","K383","K383"]
[399,"報告書","報告書","水他1検査者資格建築士登録","X383","X383"]
[400,"報告書","報告書","水他1検査者資格建築士番号","AH383","AH383"]
[401,"報告書","報告書","水他1検査者資格建築設備検査員番号","AH384","AH384"]
[402,"報告書","報告書","水他1検査者氏名","N387","N387","カナ含む"]
[403,"報告書","報告書","水他1検査者フリガナ","N386","N386","式"]
[404,"報告書","報告書","水他1検査者勤務先","N388","N388"]
[405,"報告書","報告書","水他1検査者勤務先資格","K389","K389"]
[406,"報告書","報告書","水他1検査者勤務先資格登録","X389","X389"]
[407,"報告書","報告書","水他1検査者勤務先資格番号","AH389","AH389"]
[408,"報告書","報告書","水他1検査者郵便番号","N390","N390"]
[409,"報告書","報告書","水他1検査者所在地","N391","N391"]
[410,"報告書","報告書","水他1検査者電話番号","N392","N392"]
[411,"報告書","報告書","水他2検査者資格建築士","K394","K394"]
[412,"報告書","報告書","水他2検査者資格建築士登録","X394","X394"]
[413,"報告書","報告書","水他2検査者資格建築士番号","AH394","AH394"]
[414,"報告書","報告書","水他2検査者資格建築設備検査員番号","AH395","AH395"]
[415,"報告書","報告書","水他2検査者氏名","N398","N398","カナ含む"]
[416,"報告書","報告書","水他2検査者フリガナ","N397","N397","式"]
[417,"報告書","報告書","水他2検査者勤務先","N399","N399"]
[418,"報告書","報告書","水他2検査者勤務先資格","K400","K400"]
[419,"報告書","報告書","水他2検査者勤務先資格登録","X400","X400"]
[420,"報告書","報告書","水他2検査者勤務先資格番号","AH400","AH400"]
[421,"報告書","報告書","水他2検査者郵便番号","N401","N401"]
[422,"報告書","報告書","水他2検査者所在地","N402","N402"]
[423,"報告書","報告書","水他2検査者電話番号","N403","N403"]
[424,"報告書","報告書","水飲料水給水タンク","O410","O410"]
[425,"報告書","報告書","水飲料水給水タンク基数","V410","V410"]
[426,"報告書","報告書","水飲料水給水タンク容量","Y410","Y410"]
[427,"報告書","報告書","水飲料水貯水タンク","AE410","AE410"]
[428,"報告書","報告書","水飲料水貯水タンク基数","AL410","AL410"]
[429,"報告書","報告書","水飲料水貯水タンク容量","AO410","AO410"]
[430,"報告書","報告書","水飲料水その他","O411","O411"]
[431,"報告書","報告書","水飲料水その他内容","T411","T411"]
[432,"報告書","報告書","水排水設備排水槽","O412","O412"]
[433,"報告書","報告書","水排水設備排水槽汚水槽","T412","T412"]
[434,"報告書","報告書","水排水設備排水槽雑排水槽","Y412","Y412"]
[435,"報告書","報告書","水排水設備排水槽合併槽","AE412","AE412"]
[436,"報告書","報告書","水排水設備排水槽雨水湧水槽","AJ412","AJ412"]
[437,"報告書","報告書","水排水設備排水槽排水再利用","O413","O413"]
[438,"報告書","報告書","水排水設備排水槽その他","AA413","AA413"]
[439,"報告書","報告書","水排水設備排水槽その他内容","AF413","AF413"]
[440,"報告書","報告書","水圧力タンクあり","O414","O414"]
[441,"報告書","報告書","水圧力タンクなし","S414","S414"]
[442,"報告書","報告書","水給湯方式局所式","L415","L415"]
[443,"報告書","報告書","水給湯方式中央式","R415","R415"]
[444,"報告書","報告書","水湯沸器開放式燃焼器","L416","L416"]
[445,"報告書","報告書","水湯沸器半密閉式燃焼器","U416","U416"]
[446,"報告書","報告書","水湯沸器密閉式燃焼器","AE416","AE416"]
[447,"報告書","報告書","水湯沸器その他","L417","L417"]
[448,"報告書","報告書","水湯沸器その他内容","Q417","Q417"]
[449,"報告書","報告書","水要是正あり","N424","N424"]
[450,"報告書","報告書","水既存不適格","X424","X424"]
[451,"報告書","報告書","水指摘なし","AG424","AG424"]
[452,"報告書","報告書","水指摘の概要1","N425","N425"]
[453,"報告書","報告書","水指摘の概要2","N426","N426"]
[454,"報告書","報告書","水指摘の概要3","N427","N427"]
[455,"報告書","報告書","水指摘の概要4","N428","N428"]
[456,"報告書","報告書","水指摘の概要5","N429","N429"]
[457,"報告書","報告書","水改善予定あり","N430","N430"]
[458,"報告書","報告書","水改善予定元号","R430",null,"右詰文字"]
[459,"報告書","報告書","水改善予定年","S430","S430"]
[460,"報告書","報告書","水改善予定月","V430","V430"]
[461,"報告書","報告書","水改善予定なし","AG430","AG430"]
[462,"報告書","報告書","水不具合あり","L437","L437"]
[463,"報告書","報告書","水不具合なし","O437","O437"]
[464,"報告書","報告書","水不具合記録あり","L438","L438"]
[465,"報告書","報告書","水不具合記録なし","O438","O438"]
[466,"報告書","報告書","水不具合改善実施済","L439","L439"]
[467,"報告書","報告書","水不具合改善予定あり","Q439","Q439"]
[468,"報告書","報告書","水不具合改善予定元号","X439",null,"右詰文字"]
[469,"報告書","報告書","水不具合改善予定年","Y439","Y439"]
[470,"報告書","報告書","水不具合改善予定月","AB439","AB439"]
[471,"報告書","報告書","水不具合改善予定なし","AL439","AL439"]
[472,"報告書","報告書","備考大臣項目あり","W451","W451"]
[473,"報告書","報告書","備考大臣項目あり換気","Z451","Z451"]
[474,"報告書","報告書","備考大臣項目あり排煙","AC451","AC451"]
[475,"報告書","報告書","備考大臣項目あり給排水","AF451","AF451"]
[476,"報告書","報告書","備考大臣項目なし","AL451","AL451"]
[477,"報告書","報告書","備考1","C452","C452"]
[478,"報告書","報告書","備考2","C453","C453"]
[479,"報告書","報告書","備考3","C454","C454"]
[480,"報告書","報告書","備考4","C455","C455"]
[481,"報告書","報告書","備考5","C456","C456"]
[482,"報告書","報告書","備考6","C457","C457"]
[483,"報告書","報告書","備考7","C458","C458"]
[484,"報告書","報告書","備考8","C459","C459"]
[485,"報告書","報告書","備考9","C460","C460"]
[486,"報告書","報告書","備考10","C461","C461"]
[487,"報告書","報告書","備考11","C462","C462"]
[488,"報告書","報告書","備考12","C463","C463"]
[489,"報告書","報告書","備考13","C464","C464"]
[490,"報告書","報告書","備考14","C465","C465"]
[491,"報告書","報告書","備考15","C466","C466"]
[492,"報告書","報告書","備考16","C467","C467"]
[493,"報告書","報告書","備考17","C468","C468"]
[494,"報告書","報告書","備考18","C469","C469"]
[495,"報告書","報告書","備考19","C470","C470"]

{"sheet":"移行ツール設定v11以前","index":19,"n_rows":501,"n_cols":7,"rows_kept":501,"hidden":true}
["移行ツール設定 V11以前"]
["対象バージョンに該当するセル位置を記載する。基本は上から順番になっているが、フリガナを含む項目はフリガナ項目より先に行っている。"]
[]
["№","現ワークシート名","旧ワークシート名","フィールド名（自身の識別用）","現セル位置","旧セル位置","特殊条件"]
[1,"報告書","報告書","建築物基本番号_都区市コード","AD1","AD1"]
[2,"報告書","報告書","建築物基本番号_地区コード1","AF1","AF1"]
[3,"報告書","報告書","建築物基本番号_地区コード2","AG1","AG1"]
[4,"報告書","報告書","建築物基本番号_町名コード1","AI1","AI1"]
[5,"報告書","報告書","建築物基本番号_町名コード2","AJ1","AJ1"]
[6,"報告書","報告書","建築物基本番号_丁目コード1","AL1","AL1"]
[7,"報告書","報告書","建築物基本番号_丁目コード2","AM1","AM1"]
[8,"報告書","報告書","建築物基本番号_建築物固有番号1","AO1","AO1"]
[9,"報告書","報告書","建築物基本番号_建築物固有番号2","AP1","AP1"]
[10,"報告書","報告書","建築物基本番号_建築物固有番号3","AQ1","AQ1"]
[11,"報告書","報告書","建築物基本番号_建築物固有番号4","AR1","AR1"]
[12,"報告書","報告書","建築物基本番号_予備","AT1","AT1"]
[13,"報告書","報告書","センター受付番号","AL2","AL2"]
[14,"報告書","報告書","特定行政庁名","C14","C14"]
[15,"報告書","報告書","報告者氏名1","AE18","AE18"]
[16,"報告書","報告書","報告者氏名2","AE19","AE19"]
[17,"報告書","報告書","検査者氏名","AE22","AE22"]
[18,"報告書","報告書","所有者名","N32","N32","カナ含む"]
[19,"報告書","報告書","所有者フリガナ","N31","N31","式"]
[20,"報告書","報告書","所有者郵便番号","N33","N33"]
[21,"報告書","報告書","所有者住所","N34","N34"]
[22,"報告書","報告書","所有者電話番号","N35","N35"]
[23,"報告書","報告書","管理者名","N43","N43","カナ含む"]
[24,"報告書","報告書","管理者フリガナ","N42","N42","式"]
[25,"報告書","報告書","管理者郵便番号","N44","N44"]
[26,"報告書","報告書","管理者住所","N45","N45"]
[27,"報告書","報告書","管理者電話番号","N46","N46"]
[28,"報告書","報告書","建物所在地","N53","N53"]
[29,"報告書","報告書","建物名称","N55","N55","カナ含む"]
[30,"報告書","報告書","建物フリガナ","N54","N54","式"]
[31,"報告書","報告書","建物用途","N56","N56"]
[32,"報告書","報告書","全体要是正あり","N63","N63"]
[33,"報告書","報告書","全体既存不適格","X63","X63"]
[34,"報告書","報告書","全体指摘なし","AG63","AG63"]
[35,"報告書","報告書","指摘の概要1","N64","N64"]
[36,"報告書","報告書","指摘の概要2","N65","N65"]
[37,"報告書","報告書","指摘の概要3","N66","N66"]
[38,"報告書","報告書","指摘の概要4","N67","N67"]
[39,"報告書","報告書","指摘の概要5","N68","N68"]
[40,"報告書","報告書","改善予定あり","N69","N69"]
[41,"報告書","報告書","改善予定元号","R69",null,"右詰文字"]
[42,"報告書","報告書","改善予定年","S69","S69"]
[43,"報告書","報告書","改善予定月","V69","V69"]
[44,"報告書","報告書","改善予定なし","AG69","AG69"]
[45,"報告書","報告書","その他特記事項1","N70","N70"]
[46,"報告書","報告書","その他特記事項2","N71","N71"]
[47,"報告書","報告書","その他特記事項3","N72","N72"]
[48,"報告書","報告書","その他特記事項4","N73","N73"]
[49,"報告書","報告書","その他特記事項5","N74","N74"]
[50,"報告書","報告書","副本返送先名称","C91","C91"]
[51,"報告書","報告書","副本返送先郵便番号","C92","C92"]
[52,"報告書","報告書","副本返送先住所","C93","C93"]
[53,"報告書","報告書","副本返送先電話番号","C94","C94"]
[54,"報告書","報告書","連絡先名称","Z91","Z91"]
[55,"報告書","報告書","連絡先郵便番号","Z92","Z92"]
[56,"報告書","報告書","連絡先住所","Z93","Z93"]
[57,"報告書","報告書","連絡先電話番号","Z94","Z94"]
[58,"報告書","報告書","第一面備考","C95","C95"]
[59,"報告書","報告書","地上階数","P101","P101"]
[60,"報告書","報告書","地下階数","X101","X101"]
[61,"報告書","報告書","建築面積","M102","M102"]
[62,"報告書","報告書","延べ面積","M103","M103"]
[63,"報告書","報告書","報告対象床面積","X103","X103"]
[64,"報告書","報告書","検査対象換気","O104","O104"]
[65,"報告書","報告書","検査対象排煙","V104","V104"]
[66,"報告書","報告書","検査対象非常用照明装置","AC104","AC104"]
[67,"報告書","報告書","検査対象給排水","O105","O105"]
[68,"報告書","報告書","確認済証交付元号（昭和）","T112","Q112","元号変換昭和"]
[69,"報告書","報告書","確認済証交付元号（平成）","T112","T112","元号変換平成"]
[70,"報告書","報告書","確認済証交付年","V112","V112"]
[71,"報告書","報告書","確認済証交付月","Y112","Y112"]
[72,"報告書","報告書","確認済証交付日","AB112","AB112"]
[73,"報告書","報告書","確認済証番号","AG112","AG112"]
[74,"報告書","報告書","確認済証交付者建築主事","Q113","Q113"]
[75,"報告書","報告書","確認済証交付者指定確認検査機関","W113","W113"]
[76,"報告書","報告書","確認済証交付者指定確認検査機関名","AG113","AG113"]
[77,"報告書","報告書","検査済証交付元号（昭和）","T114","Q114","元号変換昭和"]
[78,"報告書","報告書","検査済証交付元号（平成）","T114","T114","元号変換平成"]
[79,"報告書","報告書","検査済証交付年","V114","V114"]
[80,"報告書","報告書","検査済証交付月","Y114","Y114"]
[81,"報告書","報告書","検査済証交付日","AB114","AB114"]
[82,"報告書","報告書","検査済証番号","AG114","AG114"]
[83,"報告書","報告書","検査済証交付者建築主事","Q115","Q115"]
[84,"報告書","報告書","検査済証交付者指定確認検査機関","W115","W115"]
[85,"報告書","報告書","検査済証交付者指定確認検査機関名","AG115","AG115"]
[86,"報告書","報告書","今回検査日元号","Q122",null,"右詰文字"]
[87,"報告書","報告書","今回検査日年","R122","R122"]
[88,"報告書","報告書","今回検査日月","U122","U122"]
[89,"報告書","報告書","今回検査日日","X122","X122"]
[90,"報告書","報告書","前回検査実施","L123","L123"]
[91,"報告書","報告書","前回検査日元号","Q123",null,"右詰文字"]
[92,"報告書","報告書","前回検査日年","R123","R123"]
[93,"報告書","報告書","前回検査日月","U123","U123"]
[94,"報告書","報告書","前回検査日日","X123","X123"]
[95,"報告書","報告書","前回検査未実施","AE123","AE123"]
[96,"報告書","報告書","前回検査書類の写し有","U124","U124"]
[97,"報告書","報告書","前回検査書類の写し無","X124","X124"]
[98,"報告書","報告書","換気代表検査者資格建築士","K132","K132"]
[99,"報告書","報告書","換気代表検査者資格建築士登録","X132","X132"]
[100,"報告書","報告書","換気代表検査者資格建築士番号","AH132","AH132"]
[101,"報告書","報告書","換気代表検査者資格建築設備検査員番号","AH133","AH133"]
[102,"報告書","報告書","換気代表検査者氏名","N136","N136","カナ含む"]
[103,"報告書","報告書","換気代表検査者フリガナ","N135","N135","式"]
[104,"報告書","報告書","換気代表検査者勤務先","N137","N137"]
[105,"報告書","報告書","換気代表検査者勤務先資格","K138","K138"]
[106,"報告書","報告書","換気代表検査者勤務先資格登録","X138","X138"]
[107,"報告書","報告書","換気代表検査者勤務先資格番号","AH138","AH138"]
[108,"報告書","報告書","換気代表検査者郵便番号","N139","N139"]
[109,"報告書","報告書","換気代表検査者所在地","N140","N140"]
[110,"報告書","報告書","換気代表検査者電話番号","N141","N141"]
[111,"報告書","報告書","換気他1検査者資格建築士","K143","K143"]
[112,"報告書","報告書","換気他1検査者資格建築士登録","X143","X143"]
[113,"報告書","報告書","換気他1検査者資格建築士番号","AH143","AH143"]
[114,"報告書","報告書","換気他1検査者資格建築設備検査員番号","AH144","AH144"]
[115,"報告書","報告書","換気他1検査者氏名","N147","N147","カナ含む"]
[116,"報告書","報告書","換気他1検査者フリガナ","N146","N146","式"]
[117,"報告書","報告書","換気他1検査者勤務先","N148","N148"]
[118,"報告書","報告書","換気他1検査者勤務先資格","K149","K149"]
[119,"報告書","報告書","換気他1検査者勤務先資格登録","X149","X149"]
[120,"報告書","報告書","換気他1検査者勤務先資格番号","AH149","AH149"]
[121,"報告書","報告書","換気他1検査者郵便番号","N150","N150"]
[122,"報告書","報告書","換気他1検査者所在地","N151","N151"]
[123,"報告書","報告書","換気他1検査者電話番号","N152","N152"]
[124,"報告書","報告書","換気他2検査者資格建築士","K154","K154"]
[125,"報告書","報告書","換気他2検査者資格建築士登録","X154","X154"]
[126,"報告書","報告書","換気他2検査者資格建築士番号","AH154","AH154"]
[127,"報告書","報告書","換気他2検査者資格建築設備検査員番号","AH155","AH155"]
[128,"報告書","報告書","換気他2検査者氏名","N158","N158","カナ含む"]
[129,"報告書","報告書","換気他2検査者フリガナ","N157","N157","式"]
[130,"報告書","報告書","換気他2検査者勤務先","N159","N159"]
[131,"報告書","報告書","換気他2検査者勤務先資格","K160","K160"]
[132,"報告書","報告書","換気他2検査者勤務先資格登録","X160","X160"]
[133,"報告書","報告書","換気他2検査者勤務先資格番号","AH160","AH160"]
[134,"報告書","報告書","換気他2検査者郵便番号","N161","N161"]
[135,"報告書","報告書","換気他2検査者所在地","N162","N162"]
[136,"報告書","報告書","換気他2検査者電話番号","N163","N163"]
[137,"報告書","報告書","換気無窓居室自然換気","L170","L170"]
[138,"報告書","報告書","換気無窓居室機械換気","AC170","AC170"]
[139,"報告書","報告書","換気無窓居室機械換気系統","AK170","AK170"]
[140,"報告書","報告書","換気無窓居室機械換気室","AO170","AO170"]
[141,"報告書","報告書","換気無窓居室中央管理","L171","L171"]
[142,"報告書","報告書","換気無窓居室中央管理系統","AA171","AA171"]
[143,"報告書","報告書","換気無窓居室中央管理室","AE171","AE171"]
[144,"報告書","報告書","換気無窓居室その他","L172","L172"]
[145,"報告書","報告書","換気無窓居室その他系統","Q172","Q172"]
[146,"報告書","報告書","換気無窓居室その他室","U172","U172"]
[147,"報告書","報告書","換気無窓居室無","AC172","AC172"]
[148,"報告書","報告書","換気火気使用室自然換気","L173","L173"]
[149,"報告書","報告書","換気火気使用室機械換気","AC173","AC173"]
[150,"報告書","報告書","換気火気使用室機械換気系統","AK173","AK173"]
[151,"報告書","報告書","換気火気使用室機械換気室","AO173","AO173"]
[152,"報告書","報告書","換気火気使用室その他","L174","L174"]
[153,"報告書","報告書","換気火気使用室その他系統","Q174","Q174"]
[154,"報告書","報告書","換気火気使用室その他室","U174","U174"]
[155,"報告書","報告書","換気火気使用室無","AC174","AC174"]
[156,"報告書","報告書","換気居室等自然換気","L175","L175"]
[157,"報告書","報告書","換気居室等機械換気","AC175","AC175"]
[158,"報告書","報告書","換気居室等機械換気系統","AK175","AK175"]
[159,"報告書","報告書","換気居室等機械換気室","AO175","AO175"]
[160,"報告書","報告書","換気居室等中央管理室","L176","L176"]
[161,"報告書","報告書","換気居室等中央管理室系統","AA176","AA176"]
[162,"報告書","報告書","換気居室等中央管理室室","AE176","AE176"]
[163,"報告書","報告書","換気居室等その他","L177","L177"]
[164,"報告書","報告書","換気居室等その他系統","Q177","Q177"]
[165,"報告書","報告書","換気居室等その他室","U177","U177"]
[166,"報告書","報告書","換気居室等無","AC177","AC177"]
[167,"報告書","報告書","換気空調個別パッケージ",null,"S178"]
[168,"報告書","報告書","換気空調全空気",null,"AC178"]
[169,"報告書","報告書","換気空調ヒートポンプ",null,"AI178"]
[170,"報告書","報告書","換気空調ファンコイルユニット併用",null,"S179"]
[171,"報告書","報告書","換気空調その他",null,"AI179"]
[172,"報告書","報告書","換気空調その他内容",null,"AN179"]
[173,"報告書","報告書","換気防火ダンパー有","S180","S180"]
[174,"報告書","報告書","換気防火ダンパー無","V180","V180"]
[175,"報告書","報告書","換気要是正あり","N186","N186"]
[176,"報告書","報告書","換気既存不適格","X186","X186"]
[177,"報告書","報告書","換気指摘なし","AG186","AG186"]
[178,"報告書","報告書","換気指摘の概要1","N187","N187"]
[179,"報告書","報告書","換気指摘の概要2","N188","N188"]
[180,"報告書","報告書","換気指摘の概要3","N189","N189"]
[181,"報告書","報告書","換気指摘の概要4","N190","N190"]
[182,"報告書","報告書","換気指摘の概要5","N191","N191"]
[183,"報告書","報告書","換気改善予定あり","N192","N192"]
[184,"報告書","報告書","換気改善予定元号","R192",null,"右詰文字"]
[185,"報告書","報告書","換気改善予定年","S192","S192"]
[186,"報告書","報告書","換気改善予定月","V192","V192"]
[187,"報告書","報告書","換気改善予定なし","AG192","AG192"]
[188,"報告書","報告書","換気不具合あり","L199","L199"]
[189,"報告書","報告書","換気不具合なし","O199","O199"]
[190,"報告書","報告書","換気不具合記録あり","L200","L200"]
[191,"報告書","報告書","換気不具合記録なし","O200","O200"]
[192,"報告書","報告書","換気不具合改善実施済","L201","L201"]
[193,"報告書","報告書","換気不具合改善予定あり","Q201","Q201"]
[194,"報告書","報告書","換気不具合改善予定元号","X201",null,"右詰文字"]
[195,"報告書","報告書","換気不具合改善予定年","Y201","Y201"]
[196,"報告書","報告書","換気不具合改善予定月","AB201","AB201"]
[197,"報告書","報告書","換気不具合改善予定なし","AL201","AL201"]
[198,"報告書","報告書","排煙代表検査者資格建築士","K214","K214"]
[199,"報告書","報告書","排煙代表検査者資格建築士登録","X214","X214"]
[200,"報告書","報告書","排煙代表検査者資格建築士番号","AH214","AH214"]
[201,"報告書","報告書","排煙代表検査者資格建築設備検査員番号","AH215","AH215"]
[202,"報告書","報告書","排煙代表検査者氏名","N218","N218","カナ含む"]
[203,"報告書","報告書","排煙代表検査者フリガナ","N217","N217","式"]
[204,"報告書","報告書","排煙代表検査者勤務先","N219","N219"]
[205,"報告書","報告書","排煙代表検査者勤務先資格","K220","K220"]
[206,"報告書","報告書","排煙代表検査者勤務先資格登録","X220","X220"]
[207,"報告書","報告書","排煙代表検査者勤務先資格番号","AH220","AH220"]
[208,"報告書","報告書","排煙代表検査者郵便番号","N221","N221"]
[209,"報告書","報告書","排煙代表検査者所在地","N222","N222"]
[210,"報告書","報告書","排煙代表検査者電話番号","N223","N223"]
[211,"報告書","報告書","排煙他1検査者資格建築士","K225","K225"]
[212,"報告書","報告書","排煙他1検査者資格建築士登録","X225","X225"]
[213,"報告書","報告書","排煙他1検査者資格建築士番号","AH225","AH225"]
[214,"報告書","報告書","排煙他1検査者資格建築設備検査員番号","AH226","AH226"]
[215,"報告書","報告書","排煙他1検査者氏名","N229","N229","カナ含む"]
[216,"報告書","報告書","排煙他1検査者フリガナ","N228","N228","式"]
[217,"報告書","報告書","排煙他1検査者勤務先","N230","N230"]
[218,"報告書","報告書","排煙他1検査者勤務先資格","K231","K231"]
[219,"報告書","報告書","排煙他1検査者勤務先資格登録","X231","X231"]
[220,"報告書","報告書","排煙他1検査者勤務先資格番号","AH231","AH231"]
[221,"報告書","報告書","排煙他1検査者郵便番号","N232","N232"]
[222,"報告書","報告書","排煙他1検査者所在地","N233","N233"]
[223,"報告書","報告書","排煙他1検査者電話番号","N234","N234"]
[224,"報告書","報告書","排煙他2検査者資格建築士","K236","K236"]
[225,"報告書","報告書","排煙他2検査者資格建築士登録","X236","X236"]
[226,"報告書","報告書","排煙他2検査者資格建築士番号","AH236","AH236"]
[227,"報告書","報告書","排煙他2検査者資格建築設備検査員番号","AH237","AH237"]
[228,"報告書","報告書","排煙他2検査者氏名","N240","N240","カナ含む"]
[229,"報告書","報告書","排煙他2検査者フリガナ","N239","N239","式"]
[230,"報告書","報告書","排煙他2検査者勤務先","N241","N241"]
[231,"報告書","報告書","排煙他2検査者勤務先資格","K242","K242"]
[232,"報告書","報告書","排煙他2検査者勤務先資格登録","X242","X242"]
[233,"報告書","報告書","排煙他2検査者勤務先資格番号","AH242","AH242"]
[234,"報告書","報告書","排煙他2検査者郵便番号","N243","N243"]
[235,"報告書","報告書","排煙他2検査者所在地","N244","N244"]
[236,"報告書","報告書","排煙他2検査者電話番号","N245","N245"]
[237,"報告書","報告書","排煙避難安全区画避難安全検証法","R250"]
[238,"報告書","報告書","排煙避難安全区画避難安全検証法階","AC250"]
[239,"報告書","報告書","排煙避難安全階避難安全検証法","AG250","V250"]
[240,"報告書","報告書","排煙避難安全階避難安全検証法階","AQ250","AF250"]
[241,"報告書","報告書","排煙避難安全全館避難安全検証法","K251","AK250"]
[242,"報告書","報告書","排煙避難安全その他","V251","V251"]
[243,"報告書","報告書","排煙避難安全その他内容","AA251","AA251"]
[244,"報告書","報告書","排煙特避階段吸引式","K253","K253"]
[245,"報告書","報告書","排煙特避階段吸引式区画","P253","P253"]
[246,"報告書","報告書","排煙特避階段給気式","V253","V253"]
[247,"報告書","報告書","排煙特避階段給気式区画","AA253","AA253"]
[248,"報告書","報告書","排煙特避階段加圧式","AG253","AG253"]
[249,"報告書","報告書","排煙特避階段加圧式区画","AL253","AL253"]
[250,"報告書","報告書","排煙特避階段無","AR253","AR253"]
[251,"報告書","報告書","排煙非常エレ吸引式","K255","K255"]
[252,"報告書","報告書","排煙非常エレ吸引式区画","P255","P255"]
[253,"報告書","報告書","排煙非常エレ給気式","V255","V255"]
[254,"報告書","報告書","排煙非常エレ給気式区画","AA255","AA255"]
[255,"報告書","報告書","排煙非常エレ加圧式","AG255","AG255"]
[256,"報告書","報告書","排煙非常エレ加圧式区画","AL255","AL255"]
[257,"報告書","報告書","排煙非常エレ無","AR255","AR255"]
[258,"報告書","報告書","排煙エレ付室吸引式","K257","K257"]
[259,"報告書","報告書","排煙エレ付室吸引式区画","P257","P257"]
[260,"報告書","報告書","排煙エレ付室給気式","V257","V257"]
[261,"報告書","報告書","排煙エレ付室給気式区画","AA257","AA257"]
[262,"報告書","報告書","排煙エレ付室加圧式","AG257","AG257"]
[263,"報告書","報告書","排煙エレ付室加圧式区画","AL257","AL257"]
[264,"報告書","報告書","排煙エレ付室無","AR257","AR257"]
[265,"報告書","報告書","排煙居室等吸引式","K258","K258"]
[266,"報告書","報告書","排煙居室等吸引式区画","P258","P258"]
[267,"報告書","報告書","排煙居室等給気式","V258","V258"]
[268,"報告書","報告書","排煙居室等給気式区画","AA258","AA258"]
[269,"報告書","報告書","排煙居室等無","AR258","AR258"]
[270,"報告書","報告書","排煙予備電源蓄電池","K259","V259"]
[271,"報告書","報告書","排煙予備電源自家用発電","P259","AA259"]
[272,"報告書","報告書","排煙予備電源直結エンジン","Y259","AJ259"]
[273,"報告書","報告書","排煙予備電源その他","AG259"]
[274,"報告書","報告書","排煙予備電源その他内容","AL259"]
[275,"報告書","報告書","排煙予備電源無",null,"AR259"]
[276,"報告書","報告書","排煙要是正あり","N263","N263"]
[277,"報告書","報告書","排煙既存不適格","X263","X263"]
[278,"報告書","報告書","排煙指摘なし","AG263","AG263"]
[279,"報告書","報告書","排煙指摘の概要1","N264","N264"]
[280,"報告書","報告書","排煙指摘の概要2","N265","N265"]
[281,"報告書","報告書","排煙指摘の概要3","N266","N266"]
[282,"報告書","報告書","排煙指摘の概要4","N267","N267"]
[283,"報告書","報告書","排煙指摘の概要5","N268","N268"]
[284,"報告書","報告書","排煙改善予定あり","N269","N269"]
[285,"報告書","報告書","排煙改善予定元号","R269",null,"右詰文字"]
[286,"報告書","報告書","排煙改善予定年","S269","S269"]
[287,"報告書","報告書","排煙改善予定月","V269","V269"]
[288,"報告書","報告書","排煙改善予定なし","AG269","AG269"]
[289,"報告書","報告書","排煙不具合あり","L276","L276"]
[290,"報告書","報告書","排煙不具合なし","O276","O276"]
[291,"報告書","報告書","排煙不具合記録あり","L277","L277"]
[292,"報告書","報告書","排煙不具合記録なし","O277","O277"]
[293,"報告書","報告書","排煙不具合改善実施済","L278","L278"]
[294,"報告書","報告書","排煙不具合改善予定あり","Q278","Q278"]
[295,"報告書","報告書","排煙不具合改善予定元号","X278",null,"右詰文字"]
[296,"報告書","報告書","排煙不具合改善予定年","Y278","Y278"]
[297,"報告書","報告書","排煙不具合改善予定月","AB278","AB278"]
[298,"報告書","報告書","排煙不具合改善予定なし","AL278","AL278"]
[299,"報告書","報告書","非照代表検査者資格建築士","K291","K291"]
[300,"報告書","報告書","非照代表検査者資格建築士登録","X291","X291"]
[301,"報告書","報告書","非照代表検査者資格建築士番号","AH291","AH291"]
[302,"報告書","報告書","非照代表検査者資格建築設備検査員番号","AH292","AH292"]
[303,"報告書","報告書","非照代表検査者氏名","N295","N295","カナ含む"]
[304,"報告書","報告書","非照代表検査者フリガナ","N294","N294","式"]
[305,"報告書","報告書","非照代表検査者勤務先","N296","N296"]
[306,"報告書","報告書","非照代表検査者勤務先資格","K297","K297"]
[307,"報告書","報告書","非照代表検査者勤務先資格登録","X297","X297"]
[308,"報告書","報告書","非照代表検査者勤務先資格番号","AH297","AH297"]
[309,"報告書","報告書","非照代表検査者郵便番号","N298","N298"]
[310,"報告書","報告書","非照代表検査者所在地","N299","N299"]
[311,"報告書","報告書","非照代表検査者電話番号","N300","N300"]
[312,"報告書","報告書","非照他1検査者資格建築士","K302","K302"]
[313,"報告書","報告書","非照他1検査者資格建築士登録","X302","X302"]
[314,"報告書","報告書","非照他1検査者資格建築士番号","AH302","AH302"]
[315,"報告書","報告書","非照他1検査者資格建築設備検査員番号","AH303","AH303"]
[316,"報告書","報告書","非照他1検査者氏名","N306","N306","カナ含む"]
[317,"報告書","報告書","非照他1検査者フリガナ","N305","N305","式"]
[318,"報告書","報告書","非照他1検査者勤務先","N307","N307"]
[319,"報告書","報告書","非照他1検査者勤務先資格","K308","K308"]
[320,"報告書","報告書","非照他1検査者勤務先資格登録","X308","X308"]
[321,"報告書","報告書","非照他1検査者勤務先資格番号","AH308","AH308"]
[322,"報告書","報告書","非照他1検査者郵便番号","N309","N309"]
[323,"報告書","報告書","非照他1検査者所在地","N310","N310"]
[324,"報告書","報告書","非照他1検査者電話番号","N311","N311"]
[325,"報告書","報告書","非照他2検査者資格建築士","K313","K313"]
[326,"報告書","報告書","非照他2検査者資格建築士登録","X313","X313"]
[327,"報告書","報告書","非照他2検査者資格建築士番号","AH313","AH313"]
[328,"報告書","報告書","非照他2検査者資格建築設備検査員番号","AH314","AH314"]
[329,"報告書","報告書","非照他2検査者氏名","N317","N317","カナ含む"]
[330,"報告書","報告書","非照他2検査者フリガナ","N316","N316","式"]
[331,"報告書","報告書","非照他2検査者勤務先","N318","N318"]
[332,"報告書","報告書","非照他2検査者勤務先資格","K319","K319"]
[333,"報告書","報告書","非照他2検査者勤務先資格登録","X319","X319"]
[334,"報告書","報告書","非照他2検査者勤務先資格番号","AH319","AH319"]
[335,"報告書","報告書","非照他2検査者郵便番号","N320","N320"]
[336,"報告書","報告書","非照他2検査者所在地","N321","N321"]
[337,"報告書","報告書","非照他2検査者電話番号","N322","N322"]
[338,"報告書","報告書","非照照明器具白熱灯","K329","K329"]
[339,"報告書","報告書","非照照明器具白熱灯灯数","P329","P329"]
[340,"報告書","報告書","非照照明器具蛍光灯","U329","U329"]
[341,"報告書","報告書","非照照明器具蛍光灯灯数","Z329","Z329"]
[342,"報告書","報告書","非照照明器具その他","AE329","AE329"]
[343,"報告書","報告書","非照照明器具LEDランプ灯数","AL329","AQ329"]
[344,"報告書","報告書","非照照明器具その他","K330"]
[345,"報告書","報告書","非照照明器具その他灯数","P330"]
[346,"報告書","報告書","非照予備電源蓄電池内蔵","K333","K333"]
[347,"報告書","報告書","非照予備電源蓄電池内蔵居室灯数","W333","W333"]
[348,"報告書","報告書","非照予備電源蓄電池内蔵廊下灯数","AC333","AC333"]
[349,"報告書","報告書","非照予備電源蓄電池内蔵階段灯数","AI333","AI333"]
[350,"報告書","報告書","非照予備電源蓄電池別置","K334","K334"]
[351,"報告書","報告書","非照予備電源蓄電池別置居室灯数","W334","W334"]
[352,"報告書","報告書","非照予備電源蓄電池別置廊下灯数","AC334","AC334"]
[353,"報告書","報告書","非照予備電源蓄電池別置階段灯数","AI334","AI334"]
[354,"報告書","報告書","非照予備電源蓄電池自家用発電","K335","K335"]
[355,"報告書","報告書","非照予備電源蓄電池自家用発電居室灯数","W335","W335"]
[356,"報告書","報告書","非照予備電源蓄電池自家用発電廊下灯数","AC335","AC335"]
[357,"報告書","報告書","非照予備電源蓄電池自家用発電階段灯数","AI335","AI335"]
[358,"報告書","報告書","非照予備電源蓄電池併用","K336","K336"]
[359,"報告書","報告書","非照予備電源蓄電池併用居室灯数","AF336","AF336"]
[360,"報告書","報告書","非照予備電源蓄電池併用廊下灯数","AL336","AL336"]
[361,"報告書","報告書","非照予備電源蓄電池併用階段灯数","AR336","AR336"]
[362,"報告書","報告書","非照予備電源蓄電池その他","K337"]
[363,"報告書","報告書","非照予備電源蓄電池その他内容","P337"]
[364,"報告書","報告書","非照要是正あり","N344","N344"]
[365,"報告書","報告書","非照既存不適格","X344","X344"]
[366,"報告書","報告書","非照指摘なし","AG344","AG344"]
[367,"報告書","報告書","非照指摘の概要1","N345","N345"]
[368,"報告書","報告書","非照指摘の概要2","N346","N346"]
[369,"報告書","報告書","非照指摘の概要3","N347","N347"]
[370,"報告書","報告書","非照指摘の概要4","N348","N348"]
[371,"報告書","報告書","非照指摘の概要5","N349","N349"]
[372,"報告書","報告書","非照改善予定あり","N350","N350"]
[373,"報告書","報告書","非照改善予定元号","R350",null,"右詰文字"]
[374,"報告書","報告書","非照改善予定年","S350","S350"]
[375,"報告書","報告書","非照改善予定月","V350","V350"]
[376,"報告書","報告書","非照改善予定なし","AG350","AG350"]
[377,"報告書","報告書","非照不具合あり","L357","L357"]
[378,"報告書","報告書","非照不具合なし","O357","O357"]
[379,"報告書","報告書","非照不具合記録あり","L358","L358"]
[380,"報告書","報告書","非照不具合記録なし","O358","O358"]
[381,"報告書","報告書","非照不具合改善実施済","L359","L359"]
[382,"報告書","報告書","非照不具合改善予定あり","Q359","Q359"]
[383,"報告書","報告書","非照不具合改善予定元号","X359",null,"右詰文字"]
[384,"報告書","報告書","非照不具合改善予定年","Y359","Y359"]
[385,"報告書","報告書","非照不具合改善予定月","AB359","AB359"]
[386,"報告書","報告書","非照不具合改善予定なし","AL359","AL359"]
[387,"報告書","報告書","水代表検査者資格建築士","K372","K372"]
[388,"報告書","報告書","水代表検査者資格建築士登録","X372","X372"]
[389,"報告書","報告書","水代表検査者資格建築士番号","AH372","AH372"]
[390,"報告書","報告書","水代表検査者資格建築設備検査員番号","AH373","AH373"]
[391,"報告書","報告書","水代表検査者氏名","N376","N376","カナ含む"]
[392,"報告書","報告書","水代表検査者フリガナ","N375","N375","式"]
[393,"報告書","報告書","水代表検査者勤務先","N377","N377"]
[394,"報告書","報告書","水代表検査者勤務先資格","K378","K378"]
[395,"報告書","報告書","水代表検査者勤務先資格登録","X378","X378"]
[396,"報告書","報告書","水代表検査者勤務先資格番号","AH378","AH378"]
[397,"報告書","報告書","水代表検査者郵便番号","N379","N379"]
[398,"報告書","報告書","水代表検査者所在地","N380","N380"]
[399,"報告書","報告書","水代表検査者電話番号","N381","N381"]
[400,"報告書","報告書","水他1検査者資格建築士","K383","K383"]
[401,"報告書","報告書","水他1検査者資格建築士登録","X383","X383"]
[402,"報告書","報告書","水他1検査者資格建築士番号","AH383","AH383"]
[403,"報告書","報告書","水他1検査者資格建築設備検査員番号","AH384","AH384"]
[404,"報告書","報告書","水他1検査者氏名","N387","N387","カナ含む"]
[405,"報告書","報告書","水他1検査者フリガナ","N386","N386","式"]
[406,"報告書","報告書","水他1検査者勤務先","N388","N388"]
[407,"報告書","報告書","水他1検査者勤務先資格","K389","K389"]
[408,"報告書","報告書","水他1検査者勤務先資格登録","X389","X389"]
[409,"報告書","報告書","水他1検査者勤務先資格番号","AH389","AH389"]
[410,"報告書","報告書","水他1検査者郵便番号","N390","N390"]
[411,"報告書","報告書","水他1検査者所在地","N391","N391"]
[412,"報告書","報告書","水他1検査者電話番号","N392","N392"]
[413,"報告書","報告書","水他2検査者資格建築士","K394","K394"]
[414,"報告書","報告書","水他2検査者資格建築士登録","X394","X394"]
[415,"報告書","報告書","水他2検査者資格建築士番号","AH394","AH394"]
[416,"報告書","報告書","水他2検査者資格建築設備検査員番号","AH395","AH395"]
[417,"報告書","報告書","水他2検査者氏名","N398","N398","カナ含む"]
[418,"報告書","報告書","水他2検査者フリガナ","N397","N397","式"]
[419,"報告書","報告書","水他2検査者勤務先","N399","N399"]
[420,"報告書","報告書","水他2検査者勤務先資格","K400","K400"]
[421,"報告書","報告書","水他2検査者勤務先資格登録","X400","X400"]
[422,"報告書","報告書","水他2検査者勤務先資格番号","AH400","AH400"]
[423,"報告書","報告書","水他2検査者郵便番号","N401","N401"]
[424,"報告書","報告書","水他2検査者所在地","N402","N402"]
[425,"報告書","報告書","水他2検査者電話番号","N403","N403"]
[426,"報告書","報告書","水飲料水給水タンク","O410","O410"]
[427,"報告書","報告書","水飲料水給水タンク基数","V410","V410"]
[428,"報告書","報告書","水飲料水給水タンク容量","Y410","Y410"]
[429,"報告書","報告書","水飲料水貯水タンク","AE410","AE410"]
[430,"報告書","報告書","水飲料水貯水タンク基数","AL410","AL410"]
[431,"報告書","報告書","水飲料水貯水タンク容量","AO410","AO410"]
[432,"報告書","報告書","水飲料水その他","O411","O411"]
[433,"報告書","報告書","水飲料水その他内容","T411","T411"]
[434,"報告書","報告書","水排水設備排水槽","O412","O412"]
[435,"報告書","報告書","水排水設備排水槽汚水槽","T412","T412"]
[436,"報告書","報告書","水排水設備排水槽雑排水槽","Y412","Y412"]
[437,"報告書","報告書","水排水設備排水槽合併槽","AE412","AE412"]
[438,"報告書","報告書","水排水設備排水槽雨水湧水槽","AJ412","AJ412"]
[439,"報告書","報告書","水排水設備排水槽排水再利用","O413","O413"]
[440,"報告書","報告書","水排水設備排水槽その他","AA413","AA413"]
[441,"報告書","報告書","水排水設備排水槽その他内容","AF413","AF413"]
[442,"報告書","報告書","水圧力タンクあり","O414","O414"]
[443,"報告書","報告書","水圧力タンクなし","S414","S414"]
[444,"報告書","報告書","水給湯方式局所式","L415","L415"]
[445,"報告書","報告書","水給湯方式中央式","R415","R415"]
[446,"報告書","報告書","水湯沸器開放式燃焼器","L416","L416"]
[447,"報告書","報告書","水湯沸器半密閉式燃焼器","U416","U416"]
[448,"報告書","報告書","水湯沸器密閉式燃焼器","AE416","AE416"]
[449,"報告書","報告書","水湯沸器その他","L417","L417"]
[450,"報告書","報告書","水湯沸器その他内容","Q417","Q417"]
[451,"報告書","報告書","水要是正あり","N424","N424"]
[452,"報告書","報告書","水既存不適格","X424","X424"]
[453,"報告書","報告書","水指摘なし","AG424","AG424"]
[454,"報告書","報告書","水指摘の概要1","N425","N425"]
[455,"報告書","報告書","水指摘の概要2","N426","N426"]
[456,"報告書","報告書","水指摘の概要3","N427","N427"]
[457,"報告書","報告書","水指摘の概要4","N428","N428"]
[458,"報告書","報告書","水指摘の概要5","N429","N429"]
[459,"報告書","報告書","水改善予定あり","N430","N430"]
[460,"報告書","報告書","水改善予定元号","R430",null,"右詰文字"]
[461,"報告書","報告書","水改善予定年","S430","S430"]
[462,"報告書","報告書","水改善予定月","V430","V430"]
[463,"報告書","報告書","水改善予定なし","AG430","AG430"]
[464,"報告書","報告書","水不具合あり","L437","L437"]
[465,"報告書","報告書","水不具合なし","O437","O437"]
[466,"報告書","報告書","水不具合記録あり","L438","L438"]
[467,"報告書","報告書","水不具合記録なし","O438","O438"]
[468,"報告書","報告書","水不具合改善実施済","L439","L439"]
[469,"報告書","報告書","水不具合改善予定あり","Q439","Q439"]
[470,"報告書","報告書","水不具合改善予定元号","X439",null,"右詰文字"]
[471,"報告書","報告書","水不具合改善予定年","Y439","Y439"]
[472,"報告書","報告書","水不具合改善予定月","AB439","AB439"]
[473,"報告書","報告書","水不具合改善予定なし","AL439","AL439"]
[474,"報告書","報告書","備考大臣項目あり","W451","W451"]
[475,"報告書","報告書","備考大臣項目あり換気","Z451","Z451"]
[476,"報告書","報告書","備考大臣項目あり排煙","AC451","AC451"]
[477,"報告書","報告書","備考大臣項目あり給排水","AF451","AF451"]
[478,"報告書","報告書","備考大臣項目なし","AL451","AL451"]
[479,"報告書","報告書","備考1","C452","C452"]
[480,"報告書","報告書","備考2","C453","C453"]
[481,"報告書","報告書","備考3","C454","C454"]
[482,"報告書","報告書","備考4","C455","C455"]
[483,"報告書","報告書","備考5","C456","C456"]
[484,"報告書","報告書","備考6","C457","C457"]
[485,"報告書","報告書","備考7","C458","C458"]
[486,"報告書","報告書","備考8","C459","C459"]
[487,"報告書","報告書","備考9","C460","C460"]
[488,"報告書","報告書","備考10","C461","C461"]
[489,"報告書","報告書","備考11","C462","C462"]
[490,"報告書","報告書","備考12","C463","C463"]
[491,"報告書","報告書","備考13","C464","C464"]
[492,"報告書","報告書","備考14","C465","C465"]
[493,"報告書","報告書","備考15","C466","C466"]
[494,"報告書","報告書","備考16","C467","C467"]
[495,"報告書","報告書","備考17","C468","C468"]
[496,"報告書","報告書","備考18","C469","C469"]
[497,"報告書","報告書","備考19","C470","C470"]